From mboxrd@z Thu Jan 1 00:00:00 1970 Return-Path: Received: from mails.dpdk.org (mails.dpdk.org [217.70.189.124]) by inbox.dpdk.org (Postfix) with ESMTP id 3473448A44 for ; Fri, 31 Oct 2025 14:54:50 +0100 (CET) Received: from mails.dpdk.org (localhost [127.0.0.1]) by mails.dpdk.org (Postfix) with ESMTP id D08A240150; Fri, 31 Oct 2025 14:54:49 +0100 (CET) Received: from mail-oo1-f99.google.com (mail-oo1-f99.google.com [209.85.161.99]) by mails.dpdk.org (Postfix) with ESMTP id 7990D40150 for ; Fri, 31 Oct 2025 14:54:48 +0100 (CET) Received: by mail-oo1-f99.google.com with SMTP id 006d021491bc7-653652a4256so1092999eaf.0 for ; Fri, 31 Oct 2025 06:54:48 -0700 (PDT) DKIM-Signature: v=1; a=rsa-sha256; c=relaxed/relaxed; d=iol.unh.edu; s=unh-iol; t=1761918887; x=1762523687; darn=dpdk.org; h=cc:to:from:subject:message-id:date:from:to:cc:subject:date :message-id:reply-to; bh=cHR4/d2GydbqQYNq6tMkH29APBPfro/UDd4kDimEckU=; b=OlV8t9hfU1NKefO8KaM/OjkfHkENOrmx6ZjkKb2yoD/XftFaVr2LhrJ/d+/hJ/axmd yaQbqrCtYm9HNxMTw+GCxF07+APHs03fC9Bxgx3ssqcD1KyANaCRuCspOQs4VDfmpUMF 2HsTmj5wUlskbm5KC/JVMENe6ryzhHU7R2N4s= X-Google-DKIM-Signature: v=1; a=rsa-sha256; c=relaxed/relaxed; d=1e100.net; s=20230601; t=1761918887; x=1762523687; h=cc:to:from:subject:message-id:date:x-gm-message-state:from:to:cc :subject:date:message-id:reply-to; bh=cHR4/d2GydbqQYNq6tMkH29APBPfro/UDd4kDimEckU=; b=MdBmvhTSx2KS/EGysePsNSjOtPAOAH2rXVB++T70PkT8Yu5je5JrbhjR5UjFeAIw3D Yn9SdUkV38VZY7RsGkMTBpOOdRApNe5KfP+AgHAuw2z1FQ9T9iFPdvl5vm0GRo2MqYrh 7JInfP+9Z4n3W2a1qIsr+NkTBsiaLa1RxAtZL5AU+uSuXSvVUPS6H+bLqIeDP4M7U2LT BrSOIDN58VtDnzA53GoghcZcIod2pLumYF5XWmaaovx2KhAkqLIkc6+w/tAR6fRpcfQX HprVvcWunZg4yJKs+ojlCpBn3sf1+hLrw/OVdTDX0/Jqg3JyWH7mk5VaxxWrawh9m6nj u5Iw== X-Gm-Message-State: AOJu0YzjFg7vcF4SRG66w5KTwbyWDl7GbnKspBS2o7wTiLSe6ufWszQC ik6INTI1KazEUy4NN9Hjy07boPzq9kA3PKVoonPf33ZThsfkBm2cJEtxnQOgiUfl+NkyLPV/mh6 m5xv03qptXLVAY4K2HDjW/uoC8O7sO6pbMfgEVTL2O9vpdUHqJqXK X-Gm-Gg: ASbGncseW3ZUPFtmLHvPZxkPSK1Z0ibtrocXWuj7E4OH8V3MLLGbpO6RaWZpY3RgmFu DigGsadriYryg54Zcq3S39haEE81viXcyVtysFIHHPe0WB3uMtx4v9HPHupZLxmxAdDUQAHL9L6 iwHg5bzBwRaRY1PiKK45EY27pfD4GjapS0EKGg2vz5zJsBPMmimpXvcRsLyDlTYitzvveeE1TOa bQ2+ny6d5MXpzpKdRClIc9NbWLKxwMqr8cbtR707oCyiLwdBj8XavR1MD0speqdmX44lQl6fBhx m3c+D4ElfHfWAG6lQggoWMn0kt+LrpuXZN9WV61Tk0rSEsAl9Xdf2fhpHL65GR/Whve5qRNKdfg efaGmaEjj X-Google-Smtp-Source: AGHT+IFon6RYGXrQ6JheoE0x+Uoqh8aQOC32aE7fMDzqeJ0sasVO+NtedldzA09TiJZlEoKn6W8mfOdXuPVO X-Received: by 2002:a05:6808:e8b:b0:441:8f74:fbb with SMTP id 5614622812f47-44f9606e216mr1476923b6e.56.1761918886999; Fri, 31 Oct 2025 06:54:46 -0700 (PDT) Received: from postal.iol.unh.edu (postal.iol.unh.edu. [2606:4100:3880:1234::84]) by smtp-relay.gmail.com with ESMTPS id 46e09a7af769-7c699bbee0fsm159305a34.2.2025.10.31.06.54.46 (version=TLS1_2 cipher=ECDHE-ECDSA-AES128-GCM-SHA256 bits=128/128); Fri, 31 Oct 2025 06:54:46 -0700 (PDT) X-Relaying-Domain: iol.unh.edu Date: Fri, 31 Oct 2025 06:54:46 -0700 (PDT) Message-ID: <6904bfa6.050a0220.f3047.85bbSMTPIN_ADDED_MISSING@mx.google.com> Received: from [172.21.0.2] (unknown [172.18.0.240]) by postal.iol.unh.edu (Postfix) with ESMTP id 75D836051830; Fri, 31 Oct 2025 09:54:46 -0400 (EDT) Subject: |SUCCESS| [GIT MASTER] b287e404643aeab5bb5db084c142789df187844e From: dpdklab@iol.unh.edu To: Test Report Cc: dpdk-test-reports@iol.unh.edu, Xueming Li , Christian Ehrhardt , Kevin Traynor , Luca Boccassi Content-Type: text/plain X-BeenThere: test-report@dpdk.org X-Mailman-Version: 2.1.29 Precedence: list List-Id: automatic DPDK test reports List-Unsubscribe: , List-Archive: List-Post: List-Help: List-Subscribe: , Errors-To: test-report-bounces@dpdk.org _Testing PASS_ Branch: tags/v24.11 b287e404643aeab5bb5db084c142789df187844e --> testing pass Upstream job id: Generic-Unit-Test-DPDK#387243 Test environment and result as below: +------------------------------+----------------+--------------+---------------------------+------------------------------+ | Environment | dpdk_unit_test | lpm_autotest | cryptodev_sw_zuc_autotest | cryptodev_sw_snow3g_autotest | +==============================+================+==============+===========================+==============================+ | CentOS Stream 9 | PASS | SKIPPED | SKIPPED | SKIPPED | +------------------------------+----------------+--------------+---------------------------+------------------------------+ | Debian GNU/Linux 12 | PASS | SKIPPED | SKIPPED | SKIPPED | +------------------------------+----------------+--------------+---------------------------+------------------------------+ | Fedora Linux 40 | PASS | SKIPPED | SKIPPED | SKIPPED | +------------------------------+----------------+--------------+---------------------------+------------------------------+ | CentOS Stream 10 | PASS | SKIPPED | SKIPPED | SKIPPED | +------------------------------+----------------+--------------+---------------------------+------------------------------+ | Fedora Linux 41 | PASS | SKIPPED | SKIPPED | SKIPPED | +------------------------------+----------------+--------------+---------------------------+------------------------------+ | Fedora Linux 42 | PASS | SKIPPED | SKIPPED | SKIPPED | +------------------------------+----------------+--------------+---------------------------+------------------------------+ | Ubuntu 22.04 | PASS | SKIPPED | SKIPPED | SKIPPED | +------------------------------+----------------+--------------+---------------------------+------------------------------+ | Red Hat Enterprise Linux 9.5 | PASS | SKIPPED | SKIPPED | SKIPPED | +------------------------------+----------------+--------------+---------------------------+------------------------------+ | Ubuntu 24.04 | PASS | SKIPPED | SKIPPED | SKIPPED | +------------------------------+----------------+--------------+---------------------------+------------------------------+ | Ubuntu 20.04 | PASS | PASS | SKIPPED | SKIPPED | +------------------------------+----------------+--------------+---------------------------+------------------------------+ | Debian 12 (arm) | SKIPPED | SKIPPED | PASS | PASS | +------------------------------+----------------+--------------+---------------------------+------------------------------+ CentOS Stream 9 Kernel: 5.4 Compiler: gcc gcc (GCC) 11.5.0 20240719 (Red Hat 11.5.0-11) Debian GNU/Linux 12 Kernel: 5.4 Compiler: gcc gcc (Debian 12.2.0-14+deb12u1) 12.2.0 Fedora Linux 40 Kernel: 5.4 Compiler: clang gcc (GCC) 14.2.1 20240912 (Red Hat 14.2.1-3) CentOS Stream 10 Kernel: 5.4 Compiler: gcc gcc (GCC) 14.2.1 20250110 (Red Hat 14.2.1-8) Fedora Linux 41 Kernel: 5.4 Compiler: gcc gcc (GCC) 14.3.1 20250523 (Red Hat 14.3.1-1) Fedora Linux 42 Kernel: 5.4 Compiler: gcc gcc (GCC) 15.2.1 20250808 (Red Hat 15.2.1-1) Ubuntu 22.04 Kernel: 5.15 Compiler: gcc gcc (Ubuntu 11.4.0-1ubuntu1~22.04.2) 11.4.0 Red Hat Enterprise Linux 9.5 Kernel: 5.4 Compiler: gcc gcc (GCC) 11.5.0 20240719 (Red Hat 11.5.0-2) Ubuntu 24.04 Kernel: 5.4 Compiler: gcc gcc (Ubuntu 13.3.0-6ubuntu2~24.04) 13.3.0 Ubuntu 20.04 Kernel: 5.4 Compiler: gcc gcc (Ubuntu 9.4.0-1ubuntu1~20.04.2) 9.4.0 Debian 12 (arm) Kernel: Depends on container host Compiler: gcc (Debian 12.2.0-14) 12.2.0 To view detailed results, visit: https://lab.dpdk.org/results/dashboard/tarballs/35408/ UNH-IOL DPDK Community Lab To manage your email subscriptions, visit: https://lab.dpdk.org/results/dashboard/preferences/subscriptions/