From mboxrd@z Thu Jan 1 00:00:00 1970 Return-Path: Received: from mails.dpdk.org (mails.dpdk.org [217.70.189.124]) by inbox.dpdk.org (Postfix) with ESMTP id 1321648A46 for ; Fri, 31 Oct 2025 16:11:45 +0100 (CET) Received: from mails.dpdk.org (localhost [127.0.0.1]) by mails.dpdk.org (Postfix) with ESMTP id 0BEFE40150; Fri, 31 Oct 2025 16:11:45 +0100 (CET) Received: from mail-io1-f97.google.com (mail-io1-f97.google.com [209.85.166.97]) by mails.dpdk.org (Postfix) with ESMTP id BE6E340150 for ; Fri, 31 Oct 2025 16:11:43 +0100 (CET) Received: by mail-io1-f97.google.com with SMTP id ca18e2360f4ac-945a33e0d55so100306239f.1 for ; Fri, 31 Oct 2025 08:11:43 -0700 (PDT) DKIM-Signature: v=1; a=rsa-sha256; c=relaxed/relaxed; d=iol.unh.edu; s=unh-iol; t=1761923503; x=1762528303; darn=dpdk.org; h=references:in-reply-to:cc:to:from:subject:message-id:date:from:to :cc:subject:date:message-id:reply-to; bh=k24CiFkuOSwg4/JnPXxHLIOP1ILJ5xJeIPUyde4Fbkk=; b=US4l2xigfC5KDqQjf/beLSV8jcbk7JUF1he+cL8VjznI0KF2C71Jgfli65/DuL1goZ f5woBj6JhZwSeXV0+vVFK4w8hC93PIbuOq5PNO3pP1RdAuEO6g9Vn0NZ7rfx3zFQz32V gOrP+NDXWPnPl1mCV2wBkn9AD6jrEspB+f6Ak= X-Google-DKIM-Signature: v=1; a=rsa-sha256; c=relaxed/relaxed; d=1e100.net; s=20230601; t=1761923503; x=1762528303; h=references:in-reply-to:cc:to:from:subject:message-id:date :x-gm-message-state:from:to:cc:subject:date:message-id:reply-to; bh=k24CiFkuOSwg4/JnPXxHLIOP1ILJ5xJeIPUyde4Fbkk=; b=FbgUGabi6O+2KesbCAWf3iVShFaJdLO4VEpcQYp5OXBwVis4X5X435Im2NjbS/74E2 nIt7YjNsR8uDogW3cVE4t9me8ma3sASu3mXzTBkoWHWDgZvznSxu0+vWsHOPiKhxsIHt R87lrRmEEUAYcmoZknHlT472OqwmpxEuQDrFRRTKcZerOn/PPls6x6NWjtX36HdzHuYO c8zTMdAalB5oXOc2VBebBzXGx9n/u3f7WRQLTsVsoWUKqguL3iRFmdifZ1bLtAJTCJqf lYEtA93gt59BxAfeONS5yC49tUxipXlV5duBNjwGkmO1SHBELeeK+VXm4fcGvJw2qohf wsRg== X-Gm-Message-State: AOJu0YziQsjNb6YucuABQNA75dRDYizeXWx9RzRF5+t16KLFzuxsahSM 1dKjwqaFqCIhiDkyujMdBOZEfh22ZFi4ZWXHrxBKQ5igrgWHSZ12ftPL09TIsQROW8s5u94/r51 dkZ5te9JVADs6nrVso6gWwQHCwByiStbeIIHrtnQTkl5v X-Gm-Gg: ASbGncvau2NDK9q1qgYuqmR9Xa1ePPcJEsbkPcGSuhRzSJ13k0PYcnyzCBJ+Wkt0x/5 +OSDBDVhHrwk1Ic7DVz7G2jUMH0VfHFlZe8uXOcB1iSgwMNhM552sURE4fd/m0UZXQv7yzztnHI UCpWU+dtP49pY4eXB6ukMCdf7VENtw+5l4o9ZFWc+x7Z7IPKv3FtKJbjOmbvJIQ6JSGiERYUT9F QU7znTVz9LIN4zoxSbF/p/h1BiN1RTzqkgAyS9L8Lj5XtiaJUPUWiycEJQ/GGKaNudXl67LKx8U 2rSxjasNtzzxMGisOe/AsevImqQRLxsxQ7Ona5E3E44uEqRKDlL2cYnP6/mYbRcZuRm1MNJdOgT KvkgZWANZggpZtSqpMzEStxjlI60xn8c= X-Google-Smtp-Source: AGHT+IGY3V44tmTw9TUwjADckt5RBO1eDOz+RIx2a1zfkQ56Rj9nvuROvfzXGVU4YnlbitS/ILQLlS9ipyA4 X-Received: by 2002:a05:6e02:1a4a:b0:42e:2c30:2835 with SMTP id e9e14a558f8ab-4330d0aec1emr63045045ab.0.1761923502700; Fri, 31 Oct 2025 08:11:42 -0700 (PDT) Received: from postal.iol.unh.edu (postal.iol.unh.edu. [132.177.123.84]) by smtp-relay.gmail.com with ESMTPS id e9e14a558f8ab-4331031bd3esm1740555ab.18.2025.10.31.08.11.42 (version=TLS1_2 cipher=ECDHE-ECDSA-AES128-GCM-SHA256 bits=128/128); Fri, 31 Oct 2025 08:11:42 -0700 (PDT) X-Relaying-Domain: iol.unh.edu Date: Fri, 31 Oct 2025 08:11:42 -0700 (PDT) Message-ID: <6904d1ae.050a0220.171fc3.923eSMTPIN_ADDED_MISSING@mx.google.com> Received: from [172.21.0.2] (unknown [172.18.0.240]) by postal.iol.unh.edu (Postfix) with ESMTP id 2994A604D420; Fri, 31 Oct 2025 11:11:42 -0400 (EDT) Subject: |SUCCESS| pw158313 [PATCH] [v3] app/testpmd: fix devargs format in p From: dpdklab@iol.unh.edu To: Test Report Cc: dpdk-test-reports@iol.unh.edu, Stephen Hemminger In-Reply-To: <20251031061816.333400-1-getelson@nvidia.com> References: <20251031061816.333400-1-getelson@nvidia.com> Content-Type: text/plain X-BeenThere: test-report@dpdk.org X-Mailman-Version: 2.1.29 Precedence: list List-Id: automatic DPDK test reports List-Unsubscribe: , List-Archive: List-Post: List-Help: List-Subscribe: , Errors-To: test-report-bounces@dpdk.org Test-Label: iol-unit-arm64-testing Test-Status: SUCCESS http://dpdk.org/patch/158313 _Testing PASS_ Submitter: Gregory Etelson Date: Friday, October 31 2025 06:18:16 DPDK git baseline: Repo:dpdk-next-net Branch: master CommitID:5d2900b5b1a9da68c19d53d3f8e1075bee0a5f47 158313 --> testing pass Upstream job id: Generic-Unit-Test-DPDK#387271 Test environment and result as below: +------------------------------+---------------------------+--------------+------------------------------+----------------+ | Environment | cryptodev_sw_zuc_autotest | lpm_autotest | cryptodev_sw_snow3g_autotest | dpdk_unit_test | +==============================+===========================+==============+==============================+================+ | Debian 12 (arm) | PASS | SKIPPED | PASS | SKIPPED | +------------------------------+---------------------------+--------------+------------------------------+----------------+ | Ubuntu 20.04 | SKIPPED | PASS | SKIPPED | PASS | +------------------------------+---------------------------+--------------+------------------------------+----------------+ | CentOS Stream 9 | SKIPPED | SKIPPED | SKIPPED | PASS | +------------------------------+---------------------------+--------------+------------------------------+----------------+ | CentOS Stream 10 | SKIPPED | SKIPPED | SKIPPED | PASS | +------------------------------+---------------------------+--------------+------------------------------+----------------+ | Ubuntu 22.04 | SKIPPED | SKIPPED | SKIPPED | PASS | +------------------------------+---------------------------+--------------+------------------------------+----------------+ | Fedora Linux 40 | SKIPPED | SKIPPED | SKIPPED | PASS | +------------------------------+---------------------------+--------------+------------------------------+----------------+ | Debian GNU/Linux 12 | SKIPPED | SKIPPED | SKIPPED | PASS | +------------------------------+---------------------------+--------------+------------------------------+----------------+ | Fedora Linux 41 | SKIPPED | SKIPPED | SKIPPED | PASS | +------------------------------+---------------------------+--------------+------------------------------+----------------+ | Red Hat Enterprise Linux 9.5 | SKIPPED | SKIPPED | SKIPPED | PASS | +------------------------------+---------------------------+--------------+------------------------------+----------------+ | Fedora Linux 42 | SKIPPED | SKIPPED | SKIPPED | PASS | +------------------------------+---------------------------+--------------+------------------------------+----------------+ | Ubuntu 24.04 | SKIPPED | SKIPPED | SKIPPED | PASS | +------------------------------+---------------------------+--------------+------------------------------+----------------+ Debian 12 (arm) Kernel: Depends on container host Compiler: gcc (Debian 12.2.0-14) 12.2.0 Ubuntu 20.04 Kernel: 5.4 Compiler: gcc gcc (Ubuntu 9.4.0-1ubuntu1~20.04.2) 9.4.0 CentOS Stream 9 Kernel: 5.4 Compiler: gcc gcc (GCC) 11.5.0 20240719 (Red Hat 11.5.0-11) CentOS Stream 10 Kernel: 5.4 Compiler: gcc gcc (GCC) 14.2.1 20250110 (Red Hat 14.2.1-8) Ubuntu 22.04 Kernel: 5.15 Compiler: gcc gcc (Ubuntu 11.4.0-1ubuntu1~22.04.2) 11.4.0 Fedora Linux 40 Kernel: 5.4 Compiler: clang gcc (GCC) 14.2.1 20240912 (Red Hat 14.2.1-3) Debian GNU/Linux 12 Kernel: 5.4 Compiler: gcc gcc (Debian 12.2.0-14+deb12u1) 12.2.0 Fedora Linux 41 Kernel: 5.4 Compiler: clang gcc (GCC) 14.3.1 20250523 (Red Hat 14.3.1-1) Red Hat Enterprise Linux 9.5 Kernel: 5.4 Compiler: gcc gcc (GCC) 11.5.0 20240719 (Red Hat 11.5.0-2) Fedora Linux 42 Kernel: 5.4 Compiler: gcc gcc (GCC) 15.2.1 20250808 (Red Hat 15.2.1-1) Ubuntu 24.04 Kernel: 5.4 Compiler: gcc gcc (Ubuntu 13.3.0-6ubuntu2~24.04) 13.3.0 To view detailed results, visit: https://lab.dpdk.org/results/dashboard/patchsets/34429/ UNH-IOL DPDK Community Lab To manage your email subscriptions, visit: https://lab.dpdk.org/results/dashboard/preferences/subscriptions/