From mboxrd@z Thu Jan 1 00:00:00 1970 Return-Path: Received: from mails.dpdk.org (mails.dpdk.org [217.70.189.124]) by inbox.dpdk.org (Postfix) with ESMTP id C2DC448A46 for ; Fri, 31 Oct 2025 16:53:58 +0100 (CET) Received: from mails.dpdk.org (localhost [127.0.0.1]) by mails.dpdk.org (Postfix) with ESMTP id 9F1794028E; Fri, 31 Oct 2025 16:53:58 +0100 (CET) Received: from mail-oa1-f98.google.com (mail-oa1-f98.google.com [209.85.160.98]) by mails.dpdk.org (Postfix) with ESMTP id 6CFDB4028E for ; Fri, 31 Oct 2025 16:53:57 +0100 (CET) Received: by mail-oa1-f98.google.com with SMTP id 586e51a60fabf-3d1bc63d5f0so1356288fac.0 for ; Fri, 31 Oct 2025 08:53:57 -0700 (PDT) DKIM-Signature: v=1; a=rsa-sha256; c=relaxed/relaxed; d=iol.unh.edu; s=unh-iol; t=1761926036; x=1762530836; darn=dpdk.org; h=references:in-reply-to:cc:to:from:subject:message-id:date:from:to :cc:subject:date:message-id:reply-to; bh=SfpJLISNetirm/2GkYgHm6gpOJqSPwlET2v7wgD7ZHk=; b=DR3kKAUtTkAZfbgpYVrXXq3sxAkujbGAxSM1g2V3KxJlM5go0y4UvDmS/GdP1VBuHH JdKbymUZq1PlU80v71iSeij0nwBRX98jmcWkOq/GoxAbi7CZK8VUQ/TeC2zKCwFEiQeJ sElbk1FZ1y5Lg3y0fW/DLkPYVMFX16/g8wwWQ= X-Google-DKIM-Signature: v=1; a=rsa-sha256; c=relaxed/relaxed; d=1e100.net; s=20230601; t=1761926036; x=1762530836; h=references:in-reply-to:cc:to:from:subject:message-id:date :x-gm-message-state:from:to:cc:subject:date:message-id:reply-to; bh=SfpJLISNetirm/2GkYgHm6gpOJqSPwlET2v7wgD7ZHk=; b=A0xrv+qGI+OqRbovOdFG0aV+3BvFizTsD8xsWgaqzUAgi1ZQ159OdGC+zOpzqxuGlo eIzPTQb1sw2z+MVJ1/GaO6BaTvxu2hu/QNuPcbpDtVhUnCRsTdonje+d9Qgm3kX31PjP oF76dnJWIVyN+x0DdP8RUNCCoSBmcpJcnrJWKfkGW/f/3BoQVBZ/Mp0z2F4SNnDWq34j 5o8Co8XPwTjGtP/4nZ7RYF1CEC1trpfiuPw5wl89boAqGZ0GEwAcKknGyr79Swq5tdV8 u4necAG3vsBwWCh5luRnPsuO89kU8mq0v2fHupE5f9q8NRrCcg61WgaO+ts0MCzIGUm9 7lYg== X-Gm-Message-State: AOJu0YwQNzocVPD4Xc9U/rkIwkk/NEAaWsCytl+6h28PZZ8b/F33xZtc 0fMqqqCjgg5AZMsSwEIMMFB/kqaHdlcRH7sR8Yx9fGvl3wA8m3Fwu0odrk5EfcMF9vCoqpjTe8j yv/UbQw3mBi63bZtut0tbyczwQRbYvwn9lvM4qxcZTdxw X-Gm-Gg: ASbGncvfksdm9kPshRhkg+u0RO9a9lmDbQJkpAbYGHOAZc6V+1+bWw9IrM8SV8yTIjN 3IkhFBognGzTOOf/wwwYszznjK82gFS4/AV+xsUiLgka6ed085slobQGVE2vU8C0OoLRpj7EVHt RkTCDbHbsbNCW7AiyvZhe/fHbZjRNY6ZtMyUkmQgZ0cQRd2246Ipt6gdglQ1TNRlbyLKaWbQyxB +L6KE49pMsJyBPZM7Abf2u/BSRiiS7s+lgQ3ELfaJ4r9oc4XbvKhxh30umL/3hnZcj68+rY/1Mv 5MwF9okFhB77PCgn/NuIuY4sMIIxG+enNnK0+839G/USLz7Yu8Xhq9NVbYrNuilhfgFLsbFr1wl mSF3dD3OrLWsSahHd+DgaGY41nUDFN5g= X-Google-Smtp-Source: AGHT+IEa/ByJVBFjJc2WVeuskyiTfmcfZZxzIAfUWk5xou8DRENtzeg85M8CO83oTSpuLRc1YUDY2MPoEBdF X-Received: by 2002:a05:6871:8012:b0:3d3:ba60:ee19 with SMTP id 586e51a60fabf-3dacc9e2d35mr1660695fac.42.1761926036529; Fri, 31 Oct 2025 08:53:56 -0700 (PDT) Received: from postal.iol.unh.edu (postal.iol.unh.edu. [132.177.123.84]) by smtp-relay.gmail.com with ESMTPS id 586e51a60fabf-3db3f59656fsm196801fac.7.2025.10.31.08.53.56 (version=TLS1_2 cipher=ECDHE-ECDSA-AES128-GCM-SHA256 bits=128/128); Fri, 31 Oct 2025 08:53:56 -0700 (PDT) X-Relaying-Domain: iol.unh.edu Date: Fri, 31 Oct 2025 08:53:56 -0700 (PDT) Message-ID: <6904db94.050a0220.2c409e.a490SMTPIN_ADDED_MISSING@mx.google.com> Received: from [172.21.0.4] (unknown [172.18.0.240]) by postal.iol.unh.edu (Postfix) with ESMTP id 118B7604D420; Fri, 31 Oct 2025 11:53:56 -0400 (EDT) Subject: |WARNING| pw158317 [PATCH] [1/1] move SPDX tag on the first line From: dpdklab@iol.unh.edu To: Test Report Cc: dpdk-test-reports@iol.unh.edu In-Reply-To: <20251031142018.49319-1-thomas@monjalon.net> References: <20251031142018.49319-1-thomas@monjalon.net> Content-Type: text/plain X-BeenThere: test-report@dpdk.org X-Mailman-Version: 2.1.29 Precedence: list List-Id: automatic DPDK test reports List-Unsubscribe: , List-Archive: List-Post: List-Help: List-Subscribe: , Errors-To: test-report-bounces@dpdk.org Test-Label: iol-compile-amd64-testing Test-Status: WARNING http://dpdk.org/patch/158317 _Testing issues_ Submitter: Thomas Monjalon Date: Friday, October 31 2025 14:20:14 DPDK git baseline: Repo:dpdk Branch: master CommitID:8c4861d00aabcf54ef9d6f1df2a4cfb37c06f6c2 158317 --> testing issues Upstream job id: Generic-DPDK-Compile-Meson#439608 Test environment and result as below: +-------------------------------+--------------------+-------------------+------------------+-------------------------+-------------------+----------------------+ | Environment | dpdk_meson_compile | dpdk_compile_spdk | dpdk_compile_ovs | dpdk_llvm_clang_compile | dpdk_msvc_compile | dpdk_mingw64_compile | +===============================+====================+===================+==================+=========================+===================+======================+ | FreeBSD 14.2 | PASS | SKIPPED | SKIPPED | SKIPPED | SKIPPED | SKIPPED | +-------------------------------+--------------------+-------------------+------------------+-------------------------+-------------------+----------------------+ | CentOS Stream 10 | PASS | SKIPPED | SKIPPED | SKIPPED | SKIPPED | SKIPPED | +-------------------------------+--------------------+-------------------+------------------+-------------------------+-------------------+----------------------+ | CentOS Stream 9 | PASS | WARN | SKIPPED | SKIPPED | SKIPPED | SKIPPED | +-------------------------------+--------------------+-------------------+------------------+-------------------------+-------------------+----------------------+ | Debian GNU/Linux 12 | PASS | WARN | SKIPPED | SKIPPED | SKIPPED | SKIPPED | +-------------------------------+--------------------+-------------------+------------------+-------------------------+-------------------+----------------------+ | Fedora Linux 42 | PASS | WARN | PASS | SKIPPED | SKIPPED | SKIPPED | +-------------------------------+--------------------+-------------------+------------------+-------------------------+-------------------+----------------------+ | Red Hat Enterprise Linux 8.10 | PASS | SKIPPED | SKIPPED | SKIPPED | SKIPPED | SKIPPED | +-------------------------------+--------------------+-------------------+------------------+-------------------------+-------------------+----------------------+ | Red Hat Enterprise Linux 9.5 | PASS | SKIPPED | SKIPPED | SKIPPED | SKIPPED | SKIPPED | +-------------------------------+--------------------+-------------------+------------------+-------------------------+-------------------+----------------------+ | Ubuntu 24.04 | PASS | WARN | PASS | SKIPPED | SKIPPED | SKIPPED | +-------------------------------+--------------------+-------------------+------------------+-------------------------+-------------------+----------------------+ | Alpine Linux 3.22.0 | PASS | SKIPPED | SKIPPED | SKIPPED | SKIPPED | SKIPPED | +-------------------------------+--------------------+-------------------+------------------+-------------------------+-------------------+----------------------+ | Ubuntu 22.04 | PASS | WARN | SKIPPED | SKIPPED | SKIPPED | SKIPPED | +-------------------------------+--------------------+-------------------+------------------+-------------------------+-------------------+----------------------+ | Ubuntu 20.04 | PASS | SKIPPED | SKIPPED | SKIPPED | SKIPPED | SKIPPED | +-------------------------------+--------------------+-------------------+------------------+-------------------------+-------------------+----------------------+ | openSUSE Leap 15.6 | PASS | SKIPPED | SKIPPED | SKIPPED | SKIPPED | SKIPPED | +-------------------------------+--------------------+-------------------+------------------+-------------------------+-------------------+----------------------+ | Windows Server 2022 | SKIPPED | SKIPPED | SKIPPED | PASS | PASS | PASS | +-------------------------------+--------------------+-------------------+------------------+-------------------------+-------------------+----------------------+ ==== 20 line log output for Ubuntu 22.04 (dpdk_compile_spdk): ==== --- Failed to get log output --- ==== End log output ==== FreeBSD 14.2 Kernel: 14.2-RELEASE Compiler: clang 18.1.6 CentOS Stream 10 Kernel: 5.15 Compiler: gcc gcc (GCC) 14.2.1 20250110 (Red Hat 14.2.1-8) CentOS Stream 9 Kernel: 5.15 Compiler: gcc gcc (GCC) 11.5.0 20240719 (Red Hat 11.5.0-11) Debian GNU/Linux 12 Kernel: 5.15 Compiler: gcc gcc (Debian 12.2.0-14+deb12u1) 12.2.0 Fedora Linux 42 Kernel: 5.15 Compiler: clang gcc (GCC) 15.2.1 20250808 (Red Hat 15.2.1-1) Red Hat Enterprise Linux 8.10 Kernel: 5.15 Compiler: gcc gcc (GCC) 8.5.0 20210514 (Red Hat 8.5.0-22) Red Hat Enterprise Linux 9.5 Kernel: 5.15 Compiler: gcc gcc (GCC) 11.5.0 20240719 (Red Hat 11.5.0-2) Ubuntu 24.04 Kernel: 5.15 Compiler: gcc gcc (Ubuntu 13.3.0-6ubuntu2~24.04) 13.3.0 Alpine Linux 3.22.0 Kernel: 5.15 Compiler: gcc gcc (Alpine 14.2.0) 14.2.0 Ubuntu 22.04 Kernel: 5.15 Compiler: gcc gcc (Ubuntu 11.4.0-1ubuntu1~22.04) 11.4.0 Ubuntu 20.04 Kernel: 4.19 Compiler: gcc gcc (Ubuntu 9.4.0-1ubuntu1~20.04.2) 9.4.0 openSUSE Leap 15.6 Kernel: 5.15 Compiler: gcc gcc (SUSE Linux) 7.5.0 Windows Server 2022 Kernel: 10.0.20348.2031 Compiler: clang 15.0.7, gcc 14.1.0 (MinGW), and MSVC VS 19.39.33521 To view detailed results, visit: https://lab.dpdk.org/results/dashboard/patchsets/34433/ UNH-IOL DPDK Community Lab To manage your email subscriptions, visit: https://lab.dpdk.org/results/dashboard/preferences/subscriptions/