From mboxrd@z Thu Jan 1 00:00:00 1970 Return-Path: Received: from mails.dpdk.org (mails.dpdk.org [217.70.189.124]) by inbox.dpdk.org (Postfix) with ESMTP id 0BE5948A46 for ; Fri, 31 Oct 2025 16:57:39 +0100 (CET) Received: from mails.dpdk.org (localhost [127.0.0.1]) by mails.dpdk.org (Postfix) with ESMTP id 066AE4028E; Fri, 31 Oct 2025 16:57:39 +0100 (CET) Received: from mail-qv1-f99.google.com (mail-qv1-f99.google.com [209.85.219.99]) by mails.dpdk.org (Postfix) with ESMTP id 083B94028E for ; Fri, 31 Oct 2025 16:57:37 +0100 (CET) Received: by mail-qv1-f99.google.com with SMTP id 6a1803df08f44-88021e1abc4so18722396d6.2 for ; Fri, 31 Oct 2025 08:57:36 -0700 (PDT) DKIM-Signature: v=1; a=rsa-sha256; c=relaxed/relaxed; d=iol.unh.edu; s=unh-iol; t=1761926256; x=1762531056; darn=dpdk.org; h=references:in-reply-to:cc:to:from:subject:message-id:date:from:to :cc:subject:date:message-id:reply-to; bh=z9IoKTJceZaBFF19l/5w/5I74cyu7uowneFzkNr7ZM8=; b=Ng/hDojJX0ez9sC830htVXxMDeGyZGGs74lMbueElAw8Sfq18feMp4s0oL+/WaRGQG lPr26LPXVhv7On1g24uvXCUuem4o2tmZ7TNz4vRJS6WksXUZ3FGiWNkEV1LNiVzw6x7m 6fyzz+4VUO05zXGGWxgKZ79avdnp005YnM7lA= X-Google-DKIM-Signature: v=1; a=rsa-sha256; c=relaxed/relaxed; d=1e100.net; s=20230601; t=1761926256; x=1762531056; h=references:in-reply-to:cc:to:from:subject:message-id:date :x-gm-message-state:from:to:cc:subject:date:message-id:reply-to; bh=z9IoKTJceZaBFF19l/5w/5I74cyu7uowneFzkNr7ZM8=; b=q4BmxBAj+hf+3JBaGsBbLqFK3ijZHzjCD0jcP62oXtylrvvTx5h2FqxY8NRDVSVK5d wNJFfaP8DB6IRIjSBw+jUMSo5XYUv99QTzz4WIHYsiGU2veCqraceJpIbts6v9qZqQ2J 3U7z0h3ESmSLsEJ1KUkmgLwmXFNXftnZg784XN1FlHr/7KYSbLjVydJSzzh0m9oQuITq wQRJj4/ZA6ZC8kdJ3+wQyLEsC1JL+s14/O1YIGNz8thxpMtFJ1adMOQ4tR3CnN0Ba8E1 fEnTsXoSscszOwAN+5SfojEHXgymuRT4wZatVjCJZC8A53ZfJ9pFyfZLq7zBVpo5jHZY gkag== X-Gm-Message-State: AOJu0YybyJOcr+ZRoTsIZHZdLxFaUEdhrb7WyiIrQ5SA+/LNwz8IX+ce DEhCqgwTZll8I1QIWEeMci//+vo0lgWnxFy2rbQjG3SBCu15MXjFLW6n+n7cKKqZbp7WqiKsNub qEonWWVDOv2PWWsG+QCY7JjDog9NWXCC9W873zBxRCcml X-Gm-Gg: ASbGncueyASPMdVvWVy8YIX3VurjQnyFtk/5/ZouAqadUcREEVGAuOKKkwt8K7kRn6z w8+5X5h0RWP3GFxs1zbo0taBOB1PcB2FUMmUCvep4sSvNLuPNI70HFbtqOwrhQn9T7PCk4UHZcW xF6Xtg7LBQYAy0UkPGO3HEgAHwBnpzu0QKKM1dxEl1C8Vq/diEXDzPo6zkJmJei8EXmS7PJU/Ip IboA9EYRgNFufgzDWJHqx79gmy79ulFKSyq8zBLldLmnSYHByGEGtaGOp3w4xmdi9By0fX29IfS w7IYCzmptVqZ4BEsghSACHLpqF2sAqL5Aay4xngbBP3wiWcz6xxDt/BoY6xQ7G0EfDH0JZmzncL duo0L+2IIlMpWGhHSEUg+wIosl6tlPDo= X-Google-Smtp-Source: AGHT+IHoL7qvNyoHrTaMHO7tk87QNa2wiG8KH+WpxJ6qt/266pIGoBci4W36GtizPijSkeYihvCaF0ZwFK5X X-Received: by 2002:a05:6214:27ec:b0:81b:bf92:8df9 with SMTP id 6a1803df08f44-8802f441de4mr42219126d6.43.1761926256283; Fri, 31 Oct 2025 08:57:36 -0700 (PDT) Received: from postal.iol.unh.edu (postal.iol.unh.edu. [132.177.123.84]) by smtp-relay.gmail.com with ESMTPS id 6a1803df08f44-880362c7769sm2030156d6.20.2025.10.31.08.57.36 (version=TLS1_2 cipher=ECDHE-ECDSA-AES128-GCM-SHA256 bits=128/128); Fri, 31 Oct 2025 08:57:36 -0700 (PDT) X-Relaying-Domain: iol.unh.edu Date: Fri, 31 Oct 2025 08:57:36 -0700 (PDT) Message-ID: <6904dc70.050a0220.29b94c.aa40SMTPIN_ADDED_MISSING@mx.google.com> Received: from [172.21.0.2] (unknown [172.18.0.240]) by postal.iol.unh.edu (Postfix) with ESMTP id 0C73A604D420; Fri, 31 Oct 2025 11:57:36 -0400 (EDT) Subject: |SUCCESS| pw158317 [PATCH] [1/1] move SPDX tag on the first line From: dpdklab@iol.unh.edu To: Test Report Cc: dpdk-test-reports@iol.unh.edu In-Reply-To: <20251031142018.49319-1-thomas@monjalon.net> References: <20251031142018.49319-1-thomas@monjalon.net> Content-Type: text/plain X-BeenThere: test-report@dpdk.org X-Mailman-Version: 2.1.29 Precedence: list List-Id: automatic DPDK test reports List-Unsubscribe: , List-Archive: List-Post: List-Help: List-Subscribe: , Errors-To: test-report-bounces@dpdk.org Test-Label: iol-unit-amd64-testing Test-Status: SUCCESS http://dpdk.org/patch/158317 _Testing PASS_ Submitter: Thomas Monjalon Date: Friday, October 31 2025 14:20:14 DPDK git baseline: Repo:dpdk Branch: master CommitID:8c4861d00aabcf54ef9d6f1df2a4cfb37c06f6c2 158317 --> testing pass Upstream job id: Generic-Unit-Test-DPDK#387311 Test environment and result as below: +-------------------------------+----------------+ | Environment | dpdk_unit_test | +===============================+================+ | Ubuntu 24.04 | PASS | +-------------------------------+----------------+ | Fedora Linux 42 | PASS | +-------------------------------+----------------+ | Debian GNU/Linux 12 | PASS | +-------------------------------+----------------+ | Ubuntu 22.04 | PASS | +-------------------------------+----------------+ | Fedora Linux 41 | PASS | +-------------------------------+----------------+ | Red Hat Enterprise Linux 8.10 | PASS | +-------------------------------+----------------+ | Red Hat Enterprise Linux 9.5 | PASS | +-------------------------------+----------------+ | Fedora Linux 40 | PASS | +-------------------------------+----------------+ | CentOS Stream 10 | PASS | +-------------------------------+----------------+ | Ubuntu 20.04 | PASS | +-------------------------------+----------------+ | CentOS Stream 9 | PASS | +-------------------------------+----------------+ | Windows Server 2022 | PASS | +-------------------------------+----------------+ Ubuntu 24.04 Kernel: 5.15 Compiler: gcc gcc (Ubuntu 13.3.0-6ubuntu2~24.04) 13.3.0 Fedora Linux 42 Kernel: 5.15 Compiler: clang gcc (GCC) 15.2.1 20250808 (Red Hat 15.2.1-1) Debian GNU/Linux 12 Kernel: 5.15 Compiler: gcc gcc (Debian 12.2.0-14+deb12u1) 12.2.0 Ubuntu 22.04 Kernel: 5.15 Compiler: gcc gcc (Ubuntu 11.4.0-1ubuntu1~22.04) 11.4.0 Fedora Linux 41 Kernel: 5.15 Compiler: clang gcc (GCC) 14.3.1 20250523 (Red Hat 14.3.1-1) Red Hat Enterprise Linux 8.10 Kernel: 5.15 Compiler: gcc gcc (GCC) 8.5.0 20210514 (Red Hat 8.5.0-22) Red Hat Enterprise Linux 9.5 Kernel: 5.15 Compiler: gcc gcc (GCC) 11.5.0 20240719 (Red Hat 11.5.0-2) Fedora Linux 40 Kernel: 5.15 Compiler: gcc gcc (GCC) 14.2.1 20240912 (Red Hat 14.2.1-3) CentOS Stream 10 Kernel: 5.15 Compiler: gcc gcc (GCC) 14.2.1 20250110 (Red Hat 14.2.1-8) Ubuntu 20.04 Kernel: 5.15 Compiler: gcc gcc (Ubuntu 9.4.0-1ubuntu1~20.04.2) 9.4.0 CentOS Stream 9 Kernel: 5.15 Compiler: gcc gcc (GCC) 11.5.0 20240719 (Red Hat 11.5.0-11) Windows Server 2022 Kernel: 10.0.20348.2031 Compiler: clang 15.0.7, gcc 14.1.0 (MinGW), and MSVC VS 19.39.33521 To view detailed results, visit: https://lab.dpdk.org/results/dashboard/patchsets/34433/ UNH-IOL DPDK Community Lab To manage your email subscriptions, visit: https://lab.dpdk.org/results/dashboard/preferences/subscriptions/