From mboxrd@z Thu Jan 1 00:00:00 1970 Return-Path: Received: from mails.dpdk.org (mails.dpdk.org [217.70.189.124]) by inbox.dpdk.org (Postfix) with ESMTP id 752DC48A46 for ; Fri, 31 Oct 2025 17:02:06 +0100 (CET) Received: from mails.dpdk.org (localhost [127.0.0.1]) by mails.dpdk.org (Postfix) with ESMTP id 7150C40150; Fri, 31 Oct 2025 17:02:06 +0100 (CET) Received: from mail-oa1-f99.google.com (mail-oa1-f99.google.com [209.85.160.99]) by mails.dpdk.org (Postfix) with ESMTP id D363640150 for ; Fri, 31 Oct 2025 17:02:04 +0100 (CET) Received: by mail-oa1-f99.google.com with SMTP id 586e51a60fabf-3c94deb7c7cso1483797fac.2 for ; Fri, 31 Oct 2025 09:02:04 -0700 (PDT) DKIM-Signature: v=1; a=rsa-sha256; c=relaxed/relaxed; d=iol.unh.edu; s=unh-iol; t=1761926524; x=1762531324; darn=dpdk.org; h=references:in-reply-to:cc:to:from:subject:message-id:date:from:to :cc:subject:date:message-id:reply-to; bh=HMaHM5GzG/7UxElb8F1xxGZmQzjw/NGc27Z7+9wOSaU=; b=M8xP8WtZu5mH5FPzXNcwX89+PyqmoImcvrT3Gk+UzOpkt8KAEKEP/r3VNXbrsFgfAQ 9+GHUsW19PiSvqjjtbGj0g8pKAZiSKnrugHQDZCB7yumxZYsG3cpHoZVt+/hIvXbiQPK Mf/yt1ddeW/9QgC8pe8d9gQcy6GpUSIRKgJkg= X-Google-DKIM-Signature: v=1; a=rsa-sha256; c=relaxed/relaxed; d=1e100.net; s=20230601; t=1761926524; x=1762531324; h=references:in-reply-to:cc:to:from:subject:message-id:date :x-gm-message-state:from:to:cc:subject:date:message-id:reply-to; bh=HMaHM5GzG/7UxElb8F1xxGZmQzjw/NGc27Z7+9wOSaU=; b=QLQ01dxMtDB0vqreM9TIYbmC8190UCAelojruay2u5MR4XpJtRjQwFiP2SQKYEk+sH NjIc3KDI56egv/8HPnQzSydl4sXJj334kgvOzbdS/fcO2vuXW8SGtSPxcsz+/W/YdhTZ k6Kb4Pobkd/VaSTnpPwDdRrYVX6KF7QpfFZEZiMGNccoWms6Djj5q6Dhmwwd6BiP0Ow5 0epMr9aF99DxCN03kUMuCdcKvJ7YMySxYZiJ04MiZ1WSbyFrhirXz5dm6iTg5LdJrvNu aQs/tmj3tOX711QwTz+yRyviflnUSrGHFHnMwoi88rbemFvXDw3C8tQLynTDZhsr3Xxt bWFA== X-Gm-Message-State: AOJu0YzjgbrLrunXorWrJ0Cai24pv1OARy6Vz/6ylv0cCciZ2vk5S0iL mVjSPxquo8PunV2FtRew1wcD7GhX0ZBYywwJjP/7HhGQpymugDnDY5dxPPOuH06+HXf/hP2Ar1D HHa7MxnPN7nPLhZG5Px0hJVpkDamQFl67mpS+lcwWg3pQJMfw9RPL6tHHUT0t X-Gm-Gg: ASbGnctiFDW2fOU0yjgBIyWF86DIdM/Rq9k4DJ3Bnbol+mXeUbWhGoOweQqKrw7zt7u jjRixy1PwrvXfL1YYHPZhYLuH95udETOO1XULRRPeVTXBm4GnOC1p5VnrbggGW7IERxxEGeCT+/ WwI/M0ik3056ITFXi/1eax/+4dl69WhCGgZC9K6OoCSvv0I0X2uSzoAvkAZYWTj8tdaF6nqbwDC YkNrSRDUZoU234KWJ/VKHpFQDqBlnLrQlLJfrufE5yUiFq25ozzTS2RLglywRNpIAiyflPzf+T+ eXXhLw8TOgD4Z/IPVtDdjlZdCJX8BDyoMQc86hna3i50EkR2QBRHCYs49OalxuRHUdqZdA5m71y h4Huc+qH0 X-Google-Smtp-Source: AGHT+IEh3aZ/xi1sVqmOiDYKJeEQHs1F+aZMF0oW9QbkagMuuI7XaIpcNc2gln0zHRvSY58/x2hmrU2O/oLj X-Received: by 2002:a05:6870:93cf:b0:3d2:a6f6:dfdc with SMTP id 586e51a60fabf-3daccdefbc2mr1783399fac.47.1761926522527; Fri, 31 Oct 2025 09:02:02 -0700 (PDT) Received: from postal.iol.unh.edu (postal.iol.unh.edu. [2606:4100:3880:1234::84]) by smtp-relay.gmail.com with ESMTPS id 586e51a60fabf-3db41e9b999sm185721fac.16.2025.10.31.09.02.02 (version=TLS1_2 cipher=ECDHE-ECDSA-AES128-GCM-SHA256 bits=128/128); Fri, 31 Oct 2025 09:02:02 -0700 (PDT) X-Relaying-Domain: iol.unh.edu Date: Fri, 31 Oct 2025 09:02:02 -0700 (PDT) Message-ID: <6904dd7a.050a0220.30f68a.9e18SMTPIN_ADDED_MISSING@mx.google.com> Received: from [172.21.0.2] (unknown [172.18.0.240]) by postal.iol.unh.edu (Postfix) with ESMTP id 106BE604D420; Fri, 31 Oct 2025 12:02:02 -0400 (EDT) Subject: |SUCCESS| pw158314 [PATCH] [1/1] test/memcpy: reduce duration From: dpdklab@iol.unh.edu To: Test Report Cc: dpdk-test-reports@iol.unh.edu In-Reply-To: <20251031114310.4062899-1-thomas@monjalon.net> References: <20251031114310.4062899-1-thomas@monjalon.net> Content-Type: text/plain X-BeenThere: test-report@dpdk.org X-Mailman-Version: 2.1.29 Precedence: list List-Id: automatic DPDK test reports List-Unsubscribe: , List-Archive: List-Post: List-Help: List-Subscribe: , Errors-To: test-report-bounces@dpdk.org Test-Label: iol-unit-arm64-testing Test-Status: SUCCESS http://dpdk.org/patch/158314 _Testing PASS_ Submitter: Thomas Monjalon Date: Friday, October 31 2025 11:43:09 DPDK git baseline: Repo:dpdk Branch: master CommitID:8c4861d00aabcf54ef9d6f1df2a4cfb37c06f6c2 158314 --> testing pass Upstream job id: Generic-Unit-Test-DPDK#387290 Test environment and result as below: +------------------------------+----------------+--------------+---------------------------+------------------------------+ | Environment | dpdk_unit_test | lpm_autotest | cryptodev_sw_zuc_autotest | cryptodev_sw_snow3g_autotest | +==============================+================+==============+===========================+==============================+ | Fedora Linux 42 | PASS | SKIPPED | SKIPPED | SKIPPED | +------------------------------+----------------+--------------+---------------------------+------------------------------+ | Ubuntu 20.04 | PASS | PASS | SKIPPED | SKIPPED | +------------------------------+----------------+--------------+---------------------------+------------------------------+ | Ubuntu 22.04 | PASS | SKIPPED | SKIPPED | SKIPPED | +------------------------------+----------------+--------------+---------------------------+------------------------------+ | Debian GNU/Linux 12 | PASS | SKIPPED | SKIPPED | SKIPPED | +------------------------------+----------------+--------------+---------------------------+------------------------------+ | Fedora Linux 41 | PASS | SKIPPED | SKIPPED | SKIPPED | +------------------------------+----------------+--------------+---------------------------+------------------------------+ | Fedora Linux 40 | PASS | SKIPPED | SKIPPED | SKIPPED | +------------------------------+----------------+--------------+---------------------------+------------------------------+ | CentOS Stream 9 | PASS | SKIPPED | SKIPPED | SKIPPED | +------------------------------+----------------+--------------+---------------------------+------------------------------+ | Ubuntu 24.04 | PASS | SKIPPED | SKIPPED | SKIPPED | +------------------------------+----------------+--------------+---------------------------+------------------------------+ | Red Hat Enterprise Linux 9.5 | PASS | SKIPPED | SKIPPED | SKIPPED | +------------------------------+----------------+--------------+---------------------------+------------------------------+ | CentOS Stream 10 | PASS | SKIPPED | SKIPPED | SKIPPED | +------------------------------+----------------+--------------+---------------------------+------------------------------+ | Debian 12 (arm) | SKIPPED | SKIPPED | PASS | PASS | +------------------------------+----------------+--------------+---------------------------+------------------------------+ Fedora Linux 42 Kernel: 5.4 Compiler: clang gcc (GCC) 15.2.1 20250808 (Red Hat 15.2.1-1) Ubuntu 20.04 Kernel: 5.4 Compiler: gcc gcc (Ubuntu 9.4.0-1ubuntu1~20.04.2) 9.4.0 Ubuntu 22.04 Kernel: 5.4 Compiler: gcc gcc (Ubuntu 11.4.0-1ubuntu1~22.04) 11.4.0 Debian GNU/Linux 12 Kernel: 5.4 Compiler: gcc gcc (Debian 12.2.0-14+deb12u1) 12.2.0 Fedora Linux 41 Kernel: 5.4 Compiler: gcc gcc (GCC) 14.3.1 20250523 (Red Hat 14.3.1-1) Fedora Linux 40 Kernel: 5.4 Compiler: clang gcc (GCC) 14.2.1 20240912 (Red Hat 14.2.1-3) CentOS Stream 9 Kernel: 5.4 Compiler: gcc gcc (GCC) 11.5.0 20240719 (Red Hat 11.5.0-11) Ubuntu 24.04 Kernel: 5.4 Compiler: gcc gcc (Ubuntu 13.3.0-6ubuntu2~24.04) 13.3.0 Red Hat Enterprise Linux 9.5 Kernel: 5.4 Compiler: gcc gcc (GCC) 11.5.0 20240719 (Red Hat 11.5.0-2) CentOS Stream 10 Kernel: 5.4 Compiler: gcc gcc (GCC) 14.2.1 20250110 (Red Hat 14.2.1-8) Debian 12 (arm) Kernel: Depends on container host Compiler: gcc (Debian 12.2.0-14) 12.2.0 To view detailed results, visit: https://lab.dpdk.org/results/dashboard/patchsets/34430/ UNH-IOL DPDK Community Lab To manage your email subscriptions, visit: https://lab.dpdk.org/results/dashboard/preferences/subscriptions/