From mboxrd@z Thu Jan 1 00:00:00 1970 Return-Path: Received: from mails.dpdk.org (mails.dpdk.org [217.70.189.124]) by inbox.dpdk.org (Postfix) with ESMTP id 8CF8E48A46 for ; Fri, 31 Oct 2025 17:53:00 +0100 (CET) Received: from mails.dpdk.org (localhost [127.0.0.1]) by mails.dpdk.org (Postfix) with ESMTP id 71CEA40150; Fri, 31 Oct 2025 17:53:00 +0100 (CET) Received: from mail-pl1-f226.google.com (mail-pl1-f226.google.com [209.85.214.226]) by mails.dpdk.org (Postfix) with ESMTP id 5B76040150 for ; Fri, 31 Oct 2025 17:52:58 +0100 (CET) Received: by mail-pl1-f226.google.com with SMTP id d9443c01a7336-295548467c7so175385ad.2 for ; Fri, 31 Oct 2025 09:52:58 -0700 (PDT) DKIM-Signature: v=1; a=rsa-sha256; c=relaxed/relaxed; d=iol.unh.edu; s=unh-iol; t=1761929577; x=1762534377; darn=dpdk.org; h=references:in-reply-to:cc:to:from:subject:message-id:date:from:to :cc:subject:date:message-id:reply-to; bh=vrqG1EyUa46wV283mT/sItXolFdfWQOyTSRQzyx+jUI=; b=JTCtJKbUCMmSjkHYfvbE81f4XmgsX7n/VHxIlvrsaBXL+1Ddk2E8N/bLJAMYQJXsd4 XCbTYFM7fGtNY73fxN/HZK5zL8KcVKgwBCHOa79Y6VPUWlta+jUulQjI0uT925YWO+CK L3jVf6IQeQ0DW4IfiuNGc5KoRwctUUTJcufaw= X-Google-DKIM-Signature: v=1; a=rsa-sha256; c=relaxed/relaxed; d=1e100.net; s=20230601; t=1761929577; x=1762534377; h=references:in-reply-to:cc:to:from:subject:message-id:date :x-gm-message-state:from:to:cc:subject:date:message-id:reply-to; bh=vrqG1EyUa46wV283mT/sItXolFdfWQOyTSRQzyx+jUI=; b=Rpnw3rY0QfhdxXG5DgffEv3wwm0afweTAB5qEL3i++VjE1N3rF5Xpr9NyZl0pXlQPI S7tH8Xs5pc+f+QBCM3QRKBBkOS5LglrZW01IbIgxNflp/tf8c+86BFaNUt33mY6qITXm RK2Ke7112oq6/mWQDviR+rbcnKO7qsduyKPd7V864+EHGS6Anb/9GLSBvB9PrZ/kPEDo uFWTwSDagLTadTkc0R2QwTaxIpSs1ll/N1W3RyXAeCNu2/JWuKchVcX65OBMx5eyfS7R P6WTrh7lln8PlX5KTcSueyTUmYf6BYLad/skDhsezZkNW16DqoaIYoMLX+YjSH0w5NFy ohwA== X-Gm-Message-State: AOJu0YyzHoQcgmiOp85RGXR4VkkTDYQl7MiLkum3QN9FuKEKLCff9yKb BRXkF9+DqouZhreZD+AY4GNU6NWeK1blS5saiGPFfYvno10e8ryQv5hppYDgxthepbVMMdIn33j s7hbnoHf+GXbYpyVbY9raBZqNvWHuFJCq8XgMWzUiJREb X-Gm-Gg: ASbGnctvf8tjwXmv36Tqk4RY1mXg5xZSG+W+R3Kr+XT0nyGIGkueKiAQgoCU1EssbiL SiBU13guYwm8Iq7beMNFk2fv2r6Zwb1OkRyy0kEmMCx4CgnReNlgX7jC77RJLwfhjkjbfXlgbCA tWC9J84b2vsJMKFEMG1f4b7g95W3wyS35HfrJdvbb3dt/XAb0MOc/Qip8N+a1LoBTmpETSLqAjV 9GH7btdgW5jSvQVrVa8TB6A87mazCvfW1+mF12Qzfilk5Ggw4+eDBHyLKI3Grie3asjkFeAN2U/ F+ERBWoV4mONm+nlcsUD3Fu55UxKp+ffvLdDvjgjCD1bRbAq6QNwUrbjdoOp0inoUdy2HaCv5iD ZiYW0Bx3SBT7hHop1RihIsnKjkDNS9VQ= X-Google-Smtp-Source: AGHT+IEOd9N8F0f3e3cwuBRZQuE8l6FFgCBQZZerX6AL+oBXpVSmQvLsvzJP1rpfSDj2zE+ZBRJk2IMtuL3v X-Received: by 2002:a17:902:d48d:b0:290:b928:cf3d with SMTP id d9443c01a7336-2951a53a791mr59969615ad.59.1761929577240; Fri, 31 Oct 2025 09:52:57 -0700 (PDT) Received: from postal.iol.unh.edu (postal.iol.unh.edu. [132.177.123.84]) by smtp-relay.gmail.com with ESMTPS id 98e67ed59e1d1-34092bef29csm197937a91.4.2025.10.31.09.52.57 (version=TLS1_2 cipher=ECDHE-ECDSA-AES128-GCM-SHA256 bits=128/128); Fri, 31 Oct 2025 09:52:57 -0700 (PDT) X-Relaying-Domain: iol.unh.edu Date: Fri, 31 Oct 2025 09:52:57 -0700 (PDT) Message-ID: <6904e969.170a0220.3009b9.ae91SMTPIN_ADDED_MISSING@mx.google.com> Received: from [172.21.0.3] (unknown [172.18.0.240]) by postal.iol.unh.edu (Postfix) with ESMTP id 67029604D420; Fri, 31 Oct 2025 12:52:56 -0400 (EDT) Subject: |SUCCESS| pw158318-158319 [PATCH] [2/2] net/iavf: fix single VLAN in From: dpdklab@iol.unh.edu To: Test Report Cc: dpdk-test-reports@iol.unh.edu In-Reply-To: <20251031152250.2441980-3-ciara.loftus@intel.com> References: <20251031152250.2441980-3-ciara.loftus@intel.com> Content-Type: text/plain X-BeenThere: test-report@dpdk.org X-Mailman-Version: 2.1.29 Precedence: list List-Id: automatic DPDK test reports List-Unsubscribe: , List-Archive: List-Post: List-Help: List-Subscribe: , Errors-To: test-report-bounces@dpdk.org Test-Label: iol-unit-amd64-testing Test-Status: SUCCESS http://dpdk.org/patch/158319 _Testing PASS_ Submitter: Ciara Loftus Date: Friday, October 31 2025 15:22:50 DPDK git baseline: Repo:dpdk Branch: master CommitID:8c4861d00aabcf54ef9d6f1df2a4cfb37c06f6c2 158318-158319 --> testing pass Upstream job id: Generic-VM-Unit-Test-DPDK#32205 Test environment and result as below: +-------------------------------+----------------+ | Environment | dpdk_unit_test | +===============================+================+ | Debian GNU/Linux 12 | PASS | +-------------------------------+----------------+ | CentOS Stream 10 | PASS | +-------------------------------+----------------+ | Fedora Linux 40 | PASS | +-------------------------------+----------------+ | Ubuntu 22.04 | PASS | +-------------------------------+----------------+ | Fedora Linux 41 | PASS | +-------------------------------+----------------+ | Red Hat Enterprise Linux 8.10 | PASS | +-------------------------------+----------------+ | Fedora Linux 42 | PASS | +-------------------------------+----------------+ | CentOS Stream 9 | PASS | +-------------------------------+----------------+ | Ubuntu 20.04 | PASS | +-------------------------------+----------------+ | Red Hat Enterprise Linux 9.5 | PASS | +-------------------------------+----------------+ | Ubuntu 24.04 | PASS | +-------------------------------+----------------+ | Windows Server 2022 | PASS | +-------------------------------+----------------+ Debian GNU/Linux 12 Kernel: 5.15 Compiler: gcc gcc (Debian 12.2.0-14+deb12u1) 12.2.0 CentOS Stream 10 Kernel: 5.15 Compiler: gcc gcc (GCC) 14.2.1 20250110 (Red Hat 14.2.1-8) Fedora Linux 40 Kernel: 5.15 Compiler: gcc gcc (GCC) 14.2.1 20240912 (Red Hat 14.2.1-3) Ubuntu 22.04 Kernel: 5.15 Compiler: gcc gcc (Ubuntu 11.4.0-1ubuntu1~22.04) 11.4.0 Fedora Linux 41 Kernel: 5.15 Compiler: gcc gcc (GCC) 14.3.1 20250523 (Red Hat 14.3.1-1) Red Hat Enterprise Linux 8.10 Kernel: 5.15 Compiler: gcc gcc (GCC) 8.5.0 20210514 (Red Hat 8.5.0-22) Fedora Linux 42 Kernel: 5.15 Compiler: gcc gcc (GCC) 15.2.1 20250808 (Red Hat 15.2.1-1) CentOS Stream 9 Kernel: 5.15 Compiler: gcc gcc (GCC) 11.5.0 20240719 (Red Hat 11.5.0-11) Ubuntu 20.04 Kernel: 5.15 Compiler: gcc gcc (Ubuntu 9.4.0-1ubuntu1~20.04.2) 9.4.0 Red Hat Enterprise Linux 9.5 Kernel: 5.15 Compiler: gcc gcc (GCC) 11.5.0 20240719 (Red Hat 11.5.0-2) Ubuntu 24.04 Kernel: 5.15 Compiler: gcc gcc (Ubuntu 13.3.0-6ubuntu2~24.04) 13.3.0 Windows Server 2022 Kernel: 10.0.20348.2031 Compiler: clang 15.0.7, gcc 14.1.0 (MinGW), and MSVC VS 19.39.33521 To view detailed results, visit: https://lab.dpdk.org/results/dashboard/patchsets/34434/ UNH-IOL DPDK Community Lab To manage your email subscriptions, visit: https://lab.dpdk.org/results/dashboard/preferences/subscriptions/