From mboxrd@z Thu Jan 1 00:00:00 1970 Return-Path: Received: from mails.dpdk.org (mails.dpdk.org [217.70.189.124]) by inbox.dpdk.org (Postfix) with ESMTP id 45A0A48A46 for ; Fri, 31 Oct 2025 17:59:28 +0100 (CET) Received: from mails.dpdk.org (localhost [127.0.0.1]) by mails.dpdk.org (Postfix) with ESMTP id 4085240150; Fri, 31 Oct 2025 17:59:28 +0100 (CET) Received: from mail-qv1-f98.google.com (mail-qv1-f98.google.com [209.85.219.98]) by mails.dpdk.org (Postfix) with ESMTP id 9D3E140150 for ; Fri, 31 Oct 2025 17:59:26 +0100 (CET) Received: by mail-qv1-f98.google.com with SMTP id 6a1803df08f44-88044caaa3eso1443126d6.3 for ; Fri, 31 Oct 2025 09:59:26 -0700 (PDT) DKIM-Signature: v=1; a=rsa-sha256; c=relaxed/relaxed; d=iol.unh.edu; s=unh-iol; t=1761929966; x=1762534766; darn=dpdk.org; h=references:in-reply-to:cc:to:from:subject:message-id:date:from:to :cc:subject:date:message-id:reply-to; bh=4d8bvBVLxaFPLD7jdyHyPOiXomxnhS055MhoTZ8ZbtI=; b=XzLNjTMXkhkKNAmH7z95umRFgMLfUfc/+ixG1jvS3vu/MfNH+zk4pWy6wc9GYDAG04 yAog9qgw4JlbFrL5KeghUERba1cUL0d5gB/Jv1kM+Nqky2fPSM80H7wrJueQtfJyVD5j hHtG7HfR0kZKmRzoGoaEaSMeFzUQxP5jQoYJA= X-Google-DKIM-Signature: v=1; a=rsa-sha256; c=relaxed/relaxed; d=1e100.net; s=20230601; t=1761929966; x=1762534766; h=references:in-reply-to:cc:to:from:subject:message-id:date :x-gm-message-state:from:to:cc:subject:date:message-id:reply-to; bh=4d8bvBVLxaFPLD7jdyHyPOiXomxnhS055MhoTZ8ZbtI=; b=wPdvUFX/9Xm0Snw+f8/33bc4dv5nke21Dx4jeGWShGGQ/vyV/9c/d/z/HEjhmOWj+0 xvDmlTzJiX49cZDMsMxUy+juMMCK52uFtGbc7RZgmh18z6PLGyG/Y+4I/xqQnWiWhvmB tcQXi4pLYkiaK7aboDdkydFzqqJoFmMYAOsr+Z3iJ+o/3WVNvJzbT0qI6TdY2ke/su5y fnrvz+T99685TS+F5egxPcfG2fLQ31EHBxeEa3lhUQ/L7R/vO41bcin8yUIe1LhxVaLV gENcJjq0hXvNplXJ/y/Y69m/M4RS4KpE/wo/Yf2h4/xX2e3P8jGsVWbEtzsORcYVzzy6 lOYg== X-Gm-Message-State: AOJu0YwmnLy0TnEKrHRnMDZBgB3NzdTYr0PqJmtTZ9S0X+KscrkdWPoH F0zte10ql5b7pCqfWnH7Q1gIIH1TRzB9Z/3WHS7ihyYfWAGfSO+8Y1EcDrwJLyN3+rOArLHJyRc hiuzJCo2XQJxU+e47CDbtQe/CaYFtdRa+pC6Ae3Kzo5yRXvzAfRa9Nhcxn9Yz X-Gm-Gg: ASbGncuGNnJoM2/SEEJc1E3yJHEITmD/Kf0nmXdBjNH4kgQrMw8hfaxd7zbs7pE53uV lIfzYXffivXWYaq5K9pC6PC8EaPH14j/POvOqXQmhgfp3Ft8YLK1X6NeTwsjNkjIuygW0eP/5/S /H/GK0RGKU1O2zhP1h/+JgMJD9U/JXQSKGVgTTImsehdTHwlbCGXTrvypRC6zGIoE6ZLassqKzr 0hI09WM1qQTWgoQymLsjzC/8pdnKKbqh9Fwn7k4u8dlTI9Wg19b/C/USB8bU9hOqPlk65gFxzID RFNsxVVLuuCZ1EqiwvaW3AtruuegQCnkBlkaMeXLfHwzz2hAJmKR18kUTyU51dI3uGVUekX9y6A MF8jvObYW X-Google-Smtp-Source: AGHT+IGtETPvlWsqTaBjYQ1V76fQo9GWjuYt+kllPbquvQ7Vr04Vhq6bUPhxjGxYznNIchQy3HFWZclYTs2C X-Received: by 2002:ad4:5c8c:0:b0:782:3e4c:9ea0 with SMTP id 6a1803df08f44-8802f51167emr52490576d6.59.1761929965711; Fri, 31 Oct 2025 09:59:25 -0700 (PDT) Received: from postal.iol.unh.edu (postal.iol.unh.edu. [2606:4100:3880:1234::84]) by smtp-relay.gmail.com with ESMTPS id 6a1803df08f44-880362c5f3bsm1999576d6.19.2025.10.31.09.59.25 (version=TLS1_2 cipher=ECDHE-ECDSA-AES128-GCM-SHA256 bits=128/128); Fri, 31 Oct 2025 09:59:25 -0700 (PDT) X-Relaying-Domain: iol.unh.edu Date: Fri, 31 Oct 2025 09:59:25 -0700 (PDT) Message-ID: <6904eaed.d40a0220.13778f.a710SMTPIN_ADDED_MISSING@mx.google.com> Received: from [172.21.0.3] (unknown [172.18.0.240]) by postal.iol.unh.edu (Postfix) with ESMTP id 6364D604D420; Fri, 31 Oct 2025 12:59:25 -0400 (EDT) Subject: |SUCCESS| pw158318-158319 [PATCH] [2/2] net/iavf: fix single VLAN in From: dpdklab@iol.unh.edu To: Test Report Cc: dpdk-test-reports@iol.unh.edu In-Reply-To: <20251031152250.2441980-3-ciara.loftus@intel.com> References: <20251031152250.2441980-3-ciara.loftus@intel.com> Content-Type: text/plain X-BeenThere: test-report@dpdk.org X-Mailman-Version: 2.1.29 Precedence: list List-Id: automatic DPDK test reports List-Unsubscribe: , List-Archive: List-Post: List-Help: List-Subscribe: , Errors-To: test-report-bounces@dpdk.org Test-Label: iol-unit-amd64-testing Test-Status: SUCCESS http://dpdk.org/patch/158319 _Testing PASS_ Submitter: Ciara Loftus Date: Friday, October 31 2025 15:22:50 DPDK git baseline: Repo:dpdk Branch: master CommitID:8c4861d00aabcf54ef9d6f1df2a4cfb37c06f6c2 158318-158319 --> testing pass Upstream job id: Generic-VM-Unit-Test-DPDK#32206 Test environment and result as below: +-------------------------------+----------------+ | Environment | dpdk_unit_test | +===============================+================+ | Debian GNU/Linux 12 | PASS | +-------------------------------+----------------+ | CentOS Stream 10 | PASS | +-------------------------------+----------------+ | Fedora Linux 40 | PASS | +-------------------------------+----------------+ | Ubuntu 22.04 | PASS | +-------------------------------+----------------+ | Fedora Linux 41 | PASS | +-------------------------------+----------------+ | Red Hat Enterprise Linux 8.10 | PASS | +-------------------------------+----------------+ | Fedora Linux 42 | PASS | +-------------------------------+----------------+ | CentOS Stream 9 | PASS | +-------------------------------+----------------+ | Ubuntu 20.04 | PASS | +-------------------------------+----------------+ | Red Hat Enterprise Linux 9.5 | PASS | +-------------------------------+----------------+ | Ubuntu 24.04 | PASS | +-------------------------------+----------------+ | Windows Server 2022 | PASS | +-------------------------------+----------------+ Debian GNU/Linux 12 Kernel: 5.15 Compiler: gcc gcc (Debian 12.2.0-14+deb12u1) 12.2.0 CentOS Stream 10 Kernel: 5.15 Compiler: gcc gcc (GCC) 14.2.1 20250110 (Red Hat 14.2.1-8) Fedora Linux 40 Kernel: 5.15 Compiler: gcc gcc (GCC) 14.2.1 20240912 (Red Hat 14.2.1-3) Ubuntu 22.04 Kernel: 5.15 Compiler: gcc gcc (Ubuntu 11.4.0-1ubuntu1~22.04) 11.4.0 Fedora Linux 41 Kernel: 5.15 Compiler: gcc gcc (GCC) 14.3.1 20250523 (Red Hat 14.3.1-1) Red Hat Enterprise Linux 8.10 Kernel: 5.15 Compiler: gcc gcc (GCC) 8.5.0 20210514 (Red Hat 8.5.0-22) Fedora Linux 42 Kernel: 5.15 Compiler: gcc gcc (GCC) 15.2.1 20250808 (Red Hat 15.2.1-1) CentOS Stream 9 Kernel: 5.15 Compiler: gcc gcc (GCC) 11.5.0 20240719 (Red Hat 11.5.0-11) Ubuntu 20.04 Kernel: 5.15 Compiler: gcc gcc (Ubuntu 9.4.0-1ubuntu1~20.04.2) 9.4.0 Red Hat Enterprise Linux 9.5 Kernel: 5.15 Compiler: gcc gcc (GCC) 11.5.0 20240719 (Red Hat 11.5.0-2) Ubuntu 24.04 Kernel: 5.15 Compiler: gcc gcc (Ubuntu 13.3.0-6ubuntu2~24.04) 13.3.0 Windows Server 2022 Kernel: 10.0.20348.2031 Compiler: clang 15.0.7, gcc 14.1.0 (MinGW), and MSVC VS 19.39.33521 To view detailed results, visit: https://lab.dpdk.org/results/dashboard/patchsets/34434/ UNH-IOL DPDK Community Lab To manage your email subscriptions, visit: https://lab.dpdk.org/results/dashboard/preferences/subscriptions/