From mboxrd@z Thu Jan 1 00:00:00 1970 Return-Path: Received: from mails.dpdk.org (mails.dpdk.org [217.70.189.124]) by inbox.dpdk.org (Postfix) with ESMTP id EA68B48A46 for ; Fri, 31 Oct 2025 18:05:19 +0100 (CET) Received: from mails.dpdk.org (localhost [127.0.0.1]) by mails.dpdk.org (Postfix) with ESMTP id E569B40150; Fri, 31 Oct 2025 18:05:19 +0100 (CET) Received: from mail-yw1-f226.google.com (mail-yw1-f226.google.com [209.85.128.226]) by mails.dpdk.org (Postfix) with ESMTP id 736CC40150 for ; Fri, 31 Oct 2025 18:05:18 +0100 (CET) Received: by mail-yw1-f226.google.com with SMTP id 00721157ae682-7864cef1976so16621547b3.0 for ; Fri, 31 Oct 2025 10:05:18 -0700 (PDT) DKIM-Signature: v=1; a=rsa-sha256; c=relaxed/relaxed; d=iol.unh.edu; s=unh-iol; t=1761930318; x=1762535118; darn=dpdk.org; h=references:in-reply-to:cc:to:from:subject:message-id:date:from:to :cc:subject:date:message-id:reply-to; bh=4vJscH+XtYwTu1ixZ/a42VoORxoiWMsVoJZrVtwTaLY=; b=LWI2OvJrY3HZXqH1vFwEZvq2tXKB4r+PD5Vi06JD1Dbs53QGcEjrPjHrriFM7+w/AM kXj7n0J7p+RlYL0StISt/wFekPePuNs2qCd54DK/v8MM8sZ2vtqsJFWljc+xUt8boFY3 ahIQgx0RcvvquScj5MSVVv0Qx2aYMw9R2cccY= X-Google-DKIM-Signature: v=1; a=rsa-sha256; c=relaxed/relaxed; d=1e100.net; s=20230601; t=1761930318; x=1762535118; h=references:in-reply-to:cc:to:from:subject:message-id:date :x-gm-message-state:from:to:cc:subject:date:message-id:reply-to; bh=4vJscH+XtYwTu1ixZ/a42VoORxoiWMsVoJZrVtwTaLY=; b=Gvb/ByfUiNYK7nI6Mg0KaVsBKCkK02fOMpX0asYAQurOTLRA3Dh9OJuNWE3l3MyFAh uHibraiTDqSl4Yxc6M6kgCATXWRmAUdV+NVaqO0PtHL/ThmtShi7TbPJS8j5XdZb+rYe +G1P4DCQ636JstyiZMImtTgZ9Soj//x/Qc3XYNj9yXzZHzPWEzHd0+TeNcBBHoM4Z3RA +Fb0p6d72+KjFT7Rm6huQ1Pi0bzUnODTZv40WEvXgh5NJu3FKTWVcLMwPTGnbIEKKnTI zbFyVFcFsoc07idYomZovQ9TDVfQoCYNMFRfShxyDRF0A3kV4y8+0aPmexNv7145TZcI AQcg== X-Gm-Message-State: AOJu0YzC0ysv6y4kHVnUwD+sIEYcvl4HvMzzV+hI9ZWXwzo8K4ne10/d rYM45x91fyh/ip1fx7M166m4/b5F6EMI3Epn7hfAD63GghSBcYSJ6joOGedZmGZZ+8uWpFJqT8L q1/Fu3ZRouw2nPQDadFb50MC33AFP29Bxcm1kIfKSmozWZ4S8MLIxcN9huLIM X-Gm-Gg: ASbGncuvvCwutb2WkwO+bP6WyF0dLLSQMeHYMxgjf/Br1vy/eKiVHNzff/sI71FBDpC XxKhunEei7RfZ8y00JJcUnx2nH8L5S9AyP66+vfkbd6z9QmfX6kABpsZAobj77sva3K1dQM4i7y 0PLO5v2EvUxbP92INerGfYQ6iSslAUx5Ip8e91Oa7bSbum0lJtzMB0I1au+FiAt0NdouANF3MSG ts0tyGRAuwKggPSDsYMmFPbHfWTgk1bKkXA+lBqU59aH0uGiS2sqe0RR33of5ZCrshBa2+suFfa sv9dm80KgN9D+8Hk3cAsH5s4LBDw3Cr9bM4CqAGPj6tzcuuVaPnumbz9CxPIwnUG14UqEN3TUeL LQVqi9COM X-Google-Smtp-Source: AGHT+IGxF4V+hAn0MAputzM/DuVBL+A41O2VnVcaP9UQbfNJYeiSHZGHH4Wbdr8LfylaxD/a4atZMQ+6GA4R X-Received: by 2002:a05:690e:1507:b0:63e:3099:df4a with SMTP id 956f58d0204a3-63f94ac2566mr2276390d50.13.1761930317808; Fri, 31 Oct 2025 10:05:17 -0700 (PDT) Received: from postal.iol.unh.edu (postal.iol.unh.edu. [2606:4100:3880:1234::84]) by smtp-relay.gmail.com with ESMTPS id 00721157ae682-7864c4020d3sm1349687b3.29.2025.10.31.10.05.17 (version=TLS1_2 cipher=ECDHE-ECDSA-AES128-GCM-SHA256 bits=128/128); Fri, 31 Oct 2025 10:05:17 -0700 (PDT) X-Relaying-Domain: iol.unh.edu Date: Fri, 31 Oct 2025 10:05:17 -0700 (PDT) Message-ID: <6904ec4d.050a0220.c00cf.7024SMTPIN_ADDED_MISSING@mx.google.com> Received: from [172.21.0.2] (unknown [172.18.0.240]) by postal.iol.unh.edu (Postfix) with ESMTP id 78B2C604D420; Fri, 31 Oct 2025 13:05:17 -0400 (EDT) Subject: |WARNING| pw158318-158319 [PATCH] [2/2] net/iavf: fix single VLAN in From: dpdklab@iol.unh.edu To: Test Report Cc: dpdk-test-reports@iol.unh.edu In-Reply-To: <20251031152250.2441980-3-ciara.loftus@intel.com> References: <20251031152250.2441980-3-ciara.loftus@intel.com> Content-Type: text/plain X-BeenThere: test-report@dpdk.org X-Mailman-Version: 2.1.29 Precedence: list List-Id: automatic DPDK test reports List-Unsubscribe: , List-Archive: List-Post: List-Help: List-Subscribe: , Errors-To: test-report-bounces@dpdk.org Test-Label: iol-compile-amd64-testing Test-Status: WARNING http://dpdk.org/patch/158319 _Testing issues_ Submitter: Ciara Loftus Date: Friday, October 31 2025 15:22:50 DPDK git baseline: Repo:dpdk Branch: master CommitID:8c4861d00aabcf54ef9d6f1df2a4cfb37c06f6c2 158318-158319 --> testing issues Upstream job id: Generic-DPDK-Compile-Meson#439649 Test environment and result as below: +-------------------------------+--------------------+-------------------+------------------+-------------------------+-------------------+----------------------+ | Environment | dpdk_meson_compile | dpdk_compile_spdk | dpdk_compile_ovs | dpdk_llvm_clang_compile | dpdk_msvc_compile | dpdk_mingw64_compile | +===============================+====================+===================+==================+=========================+===================+======================+ | CentOS Stream 9 | PASS | WARN | SKIPPED | SKIPPED | SKIPPED | SKIPPED | +-------------------------------+--------------------+-------------------+------------------+-------------------------+-------------------+----------------------+ | Fedora Linux 42 | PASS | WARN | PASS | SKIPPED | SKIPPED | SKIPPED | +-------------------------------+--------------------+-------------------+------------------+-------------------------+-------------------+----------------------+ | Debian GNU/Linux 12 | PASS | WARN | SKIPPED | SKIPPED | SKIPPED | SKIPPED | +-------------------------------+--------------------+-------------------+------------------+-------------------------+-------------------+----------------------+ | CentOS Stream 10 | PASS | SKIPPED | SKIPPED | SKIPPED | SKIPPED | SKIPPED | +-------------------------------+--------------------+-------------------+------------------+-------------------------+-------------------+----------------------+ | FreeBSD 14.2 | PASS | SKIPPED | SKIPPED | SKIPPED | SKIPPED | SKIPPED | +-------------------------------+--------------------+-------------------+------------------+-------------------------+-------------------+----------------------+ | openSUSE Leap 15.6 | PASS | SKIPPED | SKIPPED | SKIPPED | SKIPPED | SKIPPED | +-------------------------------+--------------------+-------------------+------------------+-------------------------+-------------------+----------------------+ | Ubuntu 20.04 | PASS | SKIPPED | SKIPPED | SKIPPED | SKIPPED | SKIPPED | +-------------------------------+--------------------+-------------------+------------------+-------------------------+-------------------+----------------------+ | Red Hat Enterprise Linux 8.10 | PASS | SKIPPED | SKIPPED | SKIPPED | SKIPPED | SKIPPED | +-------------------------------+--------------------+-------------------+------------------+-------------------------+-------------------+----------------------+ | Alpine Linux 3.22.0 | PASS | SKIPPED | SKIPPED | SKIPPED | SKIPPED | SKIPPED | +-------------------------------+--------------------+-------------------+------------------+-------------------------+-------------------+----------------------+ | Ubuntu 24.04 | PASS | WARN | PASS | SKIPPED | SKIPPED | SKIPPED | +-------------------------------+--------------------+-------------------+------------------+-------------------------+-------------------+----------------------+ | Ubuntu 22.04 | PASS | WARN | SKIPPED | SKIPPED | SKIPPED | SKIPPED | +-------------------------------+--------------------+-------------------+------------------+-------------------------+-------------------+----------------------+ | Red Hat Enterprise Linux 9.5 | PASS | SKIPPED | SKIPPED | SKIPPED | SKIPPED | SKIPPED | +-------------------------------+--------------------+-------------------+------------------+-------------------------+-------------------+----------------------+ | Windows Server 2022 | SKIPPED | SKIPPED | SKIPPED | PASS | PASS | PASS | +-------------------------------+--------------------+-------------------+------------------+-------------------------+-------------------+----------------------+ ==== 20 line log output for Ubuntu 22.04 (dpdk_compile_spdk): ==== --- Failed to get log output --- ==== End log output ==== CentOS Stream 9 Kernel: 5.15 Compiler: gcc gcc (GCC) 11.5.0 20240719 (Red Hat 11.5.0-11) Fedora Linux 42 Kernel: 5.15 Compiler: clang gcc (GCC) 15.2.1 20250808 (Red Hat 15.2.1-1) Debian GNU/Linux 12 Kernel: 5.15 Compiler: gcc gcc (Debian 12.2.0-14+deb12u1) 12.2.0 CentOS Stream 10 Kernel: 5.15 Compiler: gcc gcc (GCC) 14.2.1 20250110 (Red Hat 14.2.1-8) FreeBSD 14.2 Kernel: 14.2-RELEASE Compiler: clang 18.1.6 openSUSE Leap 15.6 Kernel: 5.15 Compiler: gcc gcc (SUSE Linux) 7.5.0 Ubuntu 20.04 Kernel: 5.15 Compiler: gcc gcc (Ubuntu 9.4.0-1ubuntu1~20.04.2) 9.4.0 Red Hat Enterprise Linux 8.10 Kernel: 5.15 Compiler: gcc gcc (GCC) 8.5.0 20210514 (Red Hat 8.5.0-22) Alpine Linux 3.22.0 Kernel: 5.15 Compiler: gcc gcc (Alpine 14.2.0) 14.2.0 Ubuntu 24.04 Kernel: 5.15 Compiler: gcc gcc (Ubuntu 13.3.0-6ubuntu2~24.04) 13.3.0 Ubuntu 22.04 Kernel: 5.15 Compiler: gcc gcc (Ubuntu 11.4.0-1ubuntu1~22.04) 11.4.0 Red Hat Enterprise Linux 9.5 Kernel: 5.15 Compiler: gcc gcc (GCC) 11.5.0 20240719 (Red Hat 11.5.0-2) Windows Server 2022 Kernel: 10.0.20348.2031 Compiler: clang 15.0.7, gcc 14.1.0 (MinGW), and MSVC VS 19.39.33521 To view detailed results, visit: https://lab.dpdk.org/results/dashboard/patchsets/34434/ UNH-IOL DPDK Community Lab To manage your email subscriptions, visit: https://lab.dpdk.org/results/dashboard/preferences/subscriptions/