From mboxrd@z Thu Jan 1 00:00:00 1970 Return-Path: Received: from mails.dpdk.org (mails.dpdk.org [217.70.189.124]) by inbox.dpdk.org (Postfix) with ESMTP id CC6A348A46 for ; Fri, 31 Oct 2025 18:34:36 +0100 (CET) Received: from mails.dpdk.org (localhost [127.0.0.1]) by mails.dpdk.org (Postfix) with ESMTP id A821140150; Fri, 31 Oct 2025 18:34:36 +0100 (CET) Received: from mail-il1-f228.google.com (mail-il1-f228.google.com [209.85.166.228]) by mails.dpdk.org (Postfix) with ESMTP id 05A4340150 for ; Fri, 31 Oct 2025 18:34:36 +0100 (CET) Received: by mail-il1-f228.google.com with SMTP id e9e14a558f8ab-4331b4d5c6eso847095ab.2 for ; Fri, 31 Oct 2025 10:34:35 -0700 (PDT) DKIM-Signature: v=1; a=rsa-sha256; c=relaxed/relaxed; d=iol.unh.edu; s=unh-iol; t=1761932075; x=1762536875; darn=dpdk.org; h=cc:to:from:subject:message-id:date:from:to:cc:subject:date :message-id:reply-to; bh=UG9NmC+AB3hGSKUuhUt773KrAK+Kj2PDOafUztI5USw=; b=CGIGxvZvq+tEWiOaRdDwD7bfTLYFCJ+NtpssBteN8HfR/KFrLUjfo8T/KvGmIntYp3 w3zBNFBsxJWwm2+DDxpHuuxKA2BscWYpc9IpZHYeTWzBSuGtV3pJ/kIAUJCXII4fkR1h DGwRRtF9g3rg3/3BldckDBp79hdnInhFTvDZs= X-Google-DKIM-Signature: v=1; a=rsa-sha256; c=relaxed/relaxed; d=1e100.net; s=20230601; t=1761932075; x=1762536875; h=cc:to:from:subject:message-id:date:x-gm-message-state:from:to:cc :subject:date:message-id:reply-to; bh=UG9NmC+AB3hGSKUuhUt773KrAK+Kj2PDOafUztI5USw=; b=vhngq9WGQB3LMk6toE8VivoSCcuUSJPIN2i+5FDh9fAuAUKr3yt7Hieo899KUguvy2 6z5wAr9brFtVn0MIFW271sKJIrscve9hrQ//ZcdFzsZQ9d7jf5uhcVa+GsQeOb6Nw+Yt kAxGgq5Sv3PwKoOSkxSMW2hyKOetF//l22jxOnC4UDcHSqICCD5YGitbNr9kRzPYji4X 7iVfpFhfdLaXwTK6Vt0RHOGpWJdYEkfyZ3T9FWe7kRs9UYIWtri91x1hkG6nMQ/dkkMi 3iyhWP/QSLz4cNlGSPpM56nFNtk34RbW/4iHUu41hLWnUvPDMXVbFcfDHVdqX43UmveG /LQg== X-Gm-Message-State: AOJu0YyrNV+UqttpcV5vZ2LvhymQJXfMurozwCaDU+TRqY0R9PBchU1x +XS3OdUt7SoATJll196iCRRzCl0iMwRtQI5Sx3PkcP1xxtit5eTXkef2zRJcXlVwKFSvyXdmjdK G6PzZ+uKqFBGt1VivTu+8ITS6vd+LdfoCAO6P X-Gm-Gg: ASbGncuQQgZq8bm9WKxY1wWA0MkTb2uEU4UZkvGjbILyDBmCXnk1C82fuUpdaeegc2j owfh/1fO3fC7It1qjdoawu0RRAArhHuwFSca07SHPLI/aOfMyLHCllQwKMPCoKi3L+dQxCL2XDv nRLmvHBRxWXAkiZhPBjdwTxxt0wagfnic8IZpiz8QLvZXtopmXOayOYDs084tqFgP60DQVW+2tF YgipoCWIU5pyllzKhkuRrQsqNVyoWUb8OV6H1socC4SX+WDXVJSqnuCENltNyzESKAl0coF6mur ZoQsf0U3alaltd1pyzYzM1lkCesxubmUjcga4zfM9RX+MhQrR8zrQcE4IOMENTf1bNWY3dPr4dN D15vf6j+aGRfURXz4XqR674W31a7HdS0= X-Google-Smtp-Source: AGHT+IEW5Y0lEGPJXkIbRYxzVH+SEr3YDgbulsHCcbQLZE6hlRVGjiPwLXLij0gbT1GxrQrka6Vw0MCXHFRY X-Received: by 2002:a92:cd8f:0:b0:430:e5a4:6f41 with SMTP id e9e14a558f8ab-4330d218a10mr65728295ab.32.1761932075185; Fri, 31 Oct 2025 10:34:35 -0700 (PDT) Received: from postal.iol.unh.edu (postal.iol.unh.edu. [132.177.123.84]) by smtp-relay.gmail.com with ESMTPS id 8926c6da1cb9f-5b6a55c3dcfsm211161173.26.2025.10.31.10.34.35 (version=TLS1_2 cipher=ECDHE-ECDSA-AES128-GCM-SHA256 bits=128/128); Fri, 31 Oct 2025 10:34:35 -0700 (PDT) X-Relaying-Domain: iol.unh.edu Date: Fri, 31 Oct 2025 10:34:35 -0700 (PDT) Message-ID: <6904f32b.050a0220.120e75.b61fSMTPIN_ADDED_MISSING@mx.google.com> Received: from [172.21.0.2] (unknown [172.18.0.240]) by postal.iol.unh.edu (Postfix) with ESMTP id 9F49C604D420; Fri, 31 Oct 2025 13:34:34 -0400 (EDT) Subject: |SUCCESS| [GIT MASTER] bfb6c9fbcbaada197af422b704cf71b777f85fff From: dpdklab@iol.unh.edu To: Test Report Cc: dpdk-test-reports@iol.unh.edu, Ajit Khaparde Content-Type: text/plain X-BeenThere: test-report@dpdk.org X-Mailman-Version: 2.1.29 Precedence: list List-Id: automatic DPDK test reports List-Unsubscribe: , List-Archive: List-Post: List-Help: List-Subscribe: , Errors-To: test-report-bounces@dpdk.org _Testing PASS_ Branch: next-net-brcm-for-next-net bfb6c9fbcbaada197af422b704cf71b777f85fff --> testing pass Upstream job id: Generic-VM-Unit-Test-DPDK#32207 Test environment and result as below: +-------------------------------+----------------+ | Environment | dpdk_unit_test | +===============================+================+ | Fedora Linux 42 | PASS | +-------------------------------+----------------+ | Red Hat Enterprise Linux 9.5 | PASS | +-------------------------------+----------------+ | Ubuntu 20.04 | PASS | +-------------------------------+----------------+ | Ubuntu 24.04 | PASS | +-------------------------------+----------------+ | CentOS Stream 10 | PASS | +-------------------------------+----------------+ | Fedora Linux 41 | PASS | +-------------------------------+----------------+ | Debian GNU/Linux 12 | PASS | +-------------------------------+----------------+ | Red Hat Enterprise Linux 8.10 | PASS | +-------------------------------+----------------+ | Fedora Linux 40 | PASS | +-------------------------------+----------------+ | Ubuntu 22.04 | PASS | +-------------------------------+----------------+ | CentOS Stream 9 | PASS | +-------------------------------+----------------+ | Windows Server 2022 | PASS | +-------------------------------+----------------+ Fedora Linux 42 Kernel: 5.15 Compiler: gcc gcc (GCC) 15.2.1 20250808 (Red Hat 15.2.1-1) Red Hat Enterprise Linux 9.5 Kernel: 5.15 Compiler: gcc gcc (GCC) 11.5.0 20240719 (Red Hat 11.5.0-2) Ubuntu 20.04 Kernel: 5.15 Compiler: gcc gcc (Ubuntu 9.4.0-1ubuntu1~20.04.2) 9.4.0 Ubuntu 24.04 Kernel: 5.15 Compiler: gcc gcc (Ubuntu 13.3.0-6ubuntu2~24.04) 13.3.0 CentOS Stream 10 Kernel: 5.15 Compiler: gcc gcc (GCC) 14.2.1 20250110 (Red Hat 14.2.1-8) Fedora Linux 41 Kernel: 5.15 Compiler: clang gcc (GCC) 14.3.1 20250523 (Red Hat 14.3.1-1) Debian GNU/Linux 12 Kernel: 5.15 Compiler: gcc gcc (Debian 12.2.0-14+deb12u1) 12.2.0 Red Hat Enterprise Linux 8.10 Kernel: 5.15 Compiler: gcc gcc (GCC) 8.5.0 20210514 (Red Hat 8.5.0-22) Fedora Linux 40 Kernel: 5.15 Compiler: gcc gcc (GCC) 14.2.1 20240912 (Red Hat 14.2.1-3) Ubuntu 22.04 Kernel: 5.15 Compiler: gcc gcc (Ubuntu 11.4.0-1ubuntu1~22.04) 11.4.0 CentOS Stream 9 Kernel: 5.15 Compiler: gcc gcc (GCC) 11.5.0 20240719 (Red Hat 11.5.0-11) Windows Server 2022 Kernel: 10.0.20348.2031 Compiler: clang 15.0.7, gcc 14.1.0 (MinGW), and MSVC VS 19.39.33521 To view detailed results, visit: https://lab.dpdk.org/results/dashboard/tarballs/35413/ UNH-IOL DPDK Community Lab To manage your email subscriptions, visit: https://lab.dpdk.org/results/dashboard/preferences/subscriptions/