From mboxrd@z Thu Jan 1 00:00:00 1970 Return-Path: Received: from mails.dpdk.org (mails.dpdk.org [217.70.189.124]) by inbox.dpdk.org (Postfix) with ESMTP id 6022648A46 for ; Fri, 31 Oct 2025 18:39:22 +0100 (CET) Received: from mails.dpdk.org (localhost [127.0.0.1]) by mails.dpdk.org (Postfix) with ESMTP id 3DCFC40150; Fri, 31 Oct 2025 18:39:22 +0100 (CET) Received: from mail-yx1-f98.google.com (mail-yx1-f98.google.com [74.125.224.98]) by mails.dpdk.org (Postfix) with ESMTP id 8D28B40150 for ; Fri, 31 Oct 2025 18:39:20 +0100 (CET) Received: by mail-yx1-f98.google.com with SMTP id 956f58d0204a3-63f96d5038dso1079204d50.1 for ; Fri, 31 Oct 2025 10:39:20 -0700 (PDT) DKIM-Signature: v=1; a=rsa-sha256; c=relaxed/relaxed; d=iol.unh.edu; s=unh-iol; t=1761932360; x=1762537160; darn=dpdk.org; h=cc:to:from:subject:message-id:date:from:to:cc:subject:date :message-id:reply-to; bh=2AWAzC/GGZoiJvGn7wZVQDUmICHkyOa3cSFTNfRmJQw=; b=bFeJ56e4FhawDwpaIVJjijyoeC/hwGeqUGrCK8p0XvTPwa5fhy6CXVfPjksp30OzHR NLY3Yoy0744saBxZFMFBBxivI7at77PBoCiZN6SXQL/+CPfdP8KBYJqW7r411KNMVAR0 Zgln9mXOZxQZpJOvDHxXivu351wieuPMYUK/I= X-Google-DKIM-Signature: v=1; a=rsa-sha256; c=relaxed/relaxed; d=1e100.net; s=20230601; t=1761932360; x=1762537160; h=cc:to:from:subject:message-id:date:x-gm-message-state:from:to:cc :subject:date:message-id:reply-to; bh=2AWAzC/GGZoiJvGn7wZVQDUmICHkyOa3cSFTNfRmJQw=; b=TKM3jbkhhxqT9yow8jZXZw2Wlak1TU7mRg2r9kN8vtPSjjyVqJVx4Cx2ZBpfYhf/BB Zc/zNqGs6MgbJ2YpCARDg3QrBFpIefn+UBIFtbWl5ACPCUtw7cj/WLUDJeLpyJGJXqF4 7slRL9FICDJH/mzH74YAhp2S0uqAqW1LYGPPDV36SBf8ewnfmsqGGby/eT95f7HGd8SE e2WmyB3we5ATAaZFbUEdw1qy8MNv+La2OFA000iKVARhy+84mYRVBMYurzhTknsQVRgF xknr3uxWZZMxjMz5TER2DMwT5/l2eBeP7+x7LFwpu9zx6s6lcGo4f+Jfw7yqS7n67Z3L 8MFQ== X-Gm-Message-State: AOJu0Yw/oLSi3tAUTXaM1/MSxqT5XSflafhVKZcBnukxthKokE3CJIyo 7wXH4lVTiwc4AkTBWsFJk5n38Mcq5MlfbHCfrU0KQGMOrWe4owGaxhjjPm/PNBcucgIS80k3dsu GeMq2HSRaD7uQ6fV7uuanV8KOcc48yL/GOl5A X-Gm-Gg: ASbGncsLuidh3KFO9rNi5d64OAtaW+3d//iDW2iFPaDaA8uS5KL7FWq/V6WxLB3PLCV drFk4LpXTfc3bzf1yFx4dNjgdENGPz11oLAVMGlsGyVItmZGGoyuwBL5iAF4VBoDkujRf6w8bMo Pk7GkULEQy0tBbqJZ91kPxhGwco7E3MnNFrlyZL8nrKxQ+KA4TQ/th8sTiigHhNvZ3AzJ+NySOZ GtpaOh9KNsuQVtibtB3Qlt5R11cXYEj+HEa/5OiiQAILX8/cjuCqiyY3ZSKUriNK4n8b60C5Dxp LYoCPuHMELh4fs3WvbTJ4rU8eZSQlttV8fAy/RqqmGbcT+bvF2baXHpQsOPcVu9SPZWxzDAf3TG CTCPcR5XUTkZ+9OyN2E73P6dGvKgGOlg= X-Google-Smtp-Source: AGHT+IEuIbkXogA0a3OhxAygAof7X3AuODnz5TLJ9nKU1QqLrj/bTGx2eV9TYdNRItAfJt6JguEEin9VKx4V X-Received: by 2002:a05:690c:660e:b0:780:fdbb:5281 with SMTP id 00721157ae682-786483a22ebmr41225867b3.8.1761932359854; Fri, 31 Oct 2025 10:39:19 -0700 (PDT) Received: from postal.iol.unh.edu (postal.iol.unh.edu. [132.177.123.84]) by smtp-relay.gmail.com with ESMTPS id 00721157ae682-7864c2dda9fsm1345737b3.27.2025.10.31.10.39.19 (version=TLS1_2 cipher=ECDHE-ECDSA-AES128-GCM-SHA256 bits=128/128); Fri, 31 Oct 2025 10:39:19 -0700 (PDT) X-Relaying-Domain: iol.unh.edu Date: Fri, 31 Oct 2025 10:39:19 -0700 (PDT) Message-ID: <6904f447.050a0220.40934.7808SMTPIN_ADDED_MISSING@mx.google.com> Received: from [172.21.0.2] (unknown [172.18.0.240]) by postal.iol.unh.edu (Postfix) with ESMTP id 81F1A604D420; Fri, 31 Oct 2025 13:39:19 -0400 (EDT) Subject: |SUCCESS| [GIT MASTER] bfb6c9fbcbaada197af422b704cf71b777f85fff From: dpdklab@iol.unh.edu To: Test Report Cc: dpdk-test-reports@iol.unh.edu, Ajit Khaparde Content-Type: text/plain X-BeenThere: test-report@dpdk.org X-Mailman-Version: 2.1.29 Precedence: list List-Id: automatic DPDK test reports List-Unsubscribe: , List-Archive: List-Post: List-Help: List-Subscribe: , Errors-To: test-report-bounces@dpdk.org _Testing PASS_ Branch: next-net-brcm-for-next-net bfb6c9fbcbaada197af422b704cf71b777f85fff --> testing pass Upstream job id: Generic-VM-Unit-Test-DPDK#32208 Test environment and result as below: +-------------------------------+----------------+ | Environment | dpdk_unit_test | +===============================+================+ | Fedora Linux 42 | PASS | +-------------------------------+----------------+ | Red Hat Enterprise Linux 9.5 | PASS | +-------------------------------+----------------+ | Ubuntu 20.04 | PASS | +-------------------------------+----------------+ | Ubuntu 24.04 | PASS | +-------------------------------+----------------+ | CentOS Stream 10 | PASS | +-------------------------------+----------------+ | Fedora Linux 41 | PASS | +-------------------------------+----------------+ | Debian GNU/Linux 12 | PASS | +-------------------------------+----------------+ | Red Hat Enterprise Linux 8.10 | PASS | +-------------------------------+----------------+ | Fedora Linux 40 | PASS | +-------------------------------+----------------+ | Ubuntu 22.04 | PASS | +-------------------------------+----------------+ | CentOS Stream 9 | PASS | +-------------------------------+----------------+ | Windows Server 2022 | PASS | +-------------------------------+----------------+ Fedora Linux 42 Kernel: 5.15 Compiler: gcc gcc (GCC) 15.2.1 20250808 (Red Hat 15.2.1-1) Red Hat Enterprise Linux 9.5 Kernel: 5.15 Compiler: gcc gcc (GCC) 11.5.0 20240719 (Red Hat 11.5.0-2) Ubuntu 20.04 Kernel: 5.15 Compiler: gcc gcc (Ubuntu 9.4.0-1ubuntu1~20.04.2) 9.4.0 Ubuntu 24.04 Kernel: 5.15 Compiler: gcc gcc (Ubuntu 13.3.0-6ubuntu2~24.04) 13.3.0 CentOS Stream 10 Kernel: 5.15 Compiler: gcc gcc (GCC) 14.2.1 20250110 (Red Hat 14.2.1-8) Fedora Linux 41 Kernel: 5.15 Compiler: clang gcc (GCC) 14.3.1 20250523 (Red Hat 14.3.1-1) Debian GNU/Linux 12 Kernel: 5.15 Compiler: gcc gcc (Debian 12.2.0-14+deb12u1) 12.2.0 Red Hat Enterprise Linux 8.10 Kernel: 5.15 Compiler: gcc gcc (GCC) 8.5.0 20210514 (Red Hat 8.5.0-22) Fedora Linux 40 Kernel: 5.15 Compiler: gcc gcc (GCC) 14.2.1 20240912 (Red Hat 14.2.1-3) Ubuntu 22.04 Kernel: 5.15 Compiler: gcc gcc (Ubuntu 11.4.0-1ubuntu1~22.04) 11.4.0 CentOS Stream 9 Kernel: 5.15 Compiler: gcc gcc (GCC) 11.5.0 20240719 (Red Hat 11.5.0-11) Windows Server 2022 Kernel: 10.0.20348.2031 Compiler: clang 15.0.7, gcc 14.1.0 (MinGW), and MSVC VS 19.39.33521 To view detailed results, visit: https://lab.dpdk.org/results/dashboard/tarballs/35413/ UNH-IOL DPDK Community Lab To manage your email subscriptions, visit: https://lab.dpdk.org/results/dashboard/preferences/subscriptions/