From mboxrd@z Thu Jan 1 00:00:00 1970 Return-Path: Received: from mails.dpdk.org (mails.dpdk.org [217.70.189.124]) by inbox.dpdk.org (Postfix) with ESMTP id 940C548A46 for ; Fri, 31 Oct 2025 18:41:44 +0100 (CET) Received: from mails.dpdk.org (localhost [127.0.0.1]) by mails.dpdk.org (Postfix) with ESMTP id 75F5040150; Fri, 31 Oct 2025 18:41:44 +0100 (CET) Received: from mail-oa1-f97.google.com (mail-oa1-f97.google.com [209.85.160.97]) by mails.dpdk.org (Postfix) with ESMTP id E592940150 for ; Fri, 31 Oct 2025 18:41:42 +0100 (CET) Received: by mail-oa1-f97.google.com with SMTP id 586e51a60fabf-3d3116a5a26so1793137fac.3 for ; Fri, 31 Oct 2025 10:41:42 -0700 (PDT) DKIM-Signature: v=1; a=rsa-sha256; c=relaxed/relaxed; d=iol.unh.edu; s=unh-iol; t=1761932502; x=1762537302; darn=dpdk.org; h=references:in-reply-to:cc:to:from:subject:message-id:date:from:to :cc:subject:date:message-id:reply-to; bh=kdWhtG+OWGi/ZPKi/iQWN8YBuqDFa6ufbD/O7IyN7YU=; b=Z3bbmb3ok2vJzNNS+gUs/TAPTkQWBoLjOYVcJ0oj7ARWLCQtn9tWZN1LQ1qKFDLBlU 5pir1iuXUZRTv4/yQ1B86jjullVesUsz3jFlkiWDK799OiKtZnyUf4isMnto1dqoDc8q oAeZxkx6Zt6dn4kLwPt/QoQDJPIArYb6JoRcI= X-Google-DKIM-Signature: v=1; a=rsa-sha256; c=relaxed/relaxed; d=1e100.net; s=20230601; t=1761932502; x=1762537302; h=references:in-reply-to:cc:to:from:subject:message-id:date :x-gm-message-state:from:to:cc:subject:date:message-id:reply-to; bh=kdWhtG+OWGi/ZPKi/iQWN8YBuqDFa6ufbD/O7IyN7YU=; b=NMmMD4LbW2L0GPt29OkTMVL8FXZfTtDR9HAul7aCJFzWH5FbO+BZD8qiFtTX3EPb5g 2Jlct5QULyhRCZV5kKWHFOem/dDO0E1VN1M0y6EmcD8W+UIwrHibefb3TFQ/eh5tY0Zt Lky0uEzmgCceJSJAOheJiwuFducGCyukun4xS6P/2IXNizd4ctZFefZm1vgKeNqw4Qxi ndmnf2X1lbwD7iqvDvwF5XS1J+n50UxlZSqf5aToI9HeoclyRySC3/OkVZhxUFcr9Wak iU6y8oU/his4qm+5uSW7J6amsl7HhizqeEq6Oxu5GYQ7dRJwkZHheCqxa9/fVqFPfGIh CQlQ== X-Gm-Message-State: AOJu0Yx1K1FkkCp1T9wEvq/HF/7VAHM6m8fkcrw8oedgnEAFy+OqXfgt 9PzjGJGPGPKHJCX0LIkREqU4sV9/B61S1+JCwbdbW4OfvDvU5J2V3zNb5oH2hEJAQHol6CrqavM Omxbfoh5CtmGNCNuYXB+rQLk7y4V8+gC2JFW9a/q2cqVT X-Gm-Gg: ASbGncuRSfE0vDxurva1E/kUTz6pVnMOBR2pkO9GVb/FIYK4tmsq4pBvY+fmWOGKaBS fkDsYWNOBih2qbHDPyMlCqPiThQiREYdj74T0rsA+USz1Jd/F0eIu1SltPRhgiel2M1mYAFE2EW zKy0SKBfRCoHDOmfR/jETlR0yvwfjtgFCsPGvYQzgMCY/QaHJWEOi+1u0ZAkTTV4vGxs6TbEW2q R+CWXcim4vRNu/97Ep+3wtFIZVcJcxtvXSt80cAoBauh9sJGCTbvY+0P0qPah9tGW+eeSymlrtS VIMtjT5W4i1olliXV29ozB5eQKZIshY8VQ8ZTHbN+IgTVlK2X/I/Aa1CmhYnSY/w22CnLy6uUza 9SgbluaU4LTNMQTno4iElo49pXe3zejE= X-Google-Smtp-Source: AGHT+IFfEX14TOKB3ua/7bfE607ORDE3SCidhVutxbnpVCdCK0QNMU5i2bao6FRDyWxQ3AMhFZXa1HzVlnnp X-Received: by 2002:a05:6808:50a8:b0:44d:a639:4077 with SMTP id 5614622812f47-44f96032906mr1872740b6e.52.1761932501887; Fri, 31 Oct 2025 10:41:41 -0700 (PDT) Received: from postal.iol.unh.edu (postal.iol.unh.edu. [132.177.123.84]) by smtp-relay.gmail.com with ESMTPS id 586e51a60fabf-3db427a90c5sm187478fac.21.2025.10.31.10.41.41 (version=TLS1_2 cipher=ECDHE-ECDSA-AES128-GCM-SHA256 bits=128/128); Fri, 31 Oct 2025 10:41:41 -0700 (PDT) X-Relaying-Domain: iol.unh.edu Date: Fri, 31 Oct 2025 10:41:41 -0700 (PDT) Message-ID: <6904f4d5.050a0220.3b8a50.9dacSMTPIN_ADDED_MISSING@mx.google.com> Received: from [172.21.0.2] (unknown [172.18.0.240]) by postal.iol.unh.edu (Postfix) with ESMTP id 6D480604D420; Fri, 31 Oct 2025 13:41:41 -0400 (EDT) Subject: |SUCCESS| pw158314 [PATCH] [1/1] test/memcpy: reduce duration From: dpdklab@iol.unh.edu To: Test Report Cc: dpdk-test-reports@iol.unh.edu In-Reply-To: <20251031114310.4062899-1-thomas@monjalon.net> References: <20251031114310.4062899-1-thomas@monjalon.net> Content-Type: text/plain X-BeenThere: test-report@dpdk.org X-Mailman-Version: 2.1.29 Precedence: list List-Id: automatic DPDK test reports List-Unsubscribe: , List-Archive: List-Post: List-Help: List-Subscribe: , Errors-To: test-report-bounces@dpdk.org Test-Label: iol-compile-arm64-testing Test-Status: SUCCESS http://dpdk.org/patch/158314 _Testing PASS_ Submitter: Thomas Monjalon Date: Friday, October 31 2025 11:43:09 DPDK git baseline: Repo:dpdk Branch: master CommitID:8c4861d00aabcf54ef9d6f1df2a4cfb37c06f6c2 158314 --> testing pass Upstream job id: Generic-DPDK-Compile-Meson#439596 Test environment and result as below: +------------------------------+--------------------+ | Environment | dpdk_meson_compile | +==============================+====================+ | Red Hat Enterprise Linux 9.5 | PASS | +------------------------------+--------------------+ | Ubuntu 20.04 | PASS | +------------------------------+--------------------+ | Debian GNU/Linux 12 | PASS | +------------------------------+--------------------+ | Fedora Linux 42 | PASS | +------------------------------+--------------------+ | Ubuntu 22.04 | PASS | +------------------------------+--------------------+ | Ubuntu 24.04 | PASS | +------------------------------+--------------------+ | CentOS Stream 9 | PASS | +------------------------------+--------------------+ | CentOS Stream 10 | PASS | +------------------------------+--------------------+ Red Hat Enterprise Linux 9.5 Kernel: 5.4 Compiler: gcc gcc (GCC) 11.5.0 20240719 (Red Hat 11.5.0-2) Ubuntu 20.04 Kernel: 5.15 Compiler: aarch64-linux-gnu-gcc gcc (Ubuntu 9.4.0-1ubuntu1~20.04.2) 9.4.0 Debian GNU/Linux 12 Kernel: 5.4 Compiler: gcc gcc (Debian 12.2.0-14+deb12u1) 12.2.0 Fedora Linux 42 Kernel: 5.4 Compiler: gcc gcc (GCC) 15.2.1 20250808 (Red Hat 15.2.1-1) Ubuntu 22.04 Kernel: 5.4 Compiler: gcc gcc (Ubuntu 11.4.0-1ubuntu1~22.04) 11.4.0 Ubuntu 24.04 Kernel: 5.4 Compiler: gcc gcc (Ubuntu 13.3.0-6ubuntu2~24.04) 13.3.0 CentOS Stream 9 Kernel: 5.4 Compiler: gcc gcc (GCC) 11.5.0 20240719 (Red Hat 11.5.0-11) CentOS Stream 10 Kernel: 5.4 Compiler: gcc gcc (GCC) 14.2.1 20250110 (Red Hat 14.2.1-8) To view detailed results, visit: https://lab.dpdk.org/results/dashboard/patchsets/34430/ UNH-IOL DPDK Community Lab To manage your email subscriptions, visit: https://lab.dpdk.org/results/dashboard/preferences/subscriptions/