From mboxrd@z Thu Jan 1 00:00:00 1970 Return-Path: Received: from mails.dpdk.org (mails.dpdk.org [217.70.189.124]) by inbox.dpdk.org (Postfix) with ESMTP id 0A59648A4F for ; Fri, 31 Oct 2025 19:42:55 +0100 (CET) Received: from mails.dpdk.org (localhost [127.0.0.1]) by mails.dpdk.org (Postfix) with ESMTP id D96FD40150; Fri, 31 Oct 2025 19:42:54 +0100 (CET) Received: from mail-io1-f98.google.com (mail-io1-f98.google.com [209.85.166.98]) by mails.dpdk.org (Postfix) with ESMTP id 8A7FA40150 for ; Fri, 31 Oct 2025 19:42:53 +0100 (CET) Received: by mail-io1-f98.google.com with SMTP id ca18e2360f4ac-940d327df21so104107039f.1 for ; Fri, 31 Oct 2025 11:42:53 -0700 (PDT) DKIM-Signature: v=1; a=rsa-sha256; c=relaxed/relaxed; d=iol.unh.edu; s=unh-iol; t=1761936173; x=1762540973; darn=dpdk.org; h=references:in-reply-to:cc:to:from:subject:message-id:date:from:to :cc:subject:date:message-id:reply-to; bh=zdNT9i05mqDJmC/ErRt5qlwl2N0HvXu6K8ktnqk7tQM=; b=IKdP6NMSrfU63JIdTvprKbollIrnbi662cZVaA4f9ObzRtY9QD1YChxkOVkrpOKO4Z sabuGbtDSqaEc83enuj9lhkTelPBZIROwEjT5m1hro3V7E9nTw+jSshQoFfqkxMZLRvS DueVmX8ms0vhpdGgF7nZablVAcEgTvYQh9/Bw= X-Google-DKIM-Signature: v=1; a=rsa-sha256; c=relaxed/relaxed; d=1e100.net; s=20230601; t=1761936173; x=1762540973; h=references:in-reply-to:cc:to:from:subject:message-id:date :x-gm-message-state:from:to:cc:subject:date:message-id:reply-to; bh=zdNT9i05mqDJmC/ErRt5qlwl2N0HvXu6K8ktnqk7tQM=; b=E2cMYAoHKD4IfjvH0+xTl4ghez8ARTjOf6ksca+ucZyap0Q4j+aJ/T2zf7zX9nFgvg RBqCNpRgtd4UR2r1SI6qORsX7XS7Z6iqLge7Bt4IQoeP5Iiy2Oo5rtSB1V1bTD8vuGOP oTqmhyyMA/C9LZw5PXPupSnVe5gY7k6Vlja+roWq5sicFhM4Q6x0z+9mI5aMqzYY/FTm Flt2ztijMCEGae6O7KL+XmVpfH5lhp7RE3VgLIh1fRqXqAEvNuRKYJvodxvczR/y53Ea ysnkH0TFcfMTy38HIPNeh8Wd5tSXt/xiw8jL9CS4zs2gjTTOgURDeRVFCjCVcdeNXt5V jOSg== X-Gm-Message-State: AOJu0YwDwTWOpVmg11oJoheI3mfaYeEiL6bdlkFD+JFrFRkoQhevB5Jt n7krQ5nMYREKk5nbUvBuN0rMUYbY2BwNlDs3u7CPt1er7RAcC3a0vEtcavYKFMcu8Clgeh8Xo/g t88NrMv7YqJk9IwJk5fO6EDN7v3VJxJY/9naX3oa9/Pdz X-Gm-Gg: ASbGncuQGE8Tq2sz5UGQkJhJ//VeHpV0vCg3jdHlClLep3nl6EvYOZ1gkC9I3EoMhHO 6Fo3gU0sY014e14+L82Fgs43T5Ly5Tm5Xwt2O7aJWRiobefCKq0sWseAVpw07NeNY3VjWl4th6s SE6fSdwBfo7ihjau3HpZwhID+Et5r6BuvXT6GxCNtw8o23jQJZBhU4/ZwmdguUmiLOGPr0EKZQK miipOsH9Azd47okn0JJvgF+zVX5ETp8Xq4UamChZQZP8P5Y+iI3atBvR3x01iPYXlNvKQUZggib AgnFOMEkgszTBJF07Ja7ArrGWAyprV+tBVtZZa9KX18RL/dvwFmzdbKqNd8lT/pno4sMzvvyH1p M0UarE7LItlVRoW02y/fNnvrQX9h9EHc= X-Google-Smtp-Source: AGHT+IFl9rWyGkYcwDDuCrIJWLt1TS35F2x7qqnGheq3HF4eOIB0TbQKQi90zJRSMBkWPfYNR9uceOuBEpho X-Received: by 2002:a05:6602:6010:b0:93b:ba4a:3b65 with SMTP id ca18e2360f4ac-94822881e13mr650656339f.2.1761936172697; Fri, 31 Oct 2025 11:42:52 -0700 (PDT) Received: from postal.iol.unh.edu (postal.iol.unh.edu. [132.177.123.84]) by smtp-relay.gmail.com with ESMTPS id 8926c6da1cb9f-5b6a035a4f4sm227215173.0.2025.10.31.11.42.52 (version=TLS1_2 cipher=ECDHE-ECDSA-AES128-GCM-SHA256 bits=128/128); Fri, 31 Oct 2025 11:42:52 -0700 (PDT) X-Relaying-Domain: iol.unh.edu Date: Fri, 31 Oct 2025 11:42:52 -0700 (PDT) Message-ID: <6905032c.050a0220.1bb7a7.cb1cSMTPIN_ADDED_MISSING@mx.google.com> Received: from [172.21.0.2] (unknown [172.18.0.240]) by postal.iol.unh.edu (Postfix) with ESMTP id 28CAD6051830; Fri, 31 Oct 2025 14:42:52 -0400 (EDT) Subject: |SUCCESS| pw158317 [PATCH] [1/1] move SPDX tag on the first line From: dpdklab@iol.unh.edu To: Test Report Cc: dpdk-test-reports@iol.unh.edu In-Reply-To: <20251031142018.49319-1-thomas@monjalon.net> References: <20251031142018.49319-1-thomas@monjalon.net> Content-Type: text/plain X-BeenThere: test-report@dpdk.org X-Mailman-Version: 2.1.29 Precedence: list List-Id: automatic DPDK test reports List-Unsubscribe: , List-Archive: List-Post: List-Help: List-Subscribe: , Errors-To: test-report-bounces@dpdk.org Test-Label: iol-compile-arm64-testing Test-Status: SUCCESS http://dpdk.org/patch/158317 _Testing PASS_ Submitter: Thomas Monjalon Date: Friday, October 31 2025 14:20:14 DPDK git baseline: Repo:dpdk Branch: master CommitID:8c4861d00aabcf54ef9d6f1df2a4cfb37c06f6c2 158317 --> testing pass Upstream job id: Generic-DPDK-Compile-Meson#439622 Test environment and result as below: +------------------------------+--------------------+ | Environment | dpdk_meson_compile | +==============================+====================+ | Red Hat Enterprise Linux 9.5 | PASS | +------------------------------+--------------------+ | Ubuntu 20.04 | PASS | +------------------------------+--------------------+ | Fedora Linux 42 | PASS | +------------------------------+--------------------+ | Ubuntu 24.04 | PASS | +------------------------------+--------------------+ | Debian GNU/Linux 12 | PASS | +------------------------------+--------------------+ | CentOS Stream 10 | PASS | +------------------------------+--------------------+ | Ubuntu 22.04 | PASS | +------------------------------+--------------------+ | CentOS Stream 9 | PASS | +------------------------------+--------------------+ Red Hat Enterprise Linux 9.5 Kernel: 5.4 Compiler: gcc gcc (GCC) 11.5.0 20240719 (Red Hat 11.5.0-2) Ubuntu 20.04 Kernel: 5.15 Compiler: aarch64-linux-gnu-gcc gcc (Ubuntu 9.4.0-1ubuntu1~20.04.2) 9.4.0 Fedora Linux 42 Kernel: 5.4 Compiler: gcc gcc (GCC) 15.2.1 20250808 (Red Hat 15.2.1-1) Ubuntu 24.04 Kernel: 5.4 Compiler: gcc gcc (Ubuntu 13.3.0-6ubuntu2~24.04) 13.3.0 Debian GNU/Linux 12 Kernel: 5.4 Compiler: gcc gcc (Debian 12.2.0-14+deb12u1) 12.2.0 CentOS Stream 10 Kernel: 5.4 Compiler: gcc gcc (GCC) 14.2.1 20250110 (Red Hat 14.2.1-8) Ubuntu 22.04 Kernel: 5.4 Compiler: gcc gcc (Ubuntu 11.4.0-1ubuntu1~22.04) 11.4.0 CentOS Stream 9 Kernel: 5.4 Compiler: gcc gcc (GCC) 11.5.0 20240719 (Red Hat 11.5.0-11) To view detailed results, visit: https://lab.dpdk.org/results/dashboard/patchsets/34433/ UNH-IOL DPDK Community Lab To manage your email subscriptions, visit: https://lab.dpdk.org/results/dashboard/preferences/subscriptions/