From mboxrd@z Thu Jan 1 00:00:00 1970 Return-Path: Received: from mails.dpdk.org (mails.dpdk.org [217.70.189.124]) by inbox.dpdk.org (Postfix) with ESMTP id 3166648A4A for ; Fri, 31 Oct 2025 20:35:55 +0100 (CET) Received: from mails.dpdk.org (localhost [127.0.0.1]) by mails.dpdk.org (Postfix) with ESMTP id 137CC40150; Fri, 31 Oct 2025 20:35:55 +0100 (CET) Received: from mail-il1-f226.google.com (mail-il1-f226.google.com [209.85.166.226]) by mails.dpdk.org (Postfix) with ESMTP id 7EA0240150 for ; Fri, 31 Oct 2025 20:35:53 +0100 (CET) Received: by mail-il1-f226.google.com with SMTP id e9e14a558f8ab-4330dfb6ea3so5520055ab.0 for ; Fri, 31 Oct 2025 12:35:53 -0700 (PDT) DKIM-Signature: v=1; a=rsa-sha256; c=relaxed/relaxed; d=iol.unh.edu; s=unh-iol; t=1761939353; x=1762544153; darn=dpdk.org; h=references:in-reply-to:cc:to:from:subject:message-id:date:from:to :cc:subject:date:message-id:reply-to; bh=62IJ0TjippJcv/gzsJTILo+XAApW+2YFph6y+c+6NV8=; b=anVd8weuEqfQmYLsHDp+2WkHGPQrEJnWq7UlsacH0L7b9Vby2CpZa84rnoLfcYPMFh tPKOmUiEiQQhWYhilYeW2oi1k/Bq9ganNUDgY652Ihwc/YdPsalIZ6f/D/kBkA53QAdr 2tISiju5v4LnG7e9DUA0CG0hhkEy8V9rL0izc= X-Google-DKIM-Signature: v=1; a=rsa-sha256; c=relaxed/relaxed; d=1e100.net; s=20230601; t=1761939353; x=1762544153; h=references:in-reply-to:cc:to:from:subject:message-id:date :x-gm-message-state:from:to:cc:subject:date:message-id:reply-to; bh=62IJ0TjippJcv/gzsJTILo+XAApW+2YFph6y+c+6NV8=; b=aNMlBJrSyw3n/ppL2J3stj+LJFKPN4UKMeitmhJvOhSS2THgEzwMc/Cf36c+JQB7UB oLl6DqC6NUXMXa6NbiqYvDtk9EU53SNhUXzdbgEoqFAuYRJFLd+0oWL1sXZuLU+tNdZK R9OsyLs6TDrzO4m4JVETXtcdQhyP1Bx+2VwaT8J3ByiEuAy109IjzU28NlbgderGscIO SUNghoc8DR6eNewpvlHGN18DKgfLkRpsfNa0VOwfyr6qrrbM3oQA39faAGeQxq7LL1Tp 0f/hGVGqckn/byfy/7qbUN59+9c7aLnYoc1wtY1ZsP+4iPjw91wIqsZiTiFMp2AwKC43 b6Kw== X-Gm-Message-State: AOJu0YzKQiGA7mAvuj+eh88P/yxZREjgX85wB93uUWngXP2Nzbi/L9Ef 9jsEqdYaNcFREN3/0LiTzhLF8hKI88HIaV5gypSPhxfLl5Z7EZPcBGZlAJjm0mnzZjIPLR0ht+g IZEbDwLuW1ieKJv3Kkodg49nKYTy1yPeG6v+UMd2Y9yOjwrEjf+oHDtdamgld X-Gm-Gg: ASbGncsfKUtuUlOecQFVfHalOIpZUILd5/1fjlj3B1e6nlp1coksNq9wqNoWsmC0nhS dlfRkyeYNveZyvEnOLWpck09cH3+zC0gZUP3j2hN987X1copb9Yh4qMiEpQ8v/YMVsaiCmbFmZy SKltFZotvGKNkboHf3nfjh2yigViH2cCO1hPldKvYS0Xz3w4ocsRKgH0QyxAtktYVRJ7f5pavBI Se+xmIrVqK9xpnDqF6tkrJNdXwOWMvq5e7XiJxEvC6e4SistobE6CBgfkVZWzi28DxDhACaU2fs xXCoMcEUOkTuwpNFtgX9Yrzrlt8Mmcffs/4ZFjowmIYdGZoXG7v5aCvW7TFsHsSrKPOjNeAJmbp hKJ7tuorR X-Google-Smtp-Source: AGHT+IFeZMVtAQkziYQErbaW062Wiy5LqZeO9qs0X0Unwpf7ehQnTCtQAKJPQbsbQYkr79bSPgNJ/cUuEILk X-Received: by 2002:a05:6e02:1aad:b0:432:fbe2:3605 with SMTP id e9e14a558f8ab-4330d12a2f0mr78520905ab.11.1761939352653; Fri, 31 Oct 2025 12:35:52 -0700 (PDT) Received: from postal.iol.unh.edu (postal.iol.unh.edu. [2606:4100:3880:1234::84]) by smtp-relay.gmail.com with ESMTPS id e9e14a558f8ab-4331031bcefsm2184705ab.21.2025.10.31.12.35.52 (version=TLS1_2 cipher=ECDHE-ECDSA-AES128-GCM-SHA256 bits=128/128); Fri, 31 Oct 2025 12:35:52 -0700 (PDT) X-Relaying-Domain: iol.unh.edu Date: Fri, 31 Oct 2025 12:35:52 -0700 (PDT) Message-ID: <69050f98.050a0220.2cba9.b768SMTPIN_ADDED_MISSING@mx.google.com> Received: from [172.21.0.2] (unknown [172.18.0.240]) by postal.iol.unh.edu (Postfix) with ESMTP id 277EC6050A61; Fri, 31 Oct 2025 15:35:52 -0400 (EDT) Subject: |SUCCESS| pw158318-158319 [PATCH] [2/2] net/iavf: fix single VLAN in From: dpdklab@iol.unh.edu To: Test Report Cc: dpdk-test-reports@iol.unh.edu In-Reply-To: <20251031152250.2441980-3-ciara.loftus@intel.com> References: <20251031152250.2441980-3-ciara.loftus@intel.com> Content-Type: text/plain X-BeenThere: test-report@dpdk.org X-Mailman-Version: 2.1.29 Precedence: list List-Id: automatic DPDK test reports List-Unsubscribe: , List-Archive: List-Post: List-Help: List-Subscribe: , Errors-To: test-report-bounces@dpdk.org Test-Label: iol-compile-arm64-testing Test-Status: SUCCESS http://dpdk.org/patch/158319 _Testing PASS_ Submitter: Ciara Loftus Date: Friday, October 31 2025 15:22:50 DPDK git baseline: Repo:dpdk Branch: master CommitID:8c4861d00aabcf54ef9d6f1df2a4cfb37c06f6c2 158318-158319 --> testing pass Upstream job id: Generic-DPDK-Compile-Meson#439637 Test environment and result as below: +------------------------------+--------------------+ | Environment | dpdk_meson_compile | +==============================+====================+ | CentOS Stream 9 | PASS | +------------------------------+--------------------+ | Fedora Linux 42 | PASS | +------------------------------+--------------------+ | Ubuntu 20.04 | PASS | +------------------------------+--------------------+ | Red Hat Enterprise Linux 9.5 | PASS | +------------------------------+--------------------+ | Ubuntu 24.04 | PASS | +------------------------------+--------------------+ | Debian GNU/Linux 12 | PASS | +------------------------------+--------------------+ | Ubuntu 22.04 | PASS | +------------------------------+--------------------+ | CentOS Stream 10 | PASS | +------------------------------+--------------------+ CentOS Stream 9 Kernel: 5.4 Compiler: gcc gcc (GCC) 11.5.0 20240719 (Red Hat 11.5.0-11) Fedora Linux 42 Kernel: 5.4 Compiler: gcc gcc (GCC) 15.2.1 20250808 (Red Hat 15.2.1-1) Ubuntu 20.04 Kernel: 5.4 Compiler: gcc gcc (Ubuntu 9.4.0-1ubuntu1~20.04.2) 9.4.0 Red Hat Enterprise Linux 9.5 Kernel: 5.4 Compiler: gcc gcc (GCC) 11.5.0 20240719 (Red Hat 11.5.0-2) Ubuntu 24.04 Kernel: 5.4 Compiler: gcc gcc (Ubuntu 13.3.0-6ubuntu2~24.04) 13.3.0 Debian GNU/Linux 12 Kernel: 5.4 Compiler: gcc gcc (Debian 12.2.0-14+deb12u1) 12.2.0 Ubuntu 22.04 Kernel: 5.4 Compiler: gcc gcc (Ubuntu 11.4.0-1ubuntu1~22.04) 11.4.0 CentOS Stream 10 Kernel: 5.4 Compiler: gcc gcc (GCC) 14.2.1 20250110 (Red Hat 14.2.1-8) To view detailed results, visit: https://lab.dpdk.org/results/dashboard/patchsets/34434/ UNH-IOL DPDK Community Lab To manage your email subscriptions, visit: https://lab.dpdk.org/results/dashboard/preferences/subscriptions/