From mboxrd@z Thu Jan 1 00:00:00 1970 Return-Path: Received: from mails.dpdk.org (mails.dpdk.org [217.70.189.124]) by inbox.dpdk.org (Postfix) with ESMTP id A159B48A4A for ; Fri, 31 Oct 2025 20:41:50 +0100 (CET) Received: from mails.dpdk.org (localhost [127.0.0.1]) by mails.dpdk.org (Postfix) with ESMTP id 8CCC840150; Fri, 31 Oct 2025 20:41:50 +0100 (CET) Received: from mail-qv1-f99.google.com (mail-qv1-f99.google.com [209.85.219.99]) by mails.dpdk.org (Postfix) with ESMTP id AAE0240150 for ; Fri, 31 Oct 2025 20:41:49 +0100 (CET) Received: by mail-qv1-f99.google.com with SMTP id 6a1803df08f44-87bb66dd224so29964966d6.3 for ; Fri, 31 Oct 2025 12:41:49 -0700 (PDT) DKIM-Signature: v=1; a=rsa-sha256; c=relaxed/relaxed; d=iol.unh.edu; s=unh-iol; t=1761939709; x=1762544509; darn=dpdk.org; h=references:in-reply-to:cc:to:from:subject:message-id:date:from:to :cc:subject:date:message-id:reply-to; bh=xmPBtUV+JIEAh8Fpxh/bmOYv1LMAHnniQxmUuVIg1Zk=; b=HSDbHcwbt2r/wVmhEqlqB+9Y7Dgp/6Nc+fPugqqJulfIYgDfhFpLjJboDgsth3wHXD eMYTepSUqRKsmVy2UDAdOBFK30y/eYfIMTUBC/KjrM4UIhVtamR/W6fn7ze5wLIQZp0Y VdF6TKVOLyrrvLstY/643FCYASoBh1nbWKoA8= X-Google-DKIM-Signature: v=1; a=rsa-sha256; c=relaxed/relaxed; d=1e100.net; s=20230601; t=1761939709; x=1762544509; h=references:in-reply-to:cc:to:from:subject:message-id:date :x-gm-message-state:from:to:cc:subject:date:message-id:reply-to; bh=xmPBtUV+JIEAh8Fpxh/bmOYv1LMAHnniQxmUuVIg1Zk=; b=izYIQljEUw1teuDCDzZipsyq48gglmpOlZod7F/zNCTpM9X7cf0aldiPhwP8LogvmA C7sHEdlQictL/ZCfehjN3ApGrA9un4pB2HLn0vjuxCJcGMl8+tgl5v5lrtrUnz8FMUAT dIfj26KPH2D5aXOC/+jgRRE2y/DCUlAf9SlonBLRP+i+P3NUNXbmoMnY4AtCwSfHfd8X Lv85RUfrxuLLqg+p+FhlH3pENjbXkAmIUw4THboIiiewss/a79TXLFRVWr9nyuiE2nzU wKt0sRdckkAJFrIU0OhsIKywKJoIkwS0JZi3rXGMjM4GmwUOytaA3QIgDJatQS0t1mJ4 +4wQ== X-Gm-Message-State: AOJu0Ywv+ZKD5t7NTN+6RhJyzupj7fnT/MshHIkRs7FOu1n2AE6LfCs3 +v6NlS610yXunDC+AgKSTUMe2UVgqV5aGYatiIOK3o1rXaXOocxNWeOb60RZY6sToK5J/O81InV PMmu4Z3TB8Tzs/RK2dM3AkBg3LAq5lYF1X6RFCz5JIJE1 X-Gm-Gg: ASbGncvdAaomgeTMLMFIf3/NL5L7O51wdSw5RDAAU11sLugDn61YGSPIs1Ee8iXzkuR xMOKHYOVUTrtlDPY2sWyi5nqY2NTJITIk8PeK+gIxBEwVytuEP1dFFnzNbjuZlVawTPdAMghQAQ QMj2a6tGAw0FGhbjoMmAn77HbX8rYVeEQGpe5z0iqibky9HWvGK3qV9Gyr0XfRNrN/ssVQ7Q1GM hwXeVxHP1C+fkzZy3PF7fF8VYpg83T1ObZSgcVSe8KSkJHdmxqjUFujW/DBC0s7kc28167q/SvC XQ3AWGdFi1AKo4PSfGdgRiOcdITg5R3GCwoo6khCW9viVYwJygybldyKvyamUEhlzF73Q+QyCrv v7iyppcLwp6m0VAckjPmroN4MVRvvCq4= X-Google-Smtp-Source: AGHT+IFHGTfQ86Sim1mCF/oTHXwkAkA6GxWYjFrOJebrfvRJ8/fbDXugP/6aRPnDNdV1kXg65ws/XxmH3P9a X-Received: by 2002:ac8:5713:0:b0:4d8:372b:e16a with SMTP id d75a77b69052e-4ed30e14892mr56652551cf.4.1761939708964; Fri, 31 Oct 2025 12:41:48 -0700 (PDT) Received: from postal.iol.unh.edu (postal.iol.unh.edu. [132.177.123.84]) by smtp-relay.gmail.com with ESMTPS id af79cd13be357-8ac024c5417sm22326985a.5.2025.10.31.12.41.48 (version=TLS1_2 cipher=ECDHE-ECDSA-AES128-GCM-SHA256 bits=128/128); Fri, 31 Oct 2025 12:41:48 -0700 (PDT) X-Relaying-Domain: iol.unh.edu Date: Fri, 31 Oct 2025 12:41:48 -0700 (PDT) Message-ID: <690510fc.050a0220.1ce461.bd2eSMTPIN_ADDED_MISSING@mx.google.com> Received: from [172.21.0.2] (unknown [172.18.0.240]) by postal.iol.unh.edu (Postfix) with ESMTP id AA30E604D420; Fri, 31 Oct 2025 15:41:48 -0400 (EDT) Subject: |SUCCESS| pw158317 [PATCH] [1/1] move SPDX tag on the first line From: dpdklab@iol.unh.edu To: Test Report Cc: dpdk-test-reports@iol.unh.edu In-Reply-To: <20251031142018.49319-1-thomas@monjalon.net> References: <20251031142018.49319-1-thomas@monjalon.net> Content-Type: text/plain X-BeenThere: test-report@dpdk.org X-Mailman-Version: 2.1.29 Precedence: list List-Id: automatic DPDK test reports List-Unsubscribe: , List-Archive: List-Post: List-Help: List-Subscribe: , Errors-To: test-report-bounces@dpdk.org Test-Label: iol-unit-arm64-testing Test-Status: SUCCESS http://dpdk.org/patch/158317 _Testing PASS_ Submitter: Thomas Monjalon Date: Friday, October 31 2025 14:20:14 DPDK git baseline: Repo:dpdk Branch: master CommitID:8c4861d00aabcf54ef9d6f1df2a4cfb37c06f6c2 158317 --> testing pass Upstream job id: Generic-Unit-Test-DPDK#387322 Test environment and result as below: +------------------------------+----------------+------------------------------+---------------------------+--------------+ | Environment | dpdk_unit_test | cryptodev_sw_snow3g_autotest | cryptodev_sw_zuc_autotest | lpm_autotest | +==============================+================+==============================+===========================+==============+ | Debian GNU/Linux 12 | PASS | SKIPPED | SKIPPED | SKIPPED | +------------------------------+----------------+------------------------------+---------------------------+--------------+ | Red Hat Enterprise Linux 9.5 | PASS | SKIPPED | SKIPPED | SKIPPED | +------------------------------+----------------+------------------------------+---------------------------+--------------+ | Ubuntu 20.04 | PASS | SKIPPED | SKIPPED | PASS | +------------------------------+----------------+------------------------------+---------------------------+--------------+ | Fedora Linux 40 | PASS | SKIPPED | SKIPPED | SKIPPED | +------------------------------+----------------+------------------------------+---------------------------+--------------+ | CentOS Stream 10 | PASS | SKIPPED | SKIPPED | SKIPPED | +------------------------------+----------------+------------------------------+---------------------------+--------------+ | CentOS Stream 9 | PASS | SKIPPED | SKIPPED | SKIPPED | +------------------------------+----------------+------------------------------+---------------------------+--------------+ | Fedora Linux 41 | PASS | SKIPPED | SKIPPED | SKIPPED | +------------------------------+----------------+------------------------------+---------------------------+--------------+ | Fedora Linux 42 | PASS | SKIPPED | SKIPPED | SKIPPED | +------------------------------+----------------+------------------------------+---------------------------+--------------+ | Ubuntu 22.04 | PASS | SKIPPED | SKIPPED | SKIPPED | +------------------------------+----------------+------------------------------+---------------------------+--------------+ | Ubuntu 24.04 | PASS | SKIPPED | SKIPPED | SKIPPED | +------------------------------+----------------+------------------------------+---------------------------+--------------+ | Debian 12 (arm) | SKIPPED | PASS | PASS | SKIPPED | +------------------------------+----------------+------------------------------+---------------------------+--------------+ Debian GNU/Linux 12 Kernel: 5.4 Compiler: gcc gcc (Debian 12.2.0-14+deb12u1) 12.2.0 Red Hat Enterprise Linux 9.5 Kernel: 5.4 Compiler: gcc gcc (GCC) 11.5.0 20240719 (Red Hat 11.5.0-2) Ubuntu 20.04 Kernel: 5.4 Compiler: gcc gcc (Ubuntu 9.4.0-1ubuntu1~20.04.2) 9.4.0 Fedora Linux 40 Kernel: 5.4 Compiler: clang gcc (GCC) 14.2.1 20240912 (Red Hat 14.2.1-3) CentOS Stream 10 Kernel: 5.4 Compiler: gcc gcc (GCC) 14.2.1 20250110 (Red Hat 14.2.1-8) CentOS Stream 9 Kernel: 5.4 Compiler: gcc gcc (GCC) 11.5.0 20240719 (Red Hat 11.5.0-11) Fedora Linux 41 Kernel: 5.4 Compiler: clang gcc (GCC) 14.3.1 20250523 (Red Hat 14.3.1-1) Fedora Linux 42 Kernel: 5.4 Compiler: gcc gcc (GCC) 15.2.1 20250808 (Red Hat 15.2.1-1) Ubuntu 22.04 Kernel: 5.15 Compiler: gcc gcc (Ubuntu 11.4.0-1ubuntu1~22.04.2) 11.4.0 Ubuntu 24.04 Kernel: 5.4 Compiler: gcc gcc (Ubuntu 13.3.0-6ubuntu2~24.04) 13.3.0 Debian 12 (arm) Kernel: Depends on container host Compiler: gcc (Debian 12.2.0-14) 12.2.0 To view detailed results, visit: https://lab.dpdk.org/results/dashboard/patchsets/34433/ UNH-IOL DPDK Community Lab To manage your email subscriptions, visit: https://lab.dpdk.org/results/dashboard/preferences/subscriptions/