From mboxrd@z Thu Jan 1 00:00:00 1970 Return-Path: Received: from mails.dpdk.org (mails.dpdk.org [217.70.189.124]) by inbox.dpdk.org (Postfix) with ESMTP id B746248A46 for ; Fri, 31 Oct 2025 21:45:19 +0100 (CET) Received: from mails.dpdk.org (localhost [127.0.0.1]) by mails.dpdk.org (Postfix) with ESMTP id 88AF840150; Fri, 31 Oct 2025 21:45:19 +0100 (CET) Received: from mail-qv1-f98.google.com (mail-qv1-f98.google.com [209.85.219.98]) by mails.dpdk.org (Postfix) with ESMTP id 6078A40150 for ; Fri, 31 Oct 2025 21:45:18 +0100 (CET) Received: by mail-qv1-f98.google.com with SMTP id 6a1803df08f44-87be45cba29so29710716d6.2 for ; Fri, 31 Oct 2025 13:45:18 -0700 (PDT) DKIM-Signature: v=1; a=rsa-sha256; c=relaxed/relaxed; d=iol.unh.edu; s=unh-iol; t=1761943518; x=1762548318; darn=dpdk.org; h=cc:to:from:subject:message-id:date:from:to:cc:subject:date :message-id:reply-to; bh=IRvduow5PvstYaycylHoBWU9w5GqgFdbW49+4ht2CJk=; b=Wj2v1M6LUBQuVARnR9sAJpCl1XZk4A6cJirZ4uQiOeNTpTShjD5yBoT6LvUaipheJD ocmXVnMtVO2UnctBvZHRGbSdoxPAiZi8BoYZX3Hftn3sVNWGqUvf4tDDrOvbokx1rKpU RgpqXhbj4llzz+obqXW7Qu1KDzZwL2o/GQHmU= X-Google-DKIM-Signature: v=1; a=rsa-sha256; c=relaxed/relaxed; d=1e100.net; s=20230601; t=1761943518; x=1762548318; h=cc:to:from:subject:message-id:date:x-gm-message-state:from:to:cc :subject:date:message-id:reply-to; bh=IRvduow5PvstYaycylHoBWU9w5GqgFdbW49+4ht2CJk=; b=bmzlxN/EIYNspTYH2C5iHSHb/fnoNY1h7k/UdwojvY614PPcJm4KbPCtlzpAJv/Xo2 FwmyUJtKp+l3eTMx2TpF/Or3nsiC6Er4Hl4ByZCjH2vKMXzW6+PMNmljf8GJrT6RFqrF /T82YkIFaJ3yYzKzGaFhxVH2674baEcLWQJXHz1zd8972hSRpIXwlTNN95hnaZYtsk4d UVf7ONYa1hnPDaFuQkDejGcwWuRT6RJxzMhho3HXx4WXME9QuqmCg/u1UWEyo8fCwD6N y5v0+Yqi1iYKLn3N8f3entAeq4LmDyV34ZyUpz+v24wxSIYMLLRGT6yNSUNpQDmSSyfT DLuQ== X-Gm-Message-State: AOJu0YzymRMYqVf1WDYo63q2m9Nza7o68gzS9jSge+54Ro1fBoJM9+Lu XQ158+xyH5Dky2vs9FDgj7lwhFhJO/kHvu2fT7Uvqy9yYJVBs9xQP9Ra5myU/JFnla346ZJ+nEV vhX1j4/QFeEqTSaYMd4nsuP5pi5ND+qM/fZWH X-Gm-Gg: ASbGncujKzSkSB6ZI5rO5rUSPzGQleq1w4fKvxNo4FMuzKcVJrgfI9hAmYPMxXTejO4 +XhgnKi+QOn3l5Rl/i/PcsbitfwWTmQMRGoqIjZkLEpzZQN9KggRtNwsnfLD54w1Mi7Qd8WSqJS 2mAvXgdKgIRmiDlILW5h56P/RnhUiekmligz006X2GwnAvuQIAwIfXx2KuYNfENQucqYIxUMXHZ SI+V+s72qLoSjqMWUsgQ5SVgpbr2nvJbyRLbsRFa8L4pfJWJvbpet8shwmmehVVNWsQloYb0BH5 GRxKP+g16WyTPIODzUTkWJLNlZ8rPI0pl6u7OIGYyN6ER60vZrLXDp/bpFpktbmcg9Zp/X3om2C R0+jiqOCh2nhYHgZBdmu0NSEZhQubgHQ= X-Google-Smtp-Source: AGHT+IGxBMSlxPJIi7RNDMTDtrzzACSrWK0khdrIqiiaT8G6FLERxltqURddZy5Z9FhYLRw7ldPS0QRbn9gb X-Received: by 2002:a05:6214:21a3:b0:81c:96cc:f7ec with SMTP id 6a1803df08f44-8802f2a1908mr69834936d6.12.1761943517667; Fri, 31 Oct 2025 13:45:17 -0700 (PDT) Received: from postal.iol.unh.edu (postal.iol.unh.edu. [132.177.123.84]) by smtp-relay.gmail.com with ESMTPS id 6a1803df08f44-88036068c0asm2582596d6.14.2025.10.31.13.45.17 (version=TLS1_2 cipher=ECDHE-ECDSA-AES128-GCM-SHA256 bits=128/128); Fri, 31 Oct 2025 13:45:17 -0700 (PDT) X-Relaying-Domain: iol.unh.edu Date: Fri, 31 Oct 2025 13:45:17 -0700 (PDT) Message-ID: <69051fdd.050a0220.e3f7a.d827SMTPIN_ADDED_MISSING@mx.google.com> Received: from [172.21.0.2] (unknown [172.18.0.240]) by postal.iol.unh.edu (Postfix) with ESMTP id 5789C6050A61; Fri, 31 Oct 2025 16:45:17 -0400 (EDT) Subject: |SUCCESS| [GIT MASTER] bfb6c9fbcbaada197af422b704cf71b777f85fff From: dpdklab@iol.unh.edu To: Test Report Cc: dpdk-test-reports@iol.unh.edu, Ajit Khaparde Content-Type: text/plain X-BeenThere: test-report@dpdk.org X-Mailman-Version: 2.1.29 Precedence: list List-Id: automatic DPDK test reports List-Unsubscribe: , List-Archive: List-Post: List-Help: List-Subscribe: , Errors-To: test-report-bounces@dpdk.org _Testing PASS_ Branch: next-net-brcm-for-next-net bfb6c9fbcbaada197af422b704cf71b777f85fff --> testing pass Upstream job id: Generic-DPDK-Compile-Meson#439677 Test environment and result as below: +------------------------------+--------------------+ | Environment | dpdk_meson_compile | +==============================+====================+ | Ubuntu 24.04 | PASS | +------------------------------+--------------------+ | Ubuntu 20.04 | PASS | +------------------------------+--------------------+ | Red Hat Enterprise Linux 9.5 | PASS | +------------------------------+--------------------+ | CentOS Stream 10 | PASS | +------------------------------+--------------------+ | Debian GNU/Linux 12 | PASS | +------------------------------+--------------------+ | CentOS Stream 9 | PASS | +------------------------------+--------------------+ | Fedora Linux 42 | PASS | +------------------------------+--------------------+ | Ubuntu 22.04 | PASS | +------------------------------+--------------------+ Ubuntu 24.04 Kernel: 5.4 Compiler: gcc gcc (Ubuntu 13.3.0-6ubuntu2~24.04) 13.3.0 Ubuntu 20.04 Kernel: 5.4 Compiler: gcc gcc (Ubuntu 9.4.0-1ubuntu1~20.04.2) 9.4.0 Red Hat Enterprise Linux 9.5 Kernel: 5.4 Compiler: gcc gcc (GCC) 11.5.0 20240719 (Red Hat 11.5.0-2) CentOS Stream 10 Kernel: 5.4 Compiler: gcc gcc (GCC) 14.2.1 20250110 (Red Hat 14.2.1-8) Debian GNU/Linux 12 Kernel: 5.4 Compiler: gcc gcc (Debian 12.2.0-14+deb12u1) 12.2.0 CentOS Stream 9 Kernel: 5.4 Compiler: gcc gcc (GCC) 11.5.0 20240719 (Red Hat 11.5.0-11) Fedora Linux 42 Kernel: 5.4 Compiler: clang gcc (GCC) 15.2.1 20250808 (Red Hat 15.2.1-1) Ubuntu 22.04 Kernel: 5.4 Compiler: gcc gcc (Ubuntu 11.4.0-1ubuntu1~22.04) 11.4.0 To view detailed results, visit: https://lab.dpdk.org/results/dashboard/tarballs/35413/ UNH-IOL DPDK Community Lab To manage your email subscriptions, visit: https://lab.dpdk.org/results/dashboard/preferences/subscriptions/