From mboxrd@z Thu Jan 1 00:00:00 1970 Return-Path: Received: from mails.dpdk.org (mails.dpdk.org [217.70.189.124]) by inbox.dpdk.org (Postfix) with ESMTP id DFFCA48A4F for ; Fri, 31 Oct 2025 22:33:35 +0100 (CET) Received: from mails.dpdk.org (localhost [127.0.0.1]) by mails.dpdk.org (Postfix) with ESMTP id BEC6340150; Fri, 31 Oct 2025 22:33:35 +0100 (CET) Received: from mail-qt1-f227.google.com (mail-qt1-f227.google.com [209.85.160.227]) by mails.dpdk.org (Postfix) with ESMTP id 828EA40150 for ; Fri, 31 Oct 2025 22:33:34 +0100 (CET) Received: by mail-qt1-f227.google.com with SMTP id d75a77b69052e-4eb9fa69fb8so32241321cf.1 for ; Fri, 31 Oct 2025 14:33:34 -0700 (PDT) DKIM-Signature: v=1; a=rsa-sha256; c=relaxed/relaxed; d=iol.unh.edu; s=unh-iol; t=1761946414; x=1762551214; darn=dpdk.org; h=cc:to:from:subject:message-id:date:from:to:cc:subject:date :message-id:reply-to; bh=W4apHm6XcoeINktI+/U0H4/6QOQkr/uFxhExWbRmOdM=; b=WOFHDDrzPfsULab0Y/b6/EzAtgT3Z/Nl2T0r7+IMKMB7ieSXDGuTWbwgfsY7YXP/WF j1EO37lhpOu/kBbzMqrotgPSox0/2Jv0L4pUQRhYlbcZpExuidgbXr8YwyD/hbjlPS74 6rtDcdH6GvZH9I00wswE4p14LIXftCLmfsYv0= X-Google-DKIM-Signature: v=1; a=rsa-sha256; c=relaxed/relaxed; d=1e100.net; s=20230601; t=1761946414; x=1762551214; h=cc:to:from:subject:message-id:date:x-gm-message-state:from:to:cc :subject:date:message-id:reply-to; bh=W4apHm6XcoeINktI+/U0H4/6QOQkr/uFxhExWbRmOdM=; b=btTcjw2rEe7xlesApaqov8AwE3FFSvdIGDGM0CsubB8bgOA1ejODUuniQb1vCfsbH0 jPYOHJY5tDx6X2o3/JOfiIj9LyNvL9Lc2xM2lYf5V6LRjBwLeiYNApBl6kZcJ5pnPLVc oRubtdBne0tIOr4+AUmLn8t33yRcFPV628g6B+gDYvF1xfEBB5XzDkELuvYoCahI2cSt qftNdhy1sdDuS7C4qcQOgrkeQ1DEN6b70Bi7xRajsOYGwaZSwiTdFPeD28oJUpYoQn/s Pmu3PONQ2yUZ+zZ+dRVNG6nwl0xO5kcjSZ1u/Z5ZBSn7Jpu6rCs8U6p+P5EcwXWuCAT3 c0JA== X-Gm-Message-State: AOJu0YxsHEpX20Pflzdwx7Beh+IoR23TM92ZgRv0xCdBpAmt6h9a/NaC 8RemenaGpYRXZUFBgZ7DzJUWd0h2gFSDcqBoTlNqn1U4mh3WEXO0ZaG2ikTLIWytJYcUk6jR/lh s/Cbf3d0mY83DS4p9reiN1302ryjkNUPfK7jn4GoMhnIAR7ujHGzY X-Gm-Gg: ASbGnct04KpveW18Yh/LoSgul1ncE8dQYEjPSfECPi0L9EmGcfwOvtQ2T2RKd8cYuee 7T4bX6pyanOclTHpNMf+X1R7mHDVF0j6wzja8e9NMdrel4XaX/jvmDSklYZ5qhYQtiErzmvJha4 X+B33plMj7Q3WCAOB31b8lyvn9MX4PM4Rw37PIz2nita61QfBroRmsrNJmVbi2mJLSyOOX+KemH UmxqlV93PFLIPjM+GNb7GW6BTzMGD2Vj54UoBJpfVPkng0aXEZtoYLy18+MM4aK73m3eHvrD3nI mNpKIGrmHxb2mxsgVNhltNlHxkr/7fHKqFO7tkGKaFkkxxqNqGEC4zyMdvyxSnccrZXyrbybbDZ DmlgJWAXf X-Google-Smtp-Source: AGHT+IGJ2tR9a72dCjCRU8i+3ntySI7lAsDBjas3DpF0q+l8qPWtsa89QDMLIzrjowAWajK4VwPR5DuP5lg9 X-Received: by 2002:a05:622a:1105:b0:4b4:91f8:3b13 with SMTP id d75a77b69052e-4ed310023a7mr60737671cf.63.1761946413810; Fri, 31 Oct 2025 14:33:33 -0700 (PDT) Received: from postal.iol.unh.edu (postal.iol.unh.edu. [2606:4100:3880:1234::84]) by smtp-relay.gmail.com with ESMTPS id d75a77b69052e-4ed34fd1381sm1676521cf.2.2025.10.31.14.33.33 (version=TLS1_2 cipher=ECDHE-ECDSA-AES128-GCM-SHA256 bits=128/128); Fri, 31 Oct 2025 14:33:33 -0700 (PDT) X-Relaying-Domain: iol.unh.edu Date: Fri, 31 Oct 2025 14:33:33 -0700 (PDT) Message-ID: <69052b2d.050a0220.2fde50.8bb2SMTPIN_ADDED_MISSING@mx.google.com> Received: from [172.21.0.2] (unknown [172.18.0.240]) by postal.iol.unh.edu (Postfix) with ESMTP id 795856051830; Fri, 31 Oct 2025 17:33:33 -0400 (EDT) Subject: |SUCCESS| [GIT MASTER] bfb6c9fbcbaada197af422b704cf71b777f85fff From: dpdklab@iol.unh.edu To: Test Report Cc: dpdk-test-reports@iol.unh.edu, Ajit Khaparde Content-Type: text/plain X-BeenThere: test-report@dpdk.org X-Mailman-Version: 2.1.29 Precedence: list List-Id: automatic DPDK test reports List-Unsubscribe: , List-Archive: List-Post: List-Help: List-Subscribe: , Errors-To: test-report-bounces@dpdk.org _Testing PASS_ Branch: next-net-brcm-for-next-net bfb6c9fbcbaada197af422b704cf71b777f85fff --> testing pass Upstream job id: Generic-Unit-Test-DPDK#387399 Test environment and result as below: +------------------------------+----------------+------------------------------+---------------------------+--------------+ | Environment | dpdk_unit_test | cryptodev_sw_snow3g_autotest | cryptodev_sw_zuc_autotest | lpm_autotest | +==============================+================+==============================+===========================+==============+ | Red Hat Enterprise Linux 9.5 | PASS | SKIPPED | SKIPPED | SKIPPED | +------------------------------+----------------+------------------------------+---------------------------+--------------+ | Ubuntu 20.04 | PASS | SKIPPED | SKIPPED | PASS | +------------------------------+----------------+------------------------------+---------------------------+--------------+ | Ubuntu 24.04 | PASS | SKIPPED | SKIPPED | SKIPPED | +------------------------------+----------------+------------------------------+---------------------------+--------------+ | CentOS Stream 10 | PASS | SKIPPED | SKIPPED | SKIPPED | +------------------------------+----------------+------------------------------+---------------------------+--------------+ | Fedora Linux 41 | PASS | SKIPPED | SKIPPED | SKIPPED | +------------------------------+----------------+------------------------------+---------------------------+--------------+ | Fedora Linux 42 | PASS | SKIPPED | SKIPPED | SKIPPED | +------------------------------+----------------+------------------------------+---------------------------+--------------+ | Fedora Linux 40 | PASS | SKIPPED | SKIPPED | SKIPPED | +------------------------------+----------------+------------------------------+---------------------------+--------------+ | Debian GNU/Linux 12 | PASS | SKIPPED | SKIPPED | SKIPPED | +------------------------------+----------------+------------------------------+---------------------------+--------------+ | CentOS Stream 9 | PASS | SKIPPED | SKIPPED | SKIPPED | +------------------------------+----------------+------------------------------+---------------------------+--------------+ | Ubuntu 22.04 | PASS | SKIPPED | SKIPPED | SKIPPED | +------------------------------+----------------+------------------------------+---------------------------+--------------+ | Debian 12 (arm) | SKIPPED | PASS | PASS | SKIPPED | +------------------------------+----------------+------------------------------+---------------------------+--------------+ Red Hat Enterprise Linux 9.5 Kernel: 5.4 Compiler: gcc gcc (GCC) 11.5.0 20240719 (Red Hat 11.5.0-2) Ubuntu 20.04 Kernel: 5.4 Compiler: gcc gcc (Ubuntu 9.4.0-1ubuntu1~20.04.2) 9.4.0 Ubuntu 24.04 Kernel: 5.4 Compiler: gcc gcc (Ubuntu 13.3.0-6ubuntu2~24.04) 13.3.0 CentOS Stream 10 Kernel: 5.4 Compiler: gcc gcc (GCC) 14.2.1 20250110 (Red Hat 14.2.1-8) Fedora Linux 41 Kernel: 5.4 Compiler: gcc gcc (GCC) 14.3.1 20250523 (Red Hat 14.3.1-1) Fedora Linux 42 Kernel: 5.4 Compiler: clang gcc (GCC) 15.2.1 20250808 (Red Hat 15.2.1-1) Fedora Linux 40 Kernel: 5.4 Compiler: clang gcc (GCC) 14.2.1 20240912 (Red Hat 14.2.1-3) Debian GNU/Linux 12 Kernel: 5.4 Compiler: gcc gcc (Debian 12.2.0-14+deb12u1) 12.2.0 CentOS Stream 9 Kernel: 5.4 Compiler: gcc gcc (GCC) 11.5.0 20240719 (Red Hat 11.5.0-11) Ubuntu 22.04 Kernel: 5.4 Compiler: gcc gcc (Ubuntu 11.4.0-1ubuntu1~22.04) 11.4.0 Debian 12 (arm) Kernel: Depends on container host Compiler: gcc (Debian 12.2.0-14) 12.2.0 To view detailed results, visit: https://lab.dpdk.org/results/dashboard/tarballs/35413/ UNH-IOL DPDK Community Lab To manage your email subscriptions, visit: https://lab.dpdk.org/results/dashboard/preferences/subscriptions/