From mboxrd@z Thu Jan 1 00:00:00 1970 Return-Path: Received: from mails.dpdk.org (mails.dpdk.org [217.70.189.124]) by inbox.dpdk.org (Postfix) with ESMTP id 26F9148A4F for ; Sat, 1 Nov 2025 00:25:38 +0100 (CET) Received: from mails.dpdk.org (localhost [127.0.0.1]) by mails.dpdk.org (Postfix) with ESMTP id E5D7940150; Sat, 1 Nov 2025 00:25:37 +0100 (CET) Received: from mail-qk1-f226.google.com (mail-qk1-f226.google.com [209.85.222.226]) by mails.dpdk.org (Postfix) with ESMTP id 9E38E40150 for ; Sat, 1 Nov 2025 00:25:36 +0100 (CET) Received: by mail-qk1-f226.google.com with SMTP id af79cd13be357-89f54569415so285854385a.1 for ; Fri, 31 Oct 2025 16:25:36 -0700 (PDT) DKIM-Signature: v=1; a=rsa-sha256; c=relaxed/relaxed; d=iol.unh.edu; s=unh-iol; t=1761953136; x=1762557936; darn=dpdk.org; h=references:in-reply-to:cc:to:from:subject:message-id:date:from:to :cc:subject:date:message-id:reply-to; bh=MtMIR+in6cKnjofZLlOrBnuDRTqF7siIrgtDC2CBm3M=; b=Gvwm+G6z3FR2fT0kwszDEWKsuBTND5s7i3bGcKaZkbp++BW3VHF0xUIZib1EAzska5 IUGWZAsDxYuMM1xYrATA9fbqcmjEZ56SbipOiKXIUSHeVMXf+GYFGxg7+c+K0hiknig2 y0dgfBbTt6IWK/XPAXZJkOCtTZ2l9VK5t1iH8= X-Google-DKIM-Signature: v=1; a=rsa-sha256; c=relaxed/relaxed; d=1e100.net; s=20230601; t=1761953136; x=1762557936; h=references:in-reply-to:cc:to:from:subject:message-id:date :x-gm-message-state:from:to:cc:subject:date:message-id:reply-to; bh=MtMIR+in6cKnjofZLlOrBnuDRTqF7siIrgtDC2CBm3M=; b=v0exPbum/rM9ncgdndQaV3HdLKAKEXhCDktDJLnQ1UXw4u3863Oz29AzlEqJZfXLOP mYZ+1IvowZxL0OWgxspndJhNV9R4zcZC8f5Zce2zWYqi+3CxdLJZkOgcO14V/GayKLut iD8tJ4ALAGo4PjT/zqn2Jqu6SQTLbb+jxGOpK5sIG1aRs4+1Xa+EgFA011G445ae6g3l p86D9vPPDbvzWfc1nOqsKtqGNB4kM5scEBQen99tMPre2m1TWOpusI7qZw1W7uXG7/A3 bCXKBSLUDd45qrhyqy+F9QcNSUkrPcEPlndvU27ZzytsK5Od62tHp2kEvTTAbAbTV+XQ DbXw== X-Gm-Message-State: AOJu0YwuV7YLJ0Njn+m4zH1lVHhOnawlUwhk1p+njoHH5/Gn+q/PZcxa KE3v06m1BC40uQfHteDZrfxsSal0clB43V0pFeAzQzuq5wc4tNQUmjWQKSKzCn8t/4D0A2po57P kqg6z4Aydb+kxT/uYOOmdR41zaym8Qov764kyeWNgcO7e X-Gm-Gg: ASbGncs9SzmAAdid8SY5qzLhpKcDwY8BZzMjhYKvhEWrgpL55o0Mjlh3pfi62NoGGG3 /w56DUIw6csvkq8raE5YGFg1KyfqQ87SaNl99Wy4zMyUH+zLDHL6NWD4EZxa2azNSAtz+/mKjcU iyI9e+4Iy+3icpYnnXDDALLyFC3sZob5UR41z/67IKgW1BjyHewYkqmrXJr/M0wcQxucKn8E8m7 jt+K2SjZhaxtBKbcAElZMrBexGxNFqeHqxOVewHH25ld6ydRGUXjoAVgtyJ4T/jLribIhtg10Vs z4ceK1f/8kTkZ4aT3q/DpSiZ6qfQmrQ69lpQduFMQO2Wd+jWkL9CDWirAricJI2x3zE1nebVs9y tl14Mmfo1MuwJUwofQVHcnCiwhzvvPko= X-Google-Smtp-Source: AGHT+IFw2VmbLXxBmsVu7b3tMu4ntnGYoc/uR5PZEwk76MlKMdWWbilzYlmVD9PeDoArqJkU9/ORUsPUCTpo X-Received: by 2002:a05:620a:19a1:b0:85f:ed51:e920 with SMTP id af79cd13be357-8ab990ab446mr619874385a.4.1761953135834; Fri, 31 Oct 2025 16:25:35 -0700 (PDT) Received: from postal.iol.unh.edu (postal.iol.unh.edu. [132.177.123.84]) by smtp-relay.gmail.com with ESMTPS id af79cd13be357-8ac003c4663sm25255785a.2.2025.10.31.16.25.35 (version=TLS1_2 cipher=ECDHE-ECDSA-AES128-GCM-SHA256 bits=128/128); Fri, 31 Oct 2025 16:25:35 -0700 (PDT) X-Relaying-Domain: iol.unh.edu Date: Fri, 31 Oct 2025 16:25:35 -0700 (PDT) Message-ID: <6905456f.050a0220.140cc3.d86dSMTPIN_ADDED_MISSING@mx.google.com> Received: from [172.21.0.2] (unknown [172.18.0.240]) by postal.iol.unh.edu (Postfix) with ESMTP id 695996051830; Fri, 31 Oct 2025 19:25:35 -0400 (EDT) Subject: |SUCCESS| pw158325 [PATCH] graph: fix use-after-free when updating e From: dpdklab@iol.unh.edu To: Test Report Cc: dpdk-test-reports@iol.unh.edu In-Reply-To: <20251031221304.394997-2-rjarry@redhat.com> References: <20251031221304.394997-2-rjarry@redhat.com> Content-Type: text/plain X-BeenThere: test-report@dpdk.org X-Mailman-Version: 2.1.29 Precedence: list List-Id: automatic DPDK test reports List-Unsubscribe: , List-Archive: List-Post: List-Help: List-Subscribe: , Errors-To: test-report-bounces@dpdk.org Test-Label: iol-unit-amd64-testing Test-Status: SUCCESS http://dpdk.org/patch/158325 _Testing PASS_ Submitter: Robin Jarry Date: Friday, October 31 2025 22:13:04 DPDK git baseline: Repo:dpdk Branch: master CommitID:8c4861d00aabcf54ef9d6f1df2a4cfb37c06f6c2 158325 --> testing pass Upstream job id: Generic-VM-Unit-Test-DPDK#32209 Test environment and result as below: +-------------------------------+----------------+ | Environment | dpdk_unit_test | +===============================+================+ | Fedora Linux 40 | PASS | +-------------------------------+----------------+ | Red Hat Enterprise Linux 9.5 | PASS | +-------------------------------+----------------+ | Fedora Linux 42 | PASS | +-------------------------------+----------------+ | CentOS Stream 10 | PASS | +-------------------------------+----------------+ | Red Hat Enterprise Linux 8.10 | PASS | +-------------------------------+----------------+ | CentOS Stream 9 | PASS | +-------------------------------+----------------+ | Fedora Linux 41 | PASS | +-------------------------------+----------------+ | Debian GNU/Linux 12 | PASS | +-------------------------------+----------------+ | Ubuntu 24.04 | PASS | +-------------------------------+----------------+ | Ubuntu 22.04 | PASS | +-------------------------------+----------------+ | Ubuntu 20.04 | PASS | +-------------------------------+----------------+ | Windows Server 2022 | PASS | +-------------------------------+----------------+ Fedora Linux 40 Kernel: 5.15 Compiler: clang gcc (GCC) 14.2.1 20240912 (Red Hat 14.2.1-3) Red Hat Enterprise Linux 9.5 Kernel: 5.15 Compiler: gcc gcc (GCC) 11.5.0 20240719 (Red Hat 11.5.0-2) Fedora Linux 42 Kernel: 5.15 Compiler: gcc gcc (GCC) 15.2.1 20250808 (Red Hat 15.2.1-1) CentOS Stream 10 Kernel: 5.15 Compiler: gcc gcc (GCC) 14.2.1 20250110 (Red Hat 14.2.1-8) Red Hat Enterprise Linux 8.10 Kernel: 5.15 Compiler: gcc gcc (GCC) 8.5.0 20210514 (Red Hat 8.5.0-22) CentOS Stream 9 Kernel: 5.15 Compiler: gcc gcc (GCC) 11.5.0 20240719 (Red Hat 11.5.0-11) Fedora Linux 41 Kernel: 5.15 Compiler: clang gcc (GCC) 14.3.1 20250523 (Red Hat 14.3.1-1) Debian GNU/Linux 12 Kernel: 5.15 Compiler: gcc gcc (Debian 12.2.0-14+deb12u1) 12.2.0 Ubuntu 24.04 Kernel: 5.15 Compiler: gcc gcc (Ubuntu 13.3.0-6ubuntu2~24.04) 13.3.0 Ubuntu 22.04 Kernel: 5.15 Compiler: gcc gcc (Ubuntu 11.4.0-1ubuntu1~22.04) 11.4.0 Ubuntu 20.04 Kernel: 5.15 Compiler: gcc gcc (Ubuntu 9.4.0-1ubuntu1~20.04.2) 9.4.0 Windows Server 2022 Kernel: 10.0.20348.2031 Compiler: clang 15.0.7, gcc 14.1.0 (MinGW), and MSVC VS 19.39.33521 To view detailed results, visit: https://lab.dpdk.org/results/dashboard/patchsets/34436/ UNH-IOL DPDK Community Lab To manage your email subscriptions, visit: https://lab.dpdk.org/results/dashboard/preferences/subscriptions/