From mboxrd@z Thu Jan 1 00:00:00 1970 Return-Path: Received: from mails.dpdk.org (mails.dpdk.org [217.70.189.124]) by inbox.dpdk.org (Postfix) with ESMTP id A9B4548A4F for ; Sat, 1 Nov 2025 00:30:34 +0100 (CET) Received: from mails.dpdk.org (localhost [127.0.0.1]) by mails.dpdk.org (Postfix) with ESMTP id 868DD40150; Sat, 1 Nov 2025 00:30:34 +0100 (CET) Received: from mail-io1-f98.google.com (mail-io1-f98.google.com [209.85.166.98]) by mails.dpdk.org (Postfix) with ESMTP id 2BD3A40150 for ; Sat, 1 Nov 2025 00:30:33 +0100 (CET) Received: by mail-io1-f98.google.com with SMTP id ca18e2360f4ac-93e7e87c21bso261032539f.3 for ; Fri, 31 Oct 2025 16:30:33 -0700 (PDT) DKIM-Signature: v=1; a=rsa-sha256; c=relaxed/relaxed; d=iol.unh.edu; s=unh-iol; t=1761953432; x=1762558232; darn=dpdk.org; h=references:in-reply-to:cc:to:from:subject:message-id:date:from:to :cc:subject:date:message-id:reply-to; bh=k9629foNmxlQSVYZzolDd0byqCen+hJA5Jd1SWPkbkw=; b=RZThNhTrIQgFer4CrpZcFlLxsx3wDsp/FsKc4C5rXjGc+iNSoMflZZSZxq0RhtAFJt kPoF7Kq9v4eCKQbOtx4Mv0INV93VQjSZtTuq4ZtMuzfdl5WMIo1mPv2JIiCLYWRqUZfZ XP9X4sydJsmY1ze0iJlbVH5eKGy6JLL+v6nmk= X-Google-DKIM-Signature: v=1; a=rsa-sha256; c=relaxed/relaxed; d=1e100.net; s=20230601; t=1761953432; x=1762558232; h=references:in-reply-to:cc:to:from:subject:message-id:date :x-gm-message-state:from:to:cc:subject:date:message-id:reply-to; bh=k9629foNmxlQSVYZzolDd0byqCen+hJA5Jd1SWPkbkw=; b=DeF/zXnX//phJVeqnzbhnnyV5O1ORFlHvwVaW1yEKy5vc6gUq84xRJSH7fEh54xbxF /QnOkOdqFeo0K11uSm2jQEPbKPcMIgkJPx35nGvvd7QBo9W3rZYfiC0Zp58acHp812jw ZUeOjd+gg158Cb8KjDawiXgSe6DRHlRKG7+FgEi0jBTW6cajibmN0sW0/E46gzs9h5Au u9nccJ44xQBl/0Zddrm9pdhU559KxSEJ2DKUVb2rSBYStjQZdtEtUqsup7MYtAmo/y+K G5H1AFLwWmsA1wqJ7797T7Dk5Q1EWRfxOz9ISSFxhBe8pJVb19qfd341oMt4MATibkwx Gb4Q== X-Gm-Message-State: AOJu0YwtoKWsTl0p3bIPX0QnCYxRJts+KMhRsFDDLO5fyU6t65kDf/Nm X06kZUT+eK6Gb+pkn1JXaPipUE3rodVFjYZxbG3NZYybZLZQISddMQ+uiSY+C6fHvpeKi3nUIVy iZj2mTsY3O2fAaEBYEI0LRNxxbnmjGC85cakRdP0rTvFVI9ciHwXS+gvW+ijj X-Gm-Gg: ASbGncvnhtonuWvkKpE/1fEWC9+6SkrUugKUDTLy1h5TXya/T1HXxokNIukLr6d+iF+ +pWLKY1wuKFMhgZihh4tcrw3xE7+HmFOdDbdME6lXPewMj5ci1nhfPrGSEZVmX0w3KF2DNO+DtC bMllNj47CgO0c1KmxkcUbLje6gpOb2ATCOLix8lXXd7v5Rr/up/0UfEEeWTcB3hasNKOHjqvlEk i7iS9L2Q+M6CnK5VKFfjS56QgP/Oh8vRzpJMo1iyplA1xQqZOe5JtXRneX/JZGWsXueZPq5y+Xx 3X/fTQoalZYr1pioDJ9z/PCs2CbeRrIt+khM5U6fTExffSm0NJoWQbCgtftpbK/8Ip7LV3FGqxq x0cMtPV+z X-Google-Smtp-Source: AGHT+IHfFYgGhv8KL6IwHSSMLIVyg7e56RtFTtA6Y10hrERIl6J/hrc5kmL8ZbHjpLkEDBau+9KL+K6QRDPw X-Received: by 2002:a05:6e02:1a85:b0:42e:2c30:285b with SMTP id e9e14a558f8ab-4330d1b6021mr68562335ab.20.1761953432352; Fri, 31 Oct 2025 16:30:32 -0700 (PDT) Received: from postal.iol.unh.edu (postal.iol.unh.edu. [2606:4100:3880:1234::84]) by smtp-relay.gmail.com with ESMTPS id 8926c6da1cb9f-5b6a5a999fasm285041173.27.2025.10.31.16.30.32 (version=TLS1_2 cipher=ECDHE-ECDSA-AES128-GCM-SHA256 bits=128/128); Fri, 31 Oct 2025 16:30:32 -0700 (PDT) X-Relaying-Domain: iol.unh.edu Date: Fri, 31 Oct 2025 16:30:32 -0700 (PDT) Message-ID: <69054698.050a0220.175d3b.ed4dSMTPIN_ADDED_MISSING@mx.google.com> Received: from [172.21.0.2] (unknown [172.18.0.240]) by postal.iol.unh.edu (Postfix) with ESMTP id E92006051830; Fri, 31 Oct 2025 19:30:31 -0400 (EDT) Subject: |SUCCESS| pw158325 [PATCH] graph: fix use-after-free when updating e From: dpdklab@iol.unh.edu To: Test Report Cc: dpdk-test-reports@iol.unh.edu In-Reply-To: <20251031221304.394997-2-rjarry@redhat.com> References: <20251031221304.394997-2-rjarry@redhat.com> Content-Type: text/plain X-BeenThere: test-report@dpdk.org X-Mailman-Version: 2.1.29 Precedence: list List-Id: automatic DPDK test reports List-Unsubscribe: , List-Archive: List-Post: List-Help: List-Subscribe: , Errors-To: test-report-bounces@dpdk.org Test-Label: iol-unit-amd64-testing Test-Status: SUCCESS http://dpdk.org/patch/158325 _Testing PASS_ Submitter: Robin Jarry Date: Friday, October 31 2025 22:13:04 DPDK git baseline: Repo:dpdk Branch: master CommitID:8c4861d00aabcf54ef9d6f1df2a4cfb37c06f6c2 158325 --> testing pass Upstream job id: Generic-VM-Unit-Test-DPDK#32210 Test environment and result as below: +-------------------------------+----------------+ | Environment | dpdk_unit_test | +===============================+================+ | Fedora Linux 40 | PASS | +-------------------------------+----------------+ | Red Hat Enterprise Linux 9.5 | PASS | +-------------------------------+----------------+ | Fedora Linux 42 | PASS | +-------------------------------+----------------+ | CentOS Stream 10 | PASS | +-------------------------------+----------------+ | Red Hat Enterprise Linux 8.10 | PASS | +-------------------------------+----------------+ | CentOS Stream 9 | PASS | +-------------------------------+----------------+ | Fedora Linux 41 | PASS | +-------------------------------+----------------+ | Debian GNU/Linux 12 | PASS | +-------------------------------+----------------+ | Ubuntu 24.04 | PASS | +-------------------------------+----------------+ | Ubuntu 22.04 | PASS | +-------------------------------+----------------+ | Ubuntu 20.04 | PASS | +-------------------------------+----------------+ | Windows Server 2022 | PASS | +-------------------------------+----------------+ Fedora Linux 40 Kernel: 5.15 Compiler: clang gcc (GCC) 14.2.1 20240912 (Red Hat 14.2.1-3) Red Hat Enterprise Linux 9.5 Kernel: 5.15 Compiler: gcc gcc (GCC) 11.5.0 20240719 (Red Hat 11.5.0-2) Fedora Linux 42 Kernel: 5.15 Compiler: gcc gcc (GCC) 15.2.1 20250808 (Red Hat 15.2.1-1) CentOS Stream 10 Kernel: 5.15 Compiler: gcc gcc (GCC) 14.2.1 20250110 (Red Hat 14.2.1-8) Red Hat Enterprise Linux 8.10 Kernel: 5.15 Compiler: gcc gcc (GCC) 8.5.0 20210514 (Red Hat 8.5.0-22) CentOS Stream 9 Kernel: 5.15 Compiler: gcc gcc (GCC) 11.5.0 20240719 (Red Hat 11.5.0-11) Fedora Linux 41 Kernel: 5.15 Compiler: clang gcc (GCC) 14.3.1 20250523 (Red Hat 14.3.1-1) Debian GNU/Linux 12 Kernel: 5.15 Compiler: gcc gcc (Debian 12.2.0-14+deb12u1) 12.2.0 Ubuntu 24.04 Kernel: 5.15 Compiler: gcc gcc (Ubuntu 13.3.0-6ubuntu2~24.04) 13.3.0 Ubuntu 22.04 Kernel: 5.15 Compiler: gcc gcc (Ubuntu 11.4.0-1ubuntu1~22.04) 11.4.0 Ubuntu 20.04 Kernel: 5.15 Compiler: gcc gcc (Ubuntu 9.4.0-1ubuntu1~20.04.2) 9.4.0 Windows Server 2022 Kernel: 10.0.20348.2031 Compiler: clang 15.0.7, gcc 14.1.0 (MinGW), and MSVC VS 19.39.33521 To view detailed results, visit: https://lab.dpdk.org/results/dashboard/patchsets/34436/ UNH-IOL DPDK Community Lab To manage your email subscriptions, visit: https://lab.dpdk.org/results/dashboard/preferences/subscriptions/