From mboxrd@z Thu Jan 1 00:00:00 1970 Return-Path: Received: from mails.dpdk.org (mails.dpdk.org [217.70.189.124]) by inbox.dpdk.org (Postfix) with ESMTP id 8DD8D48A4F for ; Sat, 1 Nov 2025 01:16:27 +0100 (CET) Received: from mails.dpdk.org (localhost [127.0.0.1]) by mails.dpdk.org (Postfix) with ESMTP id 876B040150; Sat, 1 Nov 2025 01:16:27 +0100 (CET) Received: from mail-qt1-f225.google.com (mail-qt1-f225.google.com [209.85.160.225]) by mails.dpdk.org (Postfix) with ESMTP id 8697C40150 for ; Sat, 1 Nov 2025 01:16:25 +0100 (CET) Received: by mail-qt1-f225.google.com with SMTP id d75a77b69052e-4eba67d4b1bso27870081cf.1 for ; Fri, 31 Oct 2025 17:16:25 -0700 (PDT) DKIM-Signature: v=1; a=rsa-sha256; c=relaxed/relaxed; d=iol.unh.edu; s=unh-iol; t=1761956185; x=1762560985; darn=dpdk.org; h=references:in-reply-to:cc:to:from:subject:message-id:date:from:to :cc:subject:date:message-id:reply-to; bh=gfIIzYvFWpgjt53L9DIW5FADI2eDvxXNZjqH1zNWfqU=; b=jtQ7qtP+4tmf+hXBG8+2Ts0/1cC/29fzZIGegNFY2jp/wUb9Rw+vuaQYF2EKHvJC2J one3FyYwb0mQsmWFtAUbQ/hz7OVi0Gx+SXyCifC5cdfH1ITPIav9dhSwOcAHVEeUAj92 h3OCka+/cTuw8s4WalPwMCY1wtguNikExEsPQ= X-Google-DKIM-Signature: v=1; a=rsa-sha256; c=relaxed/relaxed; d=1e100.net; s=20230601; t=1761956185; x=1762560985; h=references:in-reply-to:cc:to:from:subject:message-id:date :x-gm-message-state:from:to:cc:subject:date:message-id:reply-to; bh=gfIIzYvFWpgjt53L9DIW5FADI2eDvxXNZjqH1zNWfqU=; b=UxHsazAw5GU3tLzLE6THXzlXZrOQCiVapLwNJcQjDsYwdDczTv8jLsE8RgpP8ui5vw E9wAVcos9DvjAqV4o3LUguxSxo+mg9MfvhHPpFVrZDxZ4tc8LIGC/XHhhYana2ucoFPr YlvML66IjFWtJgvSEWm1Q4rwg749yYSevTtsmWdxoyA/ZJ2eRMctmGHShgi2C7fz6GP8 XC4vKEk0nqQmOnVuaP2PRPeqNOti9SfkJeqaD+py5sSx6y79siOsah7ojYzIAjpZp03f hA75tF1llx1xTLj8CvlvCRbFQBdRtyC/8mG5o2WlY4+hb9rbFqd9HpgF15wEnY+ZCLPx DCDg== X-Gm-Message-State: AOJu0YxNaY4G4P2KAxQnGsDRqIdt3HyjTDBYGlg+itYQWriLILayPLA/ E3gu8480qwcGCgQzYz9tmtnCVPOhlow2JnsGfFWKg+oQvaEeJj/+nlmjCWVgacLnKOXNe7gGmh3 z7ZhkOzddH0ro3qJFdytqsgD4wRnwTqvnr6KqTLUOfLLEE+W3lnaaiPYfaAWe X-Gm-Gg: ASbGnctLy2AZU3hWQB5vKQXum1PBzv5tfVI/uGRqRNE5b+KT11ViRp6BjrGQ1o7A1nh rtZZqkJXq1upYWJptV1sPuwy2Rw8ZWBAB3T8WNxHrU0wlXth97Xa4JMWmwNUys6ofwG+DM7bm97 SbgDDiUJbQQWRdHmp9dDvoD1mjmz8VA0aIhJ2x+oJofvYkgKSnDfA87SfEPM2zCK0cG9n2Wpxa7 0eih5u12hRoLroBMxcALhzmOFK79da7iiX7UcSBWU+wLpjPC9fZkwtjWDpsXApLB/PDE9Uvuwc+ EzWT7XlIgWvnEMQlxU6vLvqp62LVgbbeCVj7Wk7PSqkLIgHloKUsPywIfS7Ss5lBlA1R5njGvIL maSndR24G X-Google-Smtp-Source: AGHT+IG7rN8c3c+SPM1sufF+wJvVCg2B9JZQFKVXc6Qq7l4Q0Bveex8ZVp5pbndbGCLKgbW9zEGYzfPSjTt+ X-Received: by 2002:a05:622a:1448:b0:4eb:a78d:426c with SMTP id d75a77b69052e-4ed30d5e117mr77076401cf.13.1761956184793; Fri, 31 Oct 2025 17:16:24 -0700 (PDT) Received: from postal.iol.unh.edu (postal.iol.unh.edu. [2606:4100:3880:1234::84]) by smtp-relay.gmail.com with ESMTPS id d75a77b69052e-4ed34fd1381sm1975541cf.2.2025.10.31.17.16.24 (version=TLS1_2 cipher=ECDHE-ECDSA-AES128-GCM-SHA256 bits=128/128); Fri, 31 Oct 2025 17:16:24 -0700 (PDT) X-Relaying-Domain: iol.unh.edu Date: Fri, 31 Oct 2025 17:16:24 -0700 (PDT) Message-ID: <69055158.050a0220.2fde50.a525SMTPIN_ADDED_MISSING@mx.google.com> Received: from [172.21.0.2] (unknown [172.18.0.240]) by postal.iol.unh.edu (Postfix) with ESMTP id 7789E6051830; Fri, 31 Oct 2025 20:16:24 -0400 (EDT) Subject: |SUCCESS| pw158325 [PATCH] graph: fix use-after-free when updating e From: dpdklab@iol.unh.edu To: Test Report Cc: dpdk-test-reports@iol.unh.edu In-Reply-To: <20251031221304.394997-2-rjarry@redhat.com> References: <20251031221304.394997-2-rjarry@redhat.com> Content-Type: text/plain X-BeenThere: test-report@dpdk.org X-Mailman-Version: 2.1.29 Precedence: list List-Id: automatic DPDK test reports List-Unsubscribe: , List-Archive: List-Post: List-Help: List-Subscribe: , Errors-To: test-report-bounces@dpdk.org Test-Label: iol-unit-arm64-testing Test-Status: SUCCESS http://dpdk.org/patch/158325 _Testing PASS_ Submitter: Robin Jarry Date: Friday, October 31 2025 22:13:04 DPDK git baseline: Repo:dpdk Branch: master CommitID:8c4861d00aabcf54ef9d6f1df2a4cfb37c06f6c2 158325 --> testing pass Upstream job id: Generic-Unit-Test-DPDK#387417 Test environment and result as below: +------------------------------+---------------------------+------------------------------+--------------+----------------+ | Environment | cryptodev_sw_zuc_autotest | cryptodev_sw_snow3g_autotest | lpm_autotest | dpdk_unit_test | +==============================+===========================+==============================+==============+================+ | Debian 12 (arm) | PASS | PASS | SKIPPED | SKIPPED | +------------------------------+---------------------------+------------------------------+--------------+----------------+ | Ubuntu 20.04 | SKIPPED | SKIPPED | PASS | PASS | +------------------------------+---------------------------+------------------------------+--------------+----------------+ | Fedora Linux 40 | SKIPPED | SKIPPED | SKIPPED | PASS | +------------------------------+---------------------------+------------------------------+--------------+----------------+ | CentOS Stream 10 | SKIPPED | SKIPPED | SKIPPED | PASS | +------------------------------+---------------------------+------------------------------+--------------+----------------+ | Ubuntu 24.04 | SKIPPED | SKIPPED | SKIPPED | PASS | +------------------------------+---------------------------+------------------------------+--------------+----------------+ | Fedora Linux 42 | SKIPPED | SKIPPED | SKIPPED | PASS | +------------------------------+---------------------------+------------------------------+--------------+----------------+ | Debian GNU/Linux 12 | SKIPPED | SKIPPED | SKIPPED | PASS | +------------------------------+---------------------------+------------------------------+--------------+----------------+ | Fedora Linux 41 | SKIPPED | SKIPPED | SKIPPED | PASS | +------------------------------+---------------------------+------------------------------+--------------+----------------+ | Red Hat Enterprise Linux 9.5 | SKIPPED | SKIPPED | SKIPPED | PASS | +------------------------------+---------------------------+------------------------------+--------------+----------------+ | Ubuntu 22.04 | SKIPPED | SKIPPED | SKIPPED | PASS | +------------------------------+---------------------------+------------------------------+--------------+----------------+ | CentOS Stream 9 | SKIPPED | SKIPPED | SKIPPED | PASS | +------------------------------+---------------------------+------------------------------+--------------+----------------+ Debian 12 (arm) Kernel: Depends on container host Compiler: gcc (Debian 12.2.0-14) 12.2.0 Ubuntu 20.04 Kernel: 5.4 Compiler: gcc gcc (Ubuntu 9.4.0-1ubuntu1~20.04.2) 9.4.0 Fedora Linux 40 Kernel: 5.4 Compiler: gcc gcc (GCC) 14.2.1 20240912 (Red Hat 14.2.1-3) CentOS Stream 10 Kernel: 5.4 Compiler: gcc gcc (GCC) 14.2.1 20250110 (Red Hat 14.2.1-8) Ubuntu 24.04 Kernel: 5.4 Compiler: gcc gcc (Ubuntu 13.3.0-6ubuntu2~24.04) 13.3.0 Fedora Linux 42 Kernel: 5.4 Compiler: gcc gcc (GCC) 15.2.1 20250808 (Red Hat 15.2.1-1) Debian GNU/Linux 12 Kernel: 5.4 Compiler: gcc gcc (Debian 12.2.0-14+deb12u1) 12.2.0 Fedora Linux 41 Kernel: 5.4 Compiler: gcc gcc (GCC) 14.3.1 20250523 (Red Hat 14.3.1-1) Red Hat Enterprise Linux 9.5 Kernel: 5.4 Compiler: gcc gcc (GCC) 11.5.0 20240719 (Red Hat 11.5.0-2) Ubuntu 22.04 Kernel: 5.4 Compiler: gcc gcc (Ubuntu 11.4.0-1ubuntu1~22.04) 11.4.0 CentOS Stream 9 Kernel: 5.4 Compiler: gcc gcc (GCC) 11.5.0 20240719 (Red Hat 11.5.0-11) To view detailed results, visit: https://lab.dpdk.org/results/dashboard/patchsets/34436/ UNH-IOL DPDK Community Lab To manage your email subscriptions, visit: https://lab.dpdk.org/results/dashboard/preferences/subscriptions/