From mboxrd@z Thu Jan 1 00:00:00 1970 Return-Path: Received: from mails.dpdk.org (mails.dpdk.org [217.70.189.124]) by inbox.dpdk.org (Postfix) with ESMTP id 934A448A4F for ; Sat, 1 Nov 2025 01:55:39 +0100 (CET) Received: from mails.dpdk.org (localhost [127.0.0.1]) by mails.dpdk.org (Postfix) with ESMTP id 8CD084021F; Sat, 1 Nov 2025 01:55:39 +0100 (CET) Received: from mail-pl1-f227.google.com (mail-pl1-f227.google.com [209.85.214.227]) by mails.dpdk.org (Postfix) with ESMTP id E13424021F for ; Sat, 1 Nov 2025 01:55:37 +0100 (CET) Received: by mail-pl1-f227.google.com with SMTP id d9443c01a7336-29524abfba3so13114085ad.1 for ; Fri, 31 Oct 2025 17:55:37 -0700 (PDT) DKIM-Signature: v=1; a=rsa-sha256; c=relaxed/relaxed; d=iol.unh.edu; s=unh-iol; t=1761958537; x=1762563337; darn=dpdk.org; h=cc:to:from:subject:message-id:date:from:to:cc:subject:date :message-id:reply-to; bh=/zq+6EKmtIJtjlc6wx64imcKAlSCk7UJHMgTdSHmnL8=; b=KH05lKmgVjrh3cnAEKlJ3fHd5Ih8sRXeut7z7sdxGObMjM2eI9zWfe+tFLPVkwmMb9 SAPHUTGHZ2uIcvNOrkuh1w7am1vQp9WlPzohKXzOKFFYXz89l4CUzhU/VBnd368AyGqL FzrG5fVFbfVqykv0ZF4g/RcIiZ26UCfjftLfY= X-Google-DKIM-Signature: v=1; a=rsa-sha256; c=relaxed/relaxed; d=1e100.net; s=20230601; t=1761958537; x=1762563337; h=cc:to:from:subject:message-id:date:x-gm-message-state:from:to:cc :subject:date:message-id:reply-to; bh=/zq+6EKmtIJtjlc6wx64imcKAlSCk7UJHMgTdSHmnL8=; b=HWij7lcnFa76bLTVyf7L0/OUoO7G9Xd9Ys3zfqPdjCtLWF+cPFZWYxj8XUqF7yC6rq 1a50Rgnm4S+8MFWD9uDvTf8ob06e9V8kclOoeYC9+b2n5c5yPObyrwhUznUnaioPMJzm Fj+m4ffkVtG7JqQr+9kGCmvRRvv6tyqwcKMoEGmazQf4gR7GleH2z+d8lSmn87FRuJdu EFCW6/j9GOK1MXDo2e1muil73+DEURbDpYylKRn5Bhd4rT1YKCWXi8DTUx1YjiusIoJp 3GxmQM94DDqyGSPNQTSOuWyMZS3ejKSQg+jE6dKiWqK/gf2UJMMbInDg6UovRIUvvCFi PnMQ== X-Gm-Message-State: AOJu0YwMoOKQhUjlyo+FTOQbtNTB1g7G2m1d6sFZMjr6NPwR5JxMtJTK QipZLLmBD5OeqyBgJliK/S1fhbdzzqqbnZrY90aa79//T9iyFL2iZrNdPtnCaKHm3tF/yRwaaP1 yuctFGCYdOTdAB36cIOL4N+m1O/d/BJOpShlY89OBLNw7aK+3DHuREsxaK6GK X-Gm-Gg: ASbGncunYMZuYp7CM0CZ8qfIZ66RxHiwuJjFA+UXBbGiAP/SDxqg2VBGZk4D53uYlUp u1RGiOpexisS80WpFWwR5RTloxQH3yFpB7l3pIfwP1EpjBBIdT2WB4f+rurFGk1/7YRiiiz7giF 5KnwSyarFBEjpIVjm4rD3eDC36DYfEB+53HCqtZDRLmchE+3RxHp0XDALX6vPj2VsJb0cUugKWD omdsiIx3fOurEsJvd1JuUhypHK5jwF5+ScwbxkOzCzJIY+wkfpn9S3IbgToGcCl4ciFvgTf4mSK I6/x1Hq2q0l2rj+ijKUnHUrijjigXx6Wb4/zB596zONxSOTLQWuFrtWuwGeSYtAnpC3KnajnEVP 1h28mHtWe X-Google-Smtp-Source: AGHT+IGHo6tQMrJaNBkafBx+Rbmjy9PCWbDxZt1b4W8ii+0pruv4FTD+KRWb7xp5sFEEtePiUuK8edhSo5iM X-Received: by 2002:a17:902:d2ce:b0:27d:69cc:990 with SMTP id d9443c01a7336-2951a51e934mr76786715ad.49.1761958537011; Fri, 31 Oct 2025 17:55:37 -0700 (PDT) Received: from postal.iol.unh.edu (postal.iol.unh.edu. [2606:4100:3880:1234::84]) by smtp-relay.gmail.com with ESMTPS id d9443c01a7336-295268b77cdsm2607975ad.29.2025.10.31.17.55.36 (version=TLS1_2 cipher=ECDHE-ECDSA-AES128-GCM-SHA256 bits=128/128); Fri, 31 Oct 2025 17:55:37 -0700 (PDT) X-Relaying-Domain: iol.unh.edu Date: Fri, 31 Oct 2025 17:55:37 -0700 (PDT) Message-ID: <69055a89.170a0220.14bdc1.e995SMTPIN_ADDED_MISSING@mx.google.com> Received: from [172.21.0.2] (unknown [172.18.0.240]) by postal.iol.unh.edu (Postfix) with ESMTP id 204B06051830; Fri, 31 Oct 2025 20:55:36 -0400 (EDT) Subject: |SUCCESS| [GIT MASTER] 8c4861d00aabcf54ef9d6f1df2a4cfb37c06f6c2 From: dpdklab@iol.unh.edu To: Test Report Cc: dpdk-test-reports@iol.unh.edu Content-Type: text/plain X-BeenThere: test-report@dpdk.org X-Mailman-Version: 2.1.29 Precedence: list List-Id: automatic DPDK test reports List-Unsubscribe: , List-Archive: List-Post: List-Help: List-Subscribe: , Errors-To: test-report-bounces@dpdk.org _Testing PASS_ Branch: dpdk 8c4861d00aabcf54ef9d6f1df2a4cfb37c06f6c2 --> testing pass Upstream job id: Generic-Unit-Test-DPDK#387431 Test environment and result as below: +-------------------------------+----------------+ | Environment | dpdk_unit_test | +===============================+================+ | Fedora Linux 41 | PASS | +-------------------------------+----------------+ | Red Hat Enterprise Linux 8.10 | PASS | +-------------------------------+----------------+ | Ubuntu 22.04 | PASS | +-------------------------------+----------------+ | Fedora Linux 42 | PASS | +-------------------------------+----------------+ | Ubuntu 24.04 | PASS | +-------------------------------+----------------+ | Debian GNU/Linux 12 | PASS | +-------------------------------+----------------+ | CentOS Stream 9 | PASS | +-------------------------------+----------------+ | Ubuntu 20.04 | PASS | +-------------------------------+----------------+ | Fedora Linux 40 | PASS | +-------------------------------+----------------+ | Red Hat Enterprise Linux 9.5 | PASS | +-------------------------------+----------------+ | CentOS Stream 10 | PASS | +-------------------------------+----------------+ | Arch Linux 20250613.0.365270 | PASS | +-------------------------------+----------------+ | Windows Server 2022 | PASS | +-------------------------------+----------------+ Fedora Linux 41 Kernel: 5.15 Compiler: gcc gcc (GCC) 14.3.1 20250523 (Red Hat 14.3.1-1) Red Hat Enterprise Linux 8.10 Kernel: 5.15 Compiler: gcc gcc (GCC) 8.5.0 20210514 (Red Hat 8.5.0-22) Ubuntu 22.04 Kernel: 5.15 Compiler: gcc gcc (Ubuntu 11.4.0-1ubuntu1~22.04) 11.4.0 Fedora Linux 42 Kernel: 5.15 Compiler: gcc gcc (GCC) 15.2.1 20250808 (Red Hat 15.2.1-1) Ubuntu 24.04 Kernel: 5.15 Compiler: gcc gcc (Ubuntu 13.3.0-6ubuntu2~24.04) 13.3.0 Debian GNU/Linux 12 Kernel: 5.15 Compiler: gcc gcc (Debian 12.2.0-14+deb12u1) 12.2.0 CentOS Stream 9 Kernel: 5.15 Compiler: gcc gcc (GCC) 11.5.0 20240719 (Red Hat 11.5.0-11) Ubuntu 20.04 Kernel: 5.15 Compiler: gcc gcc (Ubuntu 9.4.0-1ubuntu1~20.04.2) 9.4.0 Fedora Linux 40 Kernel: 5.15 Compiler: gcc gcc (GCC) 14.2.1 20240912 (Red Hat 14.2.1-3) Red Hat Enterprise Linux 9.5 Kernel: 5.15 Compiler: gcc gcc (GCC) 11.5.0 20240719 (Red Hat 11.5.0-2) CentOS Stream 10 Kernel: 5.15 Compiler: gcc gcc (GCC) 14.2.1 20250110 (Red Hat 14.2.1-8) Arch Linux 20250613.0.365270 Kernel: 5.15 Compiler: gcc gcc (GCC) 15.1.1 20250425 Windows Server 2022 Kernel: 10.0.20348.2031 Compiler: clang 15.0.7, gcc 14.1.0 (MinGW), and MSVC VS 19.39.33521 To view detailed results, visit: https://lab.dpdk.org/results/dashboard/tarballs/35415/ UNH-IOL DPDK Community Lab To manage your email subscriptions, visit: https://lab.dpdk.org/results/dashboard/preferences/subscriptions/