From mboxrd@z Thu Jan 1 00:00:00 1970 Return-Path: Received: from mails.dpdk.org (mails.dpdk.org [217.70.189.124]) by inbox.dpdk.org (Postfix) with ESMTP id A872F48A4F for ; Sat, 1 Nov 2025 01:55:45 +0100 (CET) Received: from mails.dpdk.org (localhost [127.0.0.1]) by mails.dpdk.org (Postfix) with ESMTP id A1A0040150; Sat, 1 Nov 2025 01:55:45 +0100 (CET) Received: from mail-pl1-f227.google.com (mail-pl1-f227.google.com [209.85.214.227]) by mails.dpdk.org (Postfix) with ESMTP id 6408640150 for ; Sat, 1 Nov 2025 01:55:44 +0100 (CET) Received: by mail-pl1-f227.google.com with SMTP id d9443c01a7336-29516a36affso16510845ad.3 for ; Fri, 31 Oct 2025 17:55:44 -0700 (PDT) DKIM-Signature: v=1; a=rsa-sha256; c=relaxed/relaxed; d=iol.unh.edu; s=unh-iol; t=1761958543; x=1762563343; darn=dpdk.org; h=cc:to:from:subject:message-id:date:from:to:cc:subject:date :message-id:reply-to; bh=Pfv6VwSoFcwMxrs9n9SPA33XL6SGHOHVhKTNOnzIwfE=; b=PqG4cLUxsomUSa+LkDxNK1eyAGcPVxNcHzjHVF3ddO680K2w+lSvABmNmtcX5Vjx82 XgPOe3BwGGCoMkV9hBkDG0Jhs51Xc9oZrs3GJHhWuxIfzDpP7pmqnhZfSf8W35GcED8I EAuF6TfNy1tTkn0GX8kWuHKWmfYj31v9l6SxE= X-Google-DKIM-Signature: v=1; a=rsa-sha256; c=relaxed/relaxed; d=1e100.net; s=20230601; t=1761958543; x=1762563343; h=cc:to:from:subject:message-id:date:x-gm-message-state:from:to:cc :subject:date:message-id:reply-to; bh=Pfv6VwSoFcwMxrs9n9SPA33XL6SGHOHVhKTNOnzIwfE=; b=eBuXUbSSWNHVgz6YRiPS+bjpKUz+4z6IMrokct/2h+QOGGYouMDqaoZ7nTW2CJcTL8 mfQM5Y5kjuscwO9zA6Yt8XZF0FBxom9qAqxUJkQ2irP5RvSvEGOqMQbgILOx/coqUj5T pNS0h8PUh0TMi8t5jvQgEqO+0DQ0QPc21at193XMOe4sGusJi4eqYCkuNc5WI4Ub7MGx WI8E/h5xc4lQV+Sk9DqrhiOeMp8BukG/NAq3+xX3y+YuCJSvCb5WSj/Mbe4wbbxLf83m iI878XojgZFTObTAlALiK9i28vDACpxl8InB0XYO1mpHH6Gmx5DRCVkk5+tXI9jM17I1 VmEA== X-Gm-Message-State: AOJu0Yzr9V39KYl7QIWQHONCArtFYWi02JvqACtxA3SQJt/uEJ9sGwac HH/e8R9kwOFLbE5XO2aFde0AKQ0bi5tndmdNlpbP5Bb0x2UX/LY8Giv/qe/hDnY6uk0DegPqDky FdfegyCRkn0+rnlus0NCvmX7Hbhmp5Qf6eAv8Tsr8BDlH X-Gm-Gg: ASbGncugxvmO3CSDSVN6Ih6wHmjdO7N0DuG787t6+/gwnc/nxQF0Fu8/vvAK0XmDKlw XcLroWy0H/slxJJs/dO3s0CnsAJvgxQxTJz0dhn+qEjr1rHIespATahGeHag9m7/pjZ1gQnriaB 3d0u3ZbriVL2gyIDOzEbRsrWltxr8BsOJ3fA00EpWkzm+tiRsOJhyneHzceF2s1hCCHvPokdL60 x06BSTKhLieaEx7fbedJpCl/mNkA8xjM4zpKYvyQxehGGVC11yJ2D5/lXWcn7WA7MNCjBDBjvJ3 qmp6sTWmyVAN3IdQKth45f6GXOIU/6L4Omzw1bf/e4601l11Fwf86Id/CPEjIYMFGjEc287WWqr MaqqkfYztEXkm2tOVbJDPV8MmfLLUjvY= X-Google-Smtp-Source: AGHT+IF+41V7lcCUFCWqTcAdBeeLvlKlc4HtYVmTB9hPrleFeWk2qGvDBqLzdaGn0FgLDvPGXsh4E+ghq+Fv X-Received: by 2002:a17:902:d4cf:b0:254:70cb:5b36 with SMTP id d9443c01a7336-2951a3494aamr58796315ad.8.1761958543657; Fri, 31 Oct 2025 17:55:43 -0700 (PDT) Received: from postal.iol.unh.edu (postal.iol.unh.edu. [132.177.123.84]) by smtp-relay.gmail.com with ESMTPS id d9443c01a7336-2954da0bb2fsm1144825ad.47.2025.10.31.17.55.43 (version=TLS1_2 cipher=ECDHE-ECDSA-AES128-GCM-SHA256 bits=128/128); Fri, 31 Oct 2025 17:55:43 -0700 (PDT) X-Relaying-Domain: iol.unh.edu Date: Fri, 31 Oct 2025 17:55:43 -0700 (PDT) Message-ID: <69055a8f.170a0220.49cbe.626dSMTPIN_ADDED_MISSING@mx.google.com> Received: from [172.21.0.2] (unknown [172.18.0.240]) by postal.iol.unh.edu (Postfix) with ESMTP id D48996051830; Fri, 31 Oct 2025 20:55:42 -0400 (EDT) Subject: |SUCCESS| [GIT MASTER] 8c4861d00aabcf54ef9d6f1df2a4cfb37c06f6c2 From: dpdklab@iol.unh.edu To: Test Report Cc: dpdk-test-reports@iol.unh.edu Content-Type: text/plain X-BeenThere: test-report@dpdk.org X-Mailman-Version: 2.1.29 Precedence: list List-Id: automatic DPDK test reports List-Unsubscribe: , List-Archive: List-Post: List-Help: List-Subscribe: , Errors-To: test-report-bounces@dpdk.org _Testing PASS_ Branch: dpdk 8c4861d00aabcf54ef9d6f1df2a4cfb37c06f6c2 --> testing pass Upstream job id: Generic-VM-Unit-Test-DPDK#32211 Test environment and result as below: +-------------------------------+----------------+ | Environment | dpdk_unit_test | +===============================+================+ | Fedora Linux 41 | PASS | +-------------------------------+----------------+ | Red Hat Enterprise Linux 8.10 | PASS | +-------------------------------+----------------+ | Ubuntu 22.04 | PASS | +-------------------------------+----------------+ | Fedora Linux 42 | PASS | +-------------------------------+----------------+ | Ubuntu 24.04 | PASS | +-------------------------------+----------------+ | Debian GNU/Linux 12 | PASS | +-------------------------------+----------------+ | CentOS Stream 9 | PASS | +-------------------------------+----------------+ | Ubuntu 20.04 | PASS | +-------------------------------+----------------+ | Fedora Linux 40 | PASS | +-------------------------------+----------------+ | Red Hat Enterprise Linux 9.5 | PASS | +-------------------------------+----------------+ | CentOS Stream 10 | PASS | +-------------------------------+----------------+ | Arch Linux 20250613.0.365270 | PASS | +-------------------------------+----------------+ | Windows Server 2022 | PASS | +-------------------------------+----------------+ Fedora Linux 41 Kernel: 5.15 Compiler: gcc gcc (GCC) 14.3.1 20250523 (Red Hat 14.3.1-1) Red Hat Enterprise Linux 8.10 Kernel: 5.15 Compiler: gcc gcc (GCC) 8.5.0 20210514 (Red Hat 8.5.0-22) Ubuntu 22.04 Kernel: 5.15 Compiler: gcc gcc (Ubuntu 11.4.0-1ubuntu1~22.04) 11.4.0 Fedora Linux 42 Kernel: 5.15 Compiler: gcc gcc (GCC) 15.2.1 20250808 (Red Hat 15.2.1-1) Ubuntu 24.04 Kernel: 5.15 Compiler: gcc gcc (Ubuntu 13.3.0-6ubuntu2~24.04) 13.3.0 Debian GNU/Linux 12 Kernel: 5.15 Compiler: gcc gcc (Debian 12.2.0-14+deb12u1) 12.2.0 CentOS Stream 9 Kernel: 5.15 Compiler: gcc gcc (GCC) 11.5.0 20240719 (Red Hat 11.5.0-11) Ubuntu 20.04 Kernel: 5.15 Compiler: gcc gcc (Ubuntu 9.4.0-1ubuntu1~20.04.2) 9.4.0 Fedora Linux 40 Kernel: 5.15 Compiler: gcc gcc (GCC) 14.2.1 20240912 (Red Hat 14.2.1-3) Red Hat Enterprise Linux 9.5 Kernel: 5.15 Compiler: gcc gcc (GCC) 11.5.0 20240719 (Red Hat 11.5.0-2) CentOS Stream 10 Kernel: 5.15 Compiler: gcc gcc (GCC) 14.2.1 20250110 (Red Hat 14.2.1-8) Arch Linux 20250613.0.365270 Kernel: 5.15 Compiler: gcc gcc (GCC) 15.1.1 20250425 Windows Server 2022 Kernel: 10.0.20348.2031 Compiler: clang 15.0.7, gcc 14.1.0 (MinGW), and MSVC VS 19.39.33521 To view detailed results, visit: https://lab.dpdk.org/results/dashboard/tarballs/35415/ UNH-IOL DPDK Community Lab To manage your email subscriptions, visit: https://lab.dpdk.org/results/dashboard/preferences/subscriptions/