From mboxrd@z Thu Jan 1 00:00:00 1970 Return-Path: Received: from mails.dpdk.org (mails.dpdk.org [217.70.189.124]) by inbox.dpdk.org (Postfix) with ESMTP id 8A3ED48A46 for ; Sat, 1 Nov 2025 02:00:41 +0100 (CET) Received: from mails.dpdk.org (localhost [127.0.0.1]) by mails.dpdk.org (Postfix) with ESMTP id 44E4240150; Sat, 1 Nov 2025 02:00:41 +0100 (CET) Received: from mail-pg1-f226.google.com (mail-pg1-f226.google.com [209.85.215.226]) by mails.dpdk.org (Postfix) with ESMTP id E91A440150 for ; Sat, 1 Nov 2025 02:00:39 +0100 (CET) Received: by mail-pg1-f226.google.com with SMTP id 41be03b00d2f7-b6ce806af3eso2753112a12.0 for ; Fri, 31 Oct 2025 18:00:39 -0700 (PDT) DKIM-Signature: v=1; a=rsa-sha256; c=relaxed/relaxed; d=iol.unh.edu; s=unh-iol; t=1761958839; x=1762563639; darn=dpdk.org; h=cc:to:from:subject:message-id:date:from:to:cc:subject:date :message-id:reply-to; bh=bQIFAL2z0UeCwsE0DRmEatNdDy28FHMNUmZNZS8mzf0=; b=F65z8B3AjsvdEjEB8pjF34VAoeJt3s5y3Jm4RnPbMVqiaRPa/JmwJnbCRtw61ufFml oD/uDMrSPjnnBkyDdhlCn1vBdsCDOqZtOl5r1oojsMgyD6uCzAdWEWF77UzQ029Ykt0k MXPh7xNfdQnKxTG085/PjCYRyLGGdwZP8PxBU= X-Google-DKIM-Signature: v=1; a=rsa-sha256; c=relaxed/relaxed; d=1e100.net; s=20230601; t=1761958839; x=1762563639; h=cc:to:from:subject:message-id:date:x-gm-message-state:from:to:cc :subject:date:message-id:reply-to; bh=bQIFAL2z0UeCwsE0DRmEatNdDy28FHMNUmZNZS8mzf0=; b=rqhsJ0vUNJ7782EgfNH6KWsr9J+Wt770Nclzk8jBiO+uA709Mj9AHpfHUPew0Ahb2k Y7OWN744r6YeDBRgj9ObEsfUTDpPPY3pKhwaKkY6CkasKHz1VVOEBbiUqyf1vnbvp5/1 /YVyUS+8OW5Dhqs4snAyP/WNSUvaBxAm5+sBmlt9jRRyQomGHhEGXOomuRxDSfRP1QXe I4Wd838hpA/AqwkkNiFjUYguYptHQ2WLUaPcxJSVeFKxfjeOfOALnDpbGcwVAx05ZhPc MmS915kYU5HoH2ch+OfufLABariMGtK46gZtmik9mvrvCd7ulG/vbypf/+QJjH/LbI8c grrg== X-Gm-Message-State: AOJu0Yzj2NDNGLp6lCd5C9tCaBIlGg2mF+BW2U1M76MwvcCz5SbkRKa3 8/v56vZR4mj1/OwaPP8keTMYL9o09zS+ypmaUIKuoRHuCXoeZsKngLi/mmoPHLF3ZOHoyYFXfEE 3HJIQjPnqiLSn2Chp+2LbW9t2C4CTdjMsJZLqfPjUM0fqzWxHdzVHMli7RHi0 X-Gm-Gg: ASbGncsZvANfviGpRZvRsfoVQM+aKRlKdMCKVVmaWQ3ceHXmSkNMy8FkBGLuw9hb+fO IzvxaOBPC6mKzg4be3oJY5KhUXzShkkg40/NhIxJJjEtHRO+qc8R9tWV2/BZb9E367iQm2r8pbv FwEXSwTWIZE9foivt3CWRNhfpuIFwSMR/HXTReIqPCP/dvGdtLZnV1PK5+XQuWz8OMx7MYiyuIw DBdfAaiHAukKEa5OclU+PQJd7wQXScFvqW4ThO/Uk8OcvbtqJrkItJWmPVK5rxiosxJLXRbRKPN UXyD9aQtAI/eBl8aJ7oj+FYQ8P6TAhls8lXzfhZgE//Gk5WETX+yhFuXpG3gY3da7FX6yhG5gpp OjQH0o2Qk X-Google-Smtp-Source: AGHT+IHjGxG2P0ZtFRssBjB5CYQ/5VlqJPwTBTf1DyKDT1kF3F5YWSpNURmorRCezHHZAEUQX6MowpbafEki X-Received: by 2002:a17:903:2f8f:b0:294:f6e2:cea5 with SMTP id d9443c01a7336-2951a49726amr75170245ad.28.1761958838908; Fri, 31 Oct 2025 18:00:38 -0700 (PDT) Received: from postal.iol.unh.edu (postal.iol.unh.edu. [2606:4100:3880:1234::84]) by smtp-relay.gmail.com with ESMTPS id d9443c01a7336-29526984313sm2786065ad.50.2025.10.31.18.00.38 (version=TLS1_2 cipher=ECDHE-ECDSA-AES128-GCM-SHA256 bits=128/128); Fri, 31 Oct 2025 18:00:38 -0700 (PDT) X-Relaying-Domain: iol.unh.edu Date: Fri, 31 Oct 2025 18:00:38 -0700 (PDT) Message-ID: <69055bb6.170a0220.bff64.eb4cSMTPIN_ADDED_MISSING@mx.google.com> Received: from [172.21.0.3] (unknown [172.18.0.240]) by postal.iol.unh.edu (Postfix) with ESMTP id 4E5806051830; Fri, 31 Oct 2025 21:00:38 -0400 (EDT) Subject: |SUCCESS| [GIT MASTER] 8c4861d00aabcf54ef9d6f1df2a4cfb37c06f6c2 From: dpdklab@iol.unh.edu To: Test Report Cc: dpdk-test-reports@iol.unh.edu Content-Type: text/plain X-BeenThere: test-report@dpdk.org X-Mailman-Version: 2.1.29 Precedence: list List-Id: automatic DPDK test reports List-Unsubscribe: , List-Archive: List-Post: List-Help: List-Subscribe: , Errors-To: test-report-bounces@dpdk.org _Testing PASS_ Branch: dpdk 8c4861d00aabcf54ef9d6f1df2a4cfb37c06f6c2 --> testing pass Upstream job id: Generic-VM-Unit-Test-DPDK#32212 Test environment and result as below: +-------------------------------+----------------+ | Environment | dpdk_unit_test | +===============================+================+ | Fedora Linux 41 | PASS | +-------------------------------+----------------+ | Red Hat Enterprise Linux 8.10 | PASS | +-------------------------------+----------------+ | Ubuntu 22.04 | PASS | +-------------------------------+----------------+ | Fedora Linux 42 | PASS | +-------------------------------+----------------+ | Ubuntu 24.04 | PASS | +-------------------------------+----------------+ | Debian GNU/Linux 12 | PASS | +-------------------------------+----------------+ | CentOS Stream 9 | PASS | +-------------------------------+----------------+ | Ubuntu 20.04 | PASS | +-------------------------------+----------------+ | Fedora Linux 40 | PASS | +-------------------------------+----------------+ | Red Hat Enterprise Linux 9.5 | PASS | +-------------------------------+----------------+ | CentOS Stream 10 | PASS | +-------------------------------+----------------+ | Arch Linux 20250613.0.365270 | PASS | +-------------------------------+----------------+ | Windows Server 2022 | PASS | +-------------------------------+----------------+ Fedora Linux 41 Kernel: 5.15 Compiler: gcc gcc (GCC) 14.3.1 20250523 (Red Hat 14.3.1-1) Red Hat Enterprise Linux 8.10 Kernel: 5.15 Compiler: gcc gcc (GCC) 8.5.0 20210514 (Red Hat 8.5.0-22) Ubuntu 22.04 Kernel: 5.15 Compiler: gcc gcc (Ubuntu 11.4.0-1ubuntu1~22.04) 11.4.0 Fedora Linux 42 Kernel: 5.15 Compiler: gcc gcc (GCC) 15.2.1 20250808 (Red Hat 15.2.1-1) Ubuntu 24.04 Kernel: 5.15 Compiler: gcc gcc (Ubuntu 13.3.0-6ubuntu2~24.04) 13.3.0 Debian GNU/Linux 12 Kernel: 5.15 Compiler: gcc gcc (Debian 12.2.0-14+deb12u1) 12.2.0 CentOS Stream 9 Kernel: 5.15 Compiler: gcc gcc (GCC) 11.5.0 20240719 (Red Hat 11.5.0-11) Ubuntu 20.04 Kernel: 5.15 Compiler: gcc gcc (Ubuntu 9.4.0-1ubuntu1~20.04.2) 9.4.0 Fedora Linux 40 Kernel: 5.15 Compiler: gcc gcc (GCC) 14.2.1 20240912 (Red Hat 14.2.1-3) Red Hat Enterprise Linux 9.5 Kernel: 5.15 Compiler: gcc gcc (GCC) 11.5.0 20240719 (Red Hat 11.5.0-2) CentOS Stream 10 Kernel: 5.15 Compiler: gcc gcc (GCC) 14.2.1 20250110 (Red Hat 14.2.1-8) Arch Linux 20250613.0.365270 Kernel: 5.15 Compiler: gcc gcc (GCC) 15.1.1 20250425 Windows Server 2022 Kernel: 10.0.20348.2031 Compiler: clang 15.0.7, gcc 14.1.0 (MinGW), and MSVC VS 19.39.33521 To view detailed results, visit: https://lab.dpdk.org/results/dashboard/tarballs/35415/ UNH-IOL DPDK Community Lab To manage your email subscriptions, visit: https://lab.dpdk.org/results/dashboard/preferences/subscriptions/