From mboxrd@z Thu Jan 1 00:00:00 1970 Return-Path: Received: from mails.dpdk.org (mails.dpdk.org [217.70.189.124]) by inbox.dpdk.org (Postfix) with ESMTP id 7B1CD48A56 for ; Sat, 1 Nov 2025 03:17:26 +0100 (CET) Received: from mails.dpdk.org (localhost [127.0.0.1]) by mails.dpdk.org (Postfix) with ESMTP id 53D5A40150; Sat, 1 Nov 2025 03:17:26 +0100 (CET) Received: from mail-qk1-f227.google.com (mail-qk1-f227.google.com [209.85.222.227]) by mails.dpdk.org (Postfix) with ESMTP id 64A5840261 for ; Sat, 1 Nov 2025 03:17:25 +0100 (CET) Received: by mail-qk1-f227.google.com with SMTP id af79cd13be357-89ed2ee36b0so283317685a.2 for ; Fri, 31 Oct 2025 19:17:25 -0700 (PDT) DKIM-Signature: v=1; a=rsa-sha256; c=relaxed/relaxed; d=iol.unh.edu; s=unh-iol; t=1761963445; x=1762568245; darn=dpdk.org; h=references:in-reply-to:cc:to:from:subject:message-id:date:from:to :cc:subject:date:message-id:reply-to; bh=NoDjvmaCPWFstoOm1IEAgSLfRNWYD1222j/UdrJptSg=; b=ioyYhi9BhSLBWAF6KkNP7rHlD9DdfnHjCecAPMQFjt+Dnlr34/BPk4HXl5mChERIqB JkLP4MMPj57kcctPbetM4diumnY74rodJofEeEmXIjreKrUIDNbPBFplWR7Js91WJM4y m4fRaNMUFIhaB2P9VVNCzTKk2LwcdOIOVWHPE= X-Google-DKIM-Signature: v=1; a=rsa-sha256; c=relaxed/relaxed; d=1e100.net; s=20230601; t=1761963445; x=1762568245; h=references:in-reply-to:cc:to:from:subject:message-id:date :x-gm-message-state:from:to:cc:subject:date:message-id:reply-to; bh=NoDjvmaCPWFstoOm1IEAgSLfRNWYD1222j/UdrJptSg=; b=pnOo+Yb8+PD297p/yvZrY5aQ3ZXHoeR8wYSVbRqa98/JbQRFL6yAv9Hi+/hchS5r/o SgazrC8h2gIol8HrNVRm01TBDzvaiiN14aAkkgHGHfKRg46r4LEbfc9+1tgTYkmlZKJP +baCR5gRX5vbVzH/mhuCmdwaVCi7zf5dyiozko9fqhGFMVAgEuC99mgdS6++3oj9yKXu znTihaZEH3sqRTzEsGokcTd+VZeC7dle3iVP2+1YUBvNhhpE5LC79RBvIIyyHQCukwnd YFxgREucV/VW1HRFxfJ4paVOtRtvmglyJjp6wd0Mu80HahDq4apymfYSteLElWa8mnys D+6A== X-Gm-Message-State: AOJu0Yx6mDOEbZs4lAeZLuO9lmHfQ6kgUuxHOxlP3+WYEIM6Ca30lwz/ 5Fc7foip0vHchXaN5c7cKZDcuepoAJ6Se+o8CvGF4r86eNqvTGYS+cZ1cWaS3J5LPxJ0tcrgSuB MIjpgga/AVOotM3rIt8DddS3Q5/9cDS7bnkOPDOfYOaYa X-Gm-Gg: ASbGncu3S+8hHDJ0507pFM7fL9gw4UwqzEtqFcZ7kOvs/hn1FSYcp+HohY/BTiUyr+v ssgoPGz0OE5zC/XlGwpnujCHysksVpvB408alHCmZ1swdZnHl98IImAlVviAa8IYW7+yhPBBtCb OVYW/D1QN1+gbVjZjsqL3qtjqiXpdUkdS/c62EoiUvdhohnSxtWjNcdwj+JDYGrqXL4EL5vj087 4ueNXdxnIJF81pHAZ+4A6dNOvdeKvR4Xhe4IOK+V/Sgc0k1p3FeAEl/tI8LdNxAVMGpxImlN3NN 0NrMda63w7aTOEjO8UHE6kt2KDh/ahHFm6BtgG4peYF6ir9NEuXMthaqJug0jcQ2Ajx0/9NznFt DqLgGNTT/f1h8pE6PceVQTs1nUltbzW8= X-Google-Smtp-Source: AGHT+IHuGzxRlVUK/4n8PMo0mCYajTsx25HH1XH/ToszdhmOWWJ9g/Vi87dGGz1KD7GQFKBA7/r7Wv0VgO11 X-Received: by 2002:a05:620a:1a0b:b0:8a2:2e2b:2c72 with SMTP id af79cd13be357-8ab99591f33mr704834685a.25.1761963444619; Fri, 31 Oct 2025 19:17:24 -0700 (PDT) Received: from postal.iol.unh.edu (postal.iol.unh.edu. [132.177.123.84]) by smtp-relay.gmail.com with ESMTPS id af79cd13be357-8ac024c5417sm30742585a.5.2025.10.31.19.17.24 (version=TLS1_2 cipher=ECDHE-ECDSA-AES128-GCM-SHA256 bits=128/128); Fri, 31 Oct 2025 19:17:24 -0700 (PDT) X-Relaying-Domain: iol.unh.edu Date: Fri, 31 Oct 2025 19:17:24 -0700 (PDT) Message-ID: <69056db4.050a0220.1ce461.0328SMTPIN_ADDED_MISSING@mx.google.com> Received: from [172.21.0.2] (unknown [172.18.0.240]) by postal.iol.unh.edu (Postfix) with ESMTP id 50FFB6051830; Fri, 31 Oct 2025 22:17:24 -0400 (EDT) Subject: |SUCCESS| pw158325 [PATCH] graph: fix use-after-free when updating e From: dpdklab@iol.unh.edu To: Test Report Cc: dpdk-test-reports@iol.unh.edu In-Reply-To: <20251031221304.394997-2-rjarry@redhat.com> References: <20251031221304.394997-2-rjarry@redhat.com> Content-Type: text/plain X-BeenThere: test-report@dpdk.org X-Mailman-Version: 2.1.29 Precedence: list List-Id: automatic DPDK test reports List-Unsubscribe: , List-Archive: List-Post: List-Help: List-Subscribe: , Errors-To: test-report-bounces@dpdk.org Test-Label: iol-compile-arm64-testing Test-Status: SUCCESS http://dpdk.org/patch/158325 _Testing PASS_ Submitter: Robin Jarry Date: Friday, October 31 2025 22:13:04 DPDK git baseline: Repo:dpdk Branch: master CommitID:8c4861d00aabcf54ef9d6f1df2a4cfb37c06f6c2 158325 --> testing pass Upstream job id: Generic-DPDK-Compile-Meson#439704 Test environment and result as below: +------------------------------+--------------------+ | Environment | dpdk_meson_compile | +==============================+====================+ | Ubuntu 22.04 | PASS | +------------------------------+--------------------+ | Fedora Linux 42 | PASS | +------------------------------+--------------------+ | Ubuntu 20.04 | PASS | +------------------------------+--------------------+ | Red Hat Enterprise Linux 9.5 | PASS | +------------------------------+--------------------+ | CentOS Stream 10 | PASS | +------------------------------+--------------------+ | Debian GNU/Linux 12 | PASS | +------------------------------+--------------------+ | Ubuntu 24.04 | PASS | +------------------------------+--------------------+ | CentOS Stream 9 | PASS | +------------------------------+--------------------+ Ubuntu 22.04 Kernel: 5.4 Compiler: gcc gcc (Ubuntu 11.4.0-1ubuntu1~22.04) 11.4.0 Fedora Linux 42 Kernel: 5.4 Compiler: gcc gcc (GCC) 15.2.1 20250808 (Red Hat 15.2.1-1) Ubuntu 20.04 Kernel: 5.15 Compiler: aarch64-linux-gnu-gcc gcc (Ubuntu 9.4.0-1ubuntu1~20.04.2) 9.4.0 Red Hat Enterprise Linux 9.5 Kernel: 5.4 Compiler: gcc gcc (GCC) 11.5.0 20240719 (Red Hat 11.5.0-2) CentOS Stream 10 Kernel: 5.4 Compiler: gcc gcc (GCC) 14.2.1 20250110 (Red Hat 14.2.1-8) Debian GNU/Linux 12 Kernel: 5.4 Compiler: gcc gcc (Debian 12.2.0-14+deb12u1) 12.2.0 Ubuntu 24.04 Kernel: 5.4 Compiler: gcc gcc (Ubuntu 13.3.0-6ubuntu2~24.04) 13.3.0 CentOS Stream 9 Kernel: 5.4 Compiler: gcc gcc (GCC) 11.5.0 20240719 (Red Hat 11.5.0-11) To view detailed results, visit: https://lab.dpdk.org/results/dashboard/patchsets/34436/ UNH-IOL DPDK Community Lab To manage your email subscriptions, visit: https://lab.dpdk.org/results/dashboard/preferences/subscriptions/