From mboxrd@z Thu Jan 1 00:00:00 1970 Return-Path: Received: from mails.dpdk.org (mails.dpdk.org [217.70.189.124]) by inbox.dpdk.org (Postfix) with ESMTP id 3AAB248A5B for ; Sat, 1 Nov 2025 04:28:32 +0100 (CET) Received: from mails.dpdk.org (localhost [127.0.0.1]) by mails.dpdk.org (Postfix) with ESMTP id EA2C340150; Sat, 1 Nov 2025 04:28:31 +0100 (CET) Received: from mail-qt1-f226.google.com (mail-qt1-f226.google.com [209.85.160.226]) by mails.dpdk.org (Postfix) with ESMTP id D6B6240150 for ; Sat, 1 Nov 2025 04:28:30 +0100 (CET) Received: by mail-qt1-f226.google.com with SMTP id d75a77b69052e-4ed3d00c359so10622121cf.1 for ; Fri, 31 Oct 2025 20:28:30 -0700 (PDT) DKIM-Signature: v=1; a=rsa-sha256; c=relaxed/relaxed; d=iol.unh.edu; s=unh-iol; t=1761967710; x=1762572510; darn=dpdk.org; h=cc:to:from:subject:message-id:date:from:to:cc:subject:date :message-id:reply-to; bh=55B7nZALB58/3K9yXgt09OpFrbgm9EaAKQHo1J8fCfw=; b=YJQHsh3au9aoQJlTseu4iXpbPMUpP3xjWisrLZZrqBoPQJ2rwVfGNQZPAJT15OAi82 ovSVdi09qH1K/K5LMAhfgsXzVYcgatty11617U54eXGk9dmDRT3NNMNrLtyagM8u+lhg 4DtcYWv11knid0sbYpdZe51IJLOX6QeT1XRaE= X-Google-DKIM-Signature: v=1; a=rsa-sha256; c=relaxed/relaxed; d=1e100.net; s=20230601; t=1761967710; x=1762572510; h=cc:to:from:subject:message-id:date:x-gm-message-state:from:to:cc :subject:date:message-id:reply-to; bh=55B7nZALB58/3K9yXgt09OpFrbgm9EaAKQHo1J8fCfw=; b=e+xZ7he72UnseZDlV6Do2dP7qOc+Q2MqJ83aFwt3VUlHcgFaE+ntp+rfrgvJVx/zPQ pXsSLMH0LKy9n6ruF4mKo43j2j1HZ8vu2XuZsD6IoqZUoWNETxmAWn94VHFw3JiDJoge sPmwQsdtuau+oj6JUXp+GMfrzdh5DMlDxWO90sgT3gEOACRNrNyTxIQps2J9qUfVs7md kBDO5rwxsaEji2ckB5azNzNDivy4QqEangA18QR+867CuFicGXa93kr/9y1VWYjo2BeO 1usVHd9JLId2VXFV6iSlrnQRzAe2Iy5Erhfch7qLVzIoCXw+h9N+7etvqjj1sAl58nA3 uYhg== X-Gm-Message-State: AOJu0Yyv6x+yxDKr+gKkI1h20MfamrDi8QUNu45W04BHJH0FD8lBQ1AK DC2mN9Ge3/qrIJLzO0EDO8q35xXGkvdrYwuA8oWMSw3Noo4eWBlxykzji8jvZQis9nvpIGhaPGQ ZFvhOtZ77Wsn8jjE5b2Anc68HW6BEHyShwZn3hK7XX+aTESmAwS9RUOa7y5ru X-Gm-Gg: ASbGncteJJm5Am0dbfXselWqT5NRdf/iBIK4rZDp896NntOoVS78mLX6Cr6eRX1KZri r5fQYWDHa9wEcRH6hKCz4rlf2GG1rRgHrekuH6opkYYk1EEE5ihRgrGL4MIrIfx9hUTvfxnjjge nRoKD4d7P+QMi8OCkf9E8W2A6h44Sh02s5kPS41n6JQvtix9CwB/5KZ4EazdpnAbGCyLN+0Zdq0 R/Yh2okRm8xUb9jPWpnoDHvWCX6XJ0TKVd7RSc0h3Vn9/RqYkwy0HYUA3DNJbmk5j2uYt70HBZk Q9tUWvxyUFBUbn4/PHUO762ODhmGUcGA5fEfh7+rnsr7JStLDjCykqp9TU8pN26ABM2Bx26t6zX YEvkdQ6oQ X-Google-Smtp-Source: AGHT+IEys8eSE7wDXlgvEIHWADrUXv+peU1jRUNl0Tw20j9Q9NlGmsyHDkIBx7ZM2zKzDvSQsQOP99hFLLT4 X-Received: by 2002:a05:622a:598a:b0:4cb:9ad0:9978 with SMTP id d75a77b69052e-4ed30333b3dmr76545001cf.30.1761967710040; Fri, 31 Oct 2025 20:28:30 -0700 (PDT) Received: from postal.iol.unh.edu (postal.iol.unh.edu. [2606:4100:3880:1234::84]) by smtp-relay.gmail.com with ESMTPS id d75a77b69052e-4ed34fd1381sm2287151cf.2.2025.10.31.20.28.29 (version=TLS1_2 cipher=ECDHE-ECDSA-AES128-GCM-SHA256 bits=128/128); Fri, 31 Oct 2025 20:28:30 -0700 (PDT) X-Relaying-Domain: iol.unh.edu Date: Fri, 31 Oct 2025 20:28:30 -0700 (PDT) Message-ID: <69057e5e.050a0220.2fde50.bea8SMTPIN_ADDED_MISSING@mx.google.com> Received: from [172.21.0.2] (unknown [172.18.0.240]) by postal.iol.unh.edu (Postfix) with ESMTP id 7DC1960003F4; Fri, 31 Oct 2025 23:28:29 -0400 (EDT) Subject: |SUCCESS| [GIT MASTER] 8c4861d00aabcf54ef9d6f1df2a4cfb37c06f6c2 From: dpdklab@iol.unh.edu To: Test Report Cc: dpdk-test-reports@iol.unh.edu Content-Type: text/plain X-BeenThere: test-report@dpdk.org X-Mailman-Version: 2.1.29 Precedence: list List-Id: automatic DPDK test reports List-Unsubscribe: , List-Archive: List-Post: List-Help: List-Subscribe: , Errors-To: test-report-bounces@dpdk.org _Testing PASS_ Branch: dpdk 8c4861d00aabcf54ef9d6f1df2a4cfb37c06f6c2 --> testing pass Upstream job id: Generic-DPDK-Compile-Meson#439732 Test environment and result as below: +------------------------------+--------------------+ | Environment | dpdk_meson_compile | +==============================+====================+ | Ubuntu 20.04 | PASS | +------------------------------+--------------------+ | Red Hat Enterprise Linux 9.5 | PASS | +------------------------------+--------------------+ | Debian GNU/Linux 12 | PASS | +------------------------------+--------------------+ | Fedora Linux 42 | PASS | +------------------------------+--------------------+ | Ubuntu 22.04 | PASS | +------------------------------+--------------------+ | CentOS Stream 9 | PASS | +------------------------------+--------------------+ | Ubuntu 24.04 | PASS | +------------------------------+--------------------+ | CentOS Stream 10 | PASS | +------------------------------+--------------------+ Ubuntu 20.04 Kernel: 5.15 Compiler: aarch64-linux-gnu-gcc gcc (Ubuntu 9.4.0-1ubuntu1~20.04.2) 9.4.0 Red Hat Enterprise Linux 9.5 Kernel: 5.4 Compiler: gcc gcc (GCC) 11.5.0 20240719 (Red Hat 11.5.0-2) Debian GNU/Linux 12 Kernel: 5.4 Compiler: gcc gcc (Debian 12.2.0-14+deb12u1) 12.2.0 Fedora Linux 42 Kernel: 5.4 Compiler: clang gcc (GCC) 15.2.1 20250808 (Red Hat 15.2.1-1) Ubuntu 22.04 Kernel: 5.4 Compiler: gcc gcc (Ubuntu 11.4.0-1ubuntu1~22.04) 11.4.0 CentOS Stream 9 Kernel: 5.4 Compiler: gcc gcc (GCC) 11.5.0 20240719 (Red Hat 11.5.0-11) Ubuntu 24.04 Kernel: 5.4 Compiler: gcc gcc (Ubuntu 13.3.0-6ubuntu2~24.04) 13.3.0 CentOS Stream 10 Kernel: 5.4 Compiler: gcc gcc (GCC) 14.2.1 20250110 (Red Hat 14.2.1-8) To view detailed results, visit: https://lab.dpdk.org/results/dashboard/tarballs/35415/ UNH-IOL DPDK Community Lab To manage your email subscriptions, visit: https://lab.dpdk.org/results/dashboard/preferences/subscriptions/