* |SUCCESS| [GIT MASTER] 42105ccaeef093ad8c7ce11d1bde3652861b783b
@ 2025-11-01 5:42 dpdklab
0 siblings, 0 replies; 7+ messages in thread
From: dpdklab @ 2025-11-01 5:42 UTC (permalink / raw)
To: Test Report
Cc: dpdk-test-reports, Xueming Li, Christian Ehrhardt, Kevin Traynor,
Luca Boccassi
_Performance Testing PASS_
Branch: tags/v22.11
42105ccaeef093ad8c7ce11d1bde3652861b783b --> performance testing pass
Upstream job id: Template-DTS-Pipeline#252365
Test environment and result as below:
Ubuntu 22.04
Kernel: 5.15
Compiler: gcc gcc (Ubuntu 11.4.0-1ubuntu1~22.04) 11.4.0
NIC: Broadcom Inc. and subsidiaries BCM57414 NetXtreme-E 10Gb/25Gb RDMA Ethernet Controller 16d7 25 Mbps
Fail/Total: 0/3
Detail performance results:
+------------+---------+----------+-------------+------------------------------+
| frame_size | txd/rxd | num_cpus | num_threads | throughput difference from |
| | | | | expected |
+============+=========+==========+=============+==============================+
| 64 | 128 | 1 | 1 | 0.5% |
+------------+---------+----------+-------------+------------------------------+
| 64 | 512 | 1 | 1 | 0.3% |
+------------+---------+----------+-------------+------------------------------+
| 64 | 2048 | 1 | 1 | -3.4% |
+------------+---------+----------+-------------+------------------------------+
Ubuntu 22.04
Kernel: 5.15
Compiler: gcc gcc (Ubuntu 11.4.0-1ubuntu1~22.04.2) 11.4.0
NIC: Arm Broadcom Inc. brcm_57414 25000 Mbps
Fail/Total: 0/2
Detail performance results:
+------------+---------+----------+-------------+------------------------------+
| frame_size | txd/rxd | num_cpus | num_threads | throughput difference from |
| | | | | expected |
+============+=========+==========+=============+==============================+
| 64 | 512 | 1 | 1 | -0.1% |
+------------+---------+----------+-------------+------------------------------+
| 64 | 2048 | 1 | 1 | -0.6% |
+------------+---------+----------+-------------+------------------------------+
To view detailed results, visit:
https://lab.dpdk.org/results/dashboard/tarballs/35416/
UNH-IOL DPDK Community Lab
To manage your email subscriptions, visit:
https://lab.dpdk.org/results/dashboard/preferences/subscriptions/
^ permalink raw reply [flat|nested] 7+ messages in thread
* |SUCCESS| [GIT MASTER] 42105ccaeef093ad8c7ce11d1bde3652861b783b
@ 2025-11-01 10:02 dpdklab
0 siblings, 0 replies; 7+ messages in thread
From: dpdklab @ 2025-11-01 10:02 UTC (permalink / raw)
To: Test Report
Cc: dpdk-test-reports, Xueming Li, Christian Ehrhardt, Kevin Traynor,
Luca Boccassi
_Testing PASS_
Branch: tags/v22.11
42105ccaeef093ad8c7ce11d1bde3652861b783b --> testing pass
Upstream job id: Generic-DPDK-Compile-Meson#439757
Test environment and result as below:
+------------------------------+--------------------+
| Environment | dpdk_meson_compile |
+==============================+====================+
| Ubuntu 20.04 | PASS |
+------------------------------+--------------------+
| Debian GNU/Linux 12 | PASS |
+------------------------------+--------------------+
| CentOS Stream 9 | PASS |
+------------------------------+--------------------+
| CentOS Stream 10 | PASS |
+------------------------------+--------------------+
| Ubuntu 22.04 | PASS |
+------------------------------+--------------------+
| Red Hat Enterprise Linux 9.5 | PASS |
+------------------------------+--------------------+
| Fedora Linux 42 | PASS |
+------------------------------+--------------------+
| Ubuntu 24.04 | PASS |
+------------------------------+--------------------+
Ubuntu 20.04
Kernel: 5.15
Compiler: aarch64-linux-gnu-gcc gcc (Ubuntu 9.4.0-1ubuntu1~20.04.2) 9.4.0
Debian GNU/Linux 12
Kernel: 5.4
Compiler: gcc gcc (Debian 12.2.0-14+deb12u1) 12.2.0
CentOS Stream 9
Kernel: 5.4
Compiler: gcc gcc (GCC) 11.5.0 20240719 (Red Hat 11.5.0-11)
CentOS Stream 10
Kernel: 5.4
Compiler: gcc gcc (GCC) 14.2.1 20250110 (Red Hat 14.2.1-8)
Ubuntu 22.04
Kernel: 5.4
Compiler: gcc gcc (Ubuntu 11.4.0-1ubuntu1~22.04) 11.4.0
Red Hat Enterprise Linux 9.5
Kernel: 5.4
Compiler: gcc gcc (GCC) 11.5.0 20240719 (Red Hat 11.5.0-2)
Fedora Linux 42
Kernel: 5.4
Compiler: gcc gcc (GCC) 15.2.1 20250808 (Red Hat 15.2.1-1)
Ubuntu 24.04
Kernel: 5.4
Compiler: gcc gcc (Ubuntu 13.3.0-6ubuntu2~24.04) 13.3.0
To view detailed results, visit:
https://lab.dpdk.org/results/dashboard/tarballs/35416/
UNH-IOL DPDK Community Lab
To manage your email subscriptions, visit:
https://lab.dpdk.org/results/dashboard/preferences/subscriptions/
^ permalink raw reply [flat|nested] 7+ messages in thread
* |SUCCESS| [GIT MASTER] 42105ccaeef093ad8c7ce11d1bde3652861b783b
@ 2025-11-01 6:05 dpdklab
0 siblings, 0 replies; 7+ messages in thread
From: dpdklab @ 2025-11-01 6:05 UTC (permalink / raw)
To: Test Report
Cc: dpdk-test-reports, Xueming Li, Christian Ehrhardt, Kevin Traynor,
Luca Boccassi
_Functional Testing PASS_
Branch: tags/v22.11
42105ccaeef093ad8c7ce11d1bde3652861b783b --> functional testing pass
Upstream job id: Template-DTS-Pipeline#252369
Test environment and result as below:
Ubuntu 24.04
Kernel: 6.8
Compiler: gcc gcc (Ubuntu 13.3.0-6ubuntu2~24.04) 13.3.0
NIC: Intel Corporation 4xxx Series QAT 0 Mbps
Aggregate Results by Test Suite
+----------------------------+--------+
| Test Suite | Result |
+============================+========+
| crypto_perf_cryptodev_perf | PASS |
+----------------------------+--------+
Ubuntu 22.04
Kernel: 5.15
Compiler: gcc gcc (Ubuntu 11.4.0-1ubuntu1~22.04.2) 11.4.0
NIC: Intel Corporation QAT 8970 0 Mbps
Aggregate Results by Test Suite
+----------------------------+--------+
| Test Suite | Result |
+============================+========+
| crypto_perf_cryptodev_perf | PASS |
+----------------------------+--------+
Ubuntu 20.04
Kernel: 5.4
Compiler: gcc gcc (Ubuntu 9.4.0-1ubuntu1~20.04.1) 9.4.0
NIC: Intel Corporation Ethernet Converged Network Adapter XL710-QDA2 40000 Mbps
Aggregate Results by Test Suite
+-----------------------------+--------+
| Test Suite | Result |
+=============================+========+
| unit_tests_mbuf | PASS |
+-----------------------------+--------+
| vhost_virtio_user_interrupt | PASS |
+-----------------------------+--------+
| virtio_smoke | PASS |
+-----------------------------+--------+
To view detailed results, visit:
https://lab.dpdk.org/results/dashboard/tarballs/35416/
UNH-IOL DPDK Community Lab
To manage your email subscriptions, visit:
https://lab.dpdk.org/results/dashboard/preferences/subscriptions/
^ permalink raw reply [flat|nested] 7+ messages in thread
* |SUCCESS| [GIT MASTER] 42105ccaeef093ad8c7ce11d1bde3652861b783b
@ 2025-11-01 5:49 dpdklab
0 siblings, 0 replies; 7+ messages in thread
From: dpdklab @ 2025-11-01 5:49 UTC (permalink / raw)
To: Test Report
Cc: dpdk-test-reports, Xueming Li, Christian Ehrhardt, Kevin Traynor,
Luca Boccassi
_Testing PASS_
Branch: tags/v22.11
42105ccaeef093ad8c7ce11d1bde3652861b783b --> testing pass
Upstream job id: Generic-DPDK-Compile-Meson#439745
Test environment and result as below:
+-------------------------------+--------------------+-------------------------+----------------------+
| Environment | dpdk_meson_compile | dpdk_llvm_clang_compile | dpdk_mingw64_compile |
+===============================+====================+=========================+======================+
| FreeBSD 14.2 | PASS | SKIPPED | SKIPPED |
+-------------------------------+--------------------+-------------------------+----------------------+
| Ubuntu 20.04 | PASS | SKIPPED | SKIPPED |
+-------------------------------+--------------------+-------------------------+----------------------+
| Fedora Linux 42 | PASS | SKIPPED | SKIPPED |
+-------------------------------+--------------------+-------------------------+----------------------+
| CentOS Stream 9 | PASS | SKIPPED | SKIPPED |
+-------------------------------+--------------------+-------------------------+----------------------+
| Debian GNU/Linux 12 | PASS | SKIPPED | SKIPPED |
+-------------------------------+--------------------+-------------------------+----------------------+
| openSUSE Leap 15.6 | PASS | SKIPPED | SKIPPED |
+-------------------------------+--------------------+-------------------------+----------------------+
| CentOS Stream 10 | PASS | SKIPPED | SKIPPED |
+-------------------------------+--------------------+-------------------------+----------------------+
| Ubuntu 22.04 | PASS | SKIPPED | SKIPPED |
+-------------------------------+--------------------+-------------------------+----------------------+
| Red Hat Enterprise Linux 8.10 | PASS | SKIPPED | SKIPPED |
+-------------------------------+--------------------+-------------------------+----------------------+
| Ubuntu 24.04 | PASS | SKIPPED | SKIPPED |
+-------------------------------+--------------------+-------------------------+----------------------+
| Red Hat Enterprise Linux 9.5 | PASS | SKIPPED | SKIPPED |
+-------------------------------+--------------------+-------------------------+----------------------+
| Windows Server 2022 | SKIPPED | PASS | PASS |
+-------------------------------+--------------------+-------------------------+----------------------+
FreeBSD 14.2
Kernel: 14.2-RELEASE
Compiler: clang 18.1.6
Ubuntu 20.04
Kernel: 4.19
Compiler: gcc gcc (Ubuntu 9.4.0-1ubuntu1~20.04.2) 9.4.0
Fedora Linux 42
Kernel: 5.15
Compiler: clang gcc (GCC) 15.2.1 20250808 (Red Hat 15.2.1-1)
CentOS Stream 9
Kernel: 5.15
Compiler: gcc gcc (GCC) 11.5.0 20240719 (Red Hat 11.5.0-11)
Debian GNU/Linux 12
Kernel: 5.15
Compiler: gcc gcc (Debian 12.2.0-14+deb12u1) 12.2.0
openSUSE Leap 15.6
Kernel: 5.15
Compiler: gcc gcc (SUSE Linux) 7.5.0
CentOS Stream 10
Kernel: 5.15
Compiler: gcc gcc (GCC) 14.2.1 20250110 (Red Hat 14.2.1-8)
Ubuntu 22.04
Kernel: 5.15
Compiler: gcc gcc (Ubuntu 11.4.0-1ubuntu1~22.04) 11.4.0
Red Hat Enterprise Linux 8.10
Kernel: 5.15
Compiler: gcc gcc (GCC) 8.5.0 20210514 (Red Hat 8.5.0-22)
Ubuntu 24.04
Kernel: 5.15
Compiler: gcc gcc (Ubuntu 13.3.0-6ubuntu2~24.04) 13.3.0
Red Hat Enterprise Linux 9.5
Kernel: 5.15
Compiler: gcc gcc (GCC) 11.5.0 20240719 (Red Hat 11.5.0-2)
Windows Server 2022
Kernel: 10.0.20348.2031
Compiler: clang 15.0.7, gcc 14.1.0 (MinGW), and MSVC VS 19.39.33521
To view detailed results, visit:
https://lab.dpdk.org/results/dashboard/tarballs/35416/
UNH-IOL DPDK Community Lab
To manage your email subscriptions, visit:
https://lab.dpdk.org/results/dashboard/preferences/subscriptions/
^ permalink raw reply [flat|nested] 7+ messages in thread
* |SUCCESS| [GIT MASTER] 42105ccaeef093ad8c7ce11d1bde3652861b783b
@ 2025-11-01 5:24 dpdklab
0 siblings, 0 replies; 7+ messages in thread
From: dpdklab @ 2025-11-01 5:24 UTC (permalink / raw)
To: Test Report
Cc: dpdk-test-reports, Xueming Li, Christian Ehrhardt, Kevin Traynor,
Luca Boccassi
_Functional Testing PASS_
Branch: tags/v22.11
42105ccaeef093ad8c7ce11d1bde3652861b783b --> functional testing pass
Upstream job id: Template-DTS-Pipeline#252367
Test environment and result as below:
Ubuntu 24.04
Kernel: 6.8
Compiler: gcc gcc (Ubuntu 13.3.0-6ubuntu2~24.04) 13.3.0
NIC: Intel Corporation 4xxx Series QAT 0 Mbps
Aggregate Results by Test Suite
+----------------------------+--------+
| Test Suite | Result |
+============================+========+
| crypto_perf_cryptodev_perf | PASS |
+----------------------------+--------+
Ubuntu 20.04
Kernel: 5.4
Compiler: gcc gcc (Ubuntu 9.4.0-1ubuntu1~20.04.1) 9.4.0
NIC: Intel Corporation Ethernet Converged Network Adapter XL710-QDA2 40000 Mbps
Aggregate Results by Test Suite
+-----------------------------+--------+
| Test Suite | Result |
+=============================+========+
| unit_tests_mbuf | PASS |
+-----------------------------+--------+
| vhost_virtio_user_interrupt | PASS |
+-----------------------------+--------+
| virtio_smoke | PASS |
+-----------------------------+--------+
To view detailed results, visit:
https://lab.dpdk.org/results/dashboard/tarballs/35416/
UNH-IOL DPDK Community Lab
To manage your email subscriptions, visit:
https://lab.dpdk.org/results/dashboard/preferences/subscriptions/
^ permalink raw reply [flat|nested] 7+ messages in thread
* |SUCCESS| [GIT MASTER] 42105ccaeef093ad8c7ce11d1bde3652861b783b
@ 2025-11-01 4:53 dpdklab
0 siblings, 0 replies; 7+ messages in thread
From: dpdklab @ 2025-11-01 4:53 UTC (permalink / raw)
To: Ali Alnubani, Test Report
Cc: dpdk-test-reports, Xueming Li, Christian Ehrhardt, Kevin Traynor,
Luca Boccassi
_Performance Testing PASS_
Branch: tags/v22.11
42105ccaeef093ad8c7ce11d1bde3652861b783b --> performance testing pass
Upstream job id: Template-DTS-Pipeline#252361
Test environment and result as below:
Ubuntu 24.04
Kernel: 6.8
Compiler: gcc gcc (Ubuntu 13.3.0-6ubuntu2~24.04) 13.3.0
NIC: NVIDIA Mellanox ConnectX-7 100000 Mbps
Fail/Total: 0/6
Detail performance results:
+------------+---------+----------+-------------+------------------------------+
| frame_size | txd/rxd | num_cpus | num_threads | throughput difference from |
| | | | | expected |
+============+=========+==========+=============+==============================+
| 64 | 1024 | 1 | 1 | 0.0% |
+------------+---------+----------+-------------+------------------------------+
| 128 | 1024 | 1 | 1 | -0.6% |
+------------+---------+----------+-------------+------------------------------+
| 256 | 1024 | 1 | 1 | -0.4% |
+------------+---------+----------+-------------+------------------------------+
| 512 | 1024 | 1 | 1 | -0.1% |
+------------+---------+----------+-------------+------------------------------+
| 1024 | 1024 | 1 | 1 | -0.2% |
+------------+---------+----------+-------------+------------------------------+
| 1518 | 1024 | 1 | 1 | -0.0% |
+------------+---------+----------+-------------+------------------------------+
Ubuntu 24.04
Kernel: 6.8
Compiler: gcc gcc (Ubuntu 13.3.0-6ubuntu2~24.04) 13.3.0
NIC: Mellanox ConnectX-6 Lx 25000 Mbps
Fail/Total: 0/6
Detail performance results:
+------------+---------+----------+-------------+------------------------------+
| frame_size | txd/rxd | num_cpus | num_threads | throughput difference from |
| | | | | expected |
+============+=========+==========+=============+==============================+
| 64 | 1024 | 1 | 1 | -0.0% |
+------------+---------+----------+-------------+------------------------------+
| 128 | 1024 | 1 | 1 | -0.0% |
+------------+---------+----------+-------------+------------------------------+
| 256 | 1024 | 1 | 1 | -0.2% |
+------------+---------+----------+-------------+------------------------------+
| 512 | 1024 | 1 | 1 | 0.1% |
+------------+---------+----------+-------------+------------------------------+
| 1024 | 1024 | 1 | 1 | 0.0% |
+------------+---------+----------+-------------+------------------------------+
| 1518 | 1024 | 1 | 1 | -0.1% |
+------------+---------+----------+-------------+------------------------------+
To view detailed results, visit:
https://lab.dpdk.org/results/dashboard/tarballs/35416/
UNH-IOL DPDK Community Lab
To manage your email subscriptions, visit:
https://lab.dpdk.org/results/dashboard/preferences/subscriptions/
^ permalink raw reply [flat|nested] 7+ messages in thread
* |SUCCESS| [GIT MASTER] 42105ccaeef093ad8c7ce11d1bde3652861b783b
@ 2025-11-01 4:37 dpdklab
0 siblings, 0 replies; 7+ messages in thread
From: dpdklab @ 2025-11-01 4:37 UTC (permalink / raw)
To: Test Report
Cc: dpdk-test-reports, Xueming Li, Christian Ehrhardt, Kevin Traynor,
Luca Boccassi
_Functional Testing PASS_
Branch: tags/v22.11
42105ccaeef093ad8c7ce11d1bde3652861b783b --> functional testing pass
Upstream job id: Template-DTS-Pipeline#252373
Test environment and result as below:
Ubuntu 24.04
Kernel: 6.8
Compiler: gcc gcc (Ubuntu 13.3.0-6ubuntu2~24.04) 13.3.0
NIC: Intel Corporation 4xxx Series QAT 0 Mbps
Aggregate Results by Test Suite
+----------------------------+--------+
| Test Suite | Result |
+============================+========+
| crypto_perf_cryptodev_perf | PASS |
+----------------------------+--------+
To view detailed results, visit:
https://lab.dpdk.org/results/dashboard/tarballs/35416/
UNH-IOL DPDK Community Lab
To manage your email subscriptions, visit:
https://lab.dpdk.org/results/dashboard/preferences/subscriptions/
^ permalink raw reply [flat|nested] 7+ messages in thread
end of thread, other threads:[~2025-11-01 10:02 UTC | newest]
Thread overview: 7+ messages (download: mbox.gz / follow: Atom feed)
-- links below jump to the message on this page --
2025-11-01 5:42 |SUCCESS| [GIT MASTER] 42105ccaeef093ad8c7ce11d1bde3652861b783b dpdklab
-- strict thread matches above, loose matches on Subject: below --
2025-11-01 10:02 dpdklab
2025-11-01 6:05 dpdklab
2025-11-01 5:49 dpdklab
2025-11-01 5:24 dpdklab
2025-11-01 4:53 dpdklab
2025-11-01 4:37 dpdklab
This is a public inbox, see mirroring instructions
for how to clone and mirror all data and code used for this inbox;
as well as URLs for NNTP newsgroup(s).