From mboxrd@z Thu Jan 1 00:00:00 1970 Return-Path: Received: from mails.dpdk.org (mails.dpdk.org [217.70.189.124]) by inbox.dpdk.org (Postfix) with ESMTP id 774D948A5A for ; Sat, 1 Nov 2025 06:49:58 +0100 (CET) Received: from mails.dpdk.org (localhost [127.0.0.1]) by mails.dpdk.org (Postfix) with ESMTP id 71F7340150; Sat, 1 Nov 2025 06:49:58 +0100 (CET) Received: from mail-qk1-f225.google.com (mail-qk1-f225.google.com [209.85.222.225]) by mails.dpdk.org (Postfix) with ESMTP id 9921340150 for ; Sat, 1 Nov 2025 06:49:57 +0100 (CET) Received: by mail-qk1-f225.google.com with SMTP id af79cd13be357-89f54569415so307529485a.1 for ; Fri, 31 Oct 2025 22:49:57 -0700 (PDT) DKIM-Signature: v=1; a=rsa-sha256; c=relaxed/relaxed; d=iol.unh.edu; s=unh-iol; t=1761976197; x=1762580997; darn=dpdk.org; h=cc:to:from:subject:message-id:date:from:to:cc:subject:date :message-id:reply-to; bh=Gu2kywT/jRwtm1Hwyeiam1xQbmn1R1zYPJ6rXfEF7K0=; b=T/O0qtP99TGYLh7Fr8nn0uDFkceOLemqth/ftKxdPd11c3T4GoJakbZ3Gd2dMJIIF5 a/HEpj+Kvj/0ljtM0RBXe/W4YlPDOYJJsGhca+Kh3wd82R/zGQVB2O+ZfrV80Te03M0q mMIV5jyaFMCTcLGefDDF3wss3gFSapunux9/A= X-Google-DKIM-Signature: v=1; a=rsa-sha256; c=relaxed/relaxed; d=1e100.net; s=20230601; t=1761976197; x=1762580997; h=cc:to:from:subject:message-id:date:x-gm-message-state:from:to:cc :subject:date:message-id:reply-to; bh=Gu2kywT/jRwtm1Hwyeiam1xQbmn1R1zYPJ6rXfEF7K0=; b=uTwFGo7oJ/stwW/QyiCZgh5wCK2hOiFVFDfPwteQyC1shsYa8cO4BG6JJ8lMANBKVk nc1a8UXOX7ZBUABbZoADNW92LVbT5XyYkU0POhxvm1evvTRTDXH7xXDk2ZcknLugJ7V4 BDedr877f6B7PUUERQRtl7kPKPmjqzxjffpTjyBe5I9kxvpAsFcoI5d7pA7r2uGwtUFZ HJSX/c/NhxwCR/k/RNclgYncRy3HfmE4qPo9I285c9LduSrhUqEhWhUGEpHa/7Q2v5zv tK6YXB1B5SzVEVK0ELlo3kER6XluvlnJGJbQW+PxXjoGJ09pN7DEZjyOiMP/Wi/qbMWr HfGg== X-Gm-Message-State: AOJu0YwR2Q3U1LjUC9sQf3vVrOdruk4vFtyXiEvRR3Ta6fQziZbgVFe/ vXO64XMIZv1kC6YAQOElBCiRpieNM3YSV1Ic8o1jDJfYygAgAmn2VL7ZogP4MJd4HtASX1G/4pi bWxcFfT0pPIMIBMbVI+PXd2wejulneibD4MOn X-Gm-Gg: ASbGncuvZ1nLzfWCzR+YlyHO7iUPjIyJByvOuylUeRW9SUGHbj8dUpEiVjrmR9fBPLq szOJnqQVAzdVTwl+Wp+AjizYYkeANyAWdW7TD2j3/iBi4AD0AK9ii9G3hQOWyEGpUhTOiaa0Lvs Gs4RqW6+gJr37jCPQaMlS7zCAukIAkg+LoG9BrlJBX8m4UomKCfStpX6C407N5SW4Jwe98Iq/Sj i/bOFs4+pf8BEUSqvLMC1m/F1CjLxPijo7SCBGU6rx7l7ekYfF9VVkkXhw0n4nuRXMwLmOoXB6i h3mCSKD+j7KuUTG0eC6a3NjMP+9BkRA7trjaOJlLh47fxBSt5gauMMtSGDnwFR6wBwHKYjfIJ9A K9K5HT0s/cjVH4mkV+sd5ps/y5MaYHys= X-Google-Smtp-Source: AGHT+IHs1bT2d4GiEdv730KZ+T8sApCSKrI54ALU4YKTKUzI0HK5o6LBkC+GjWzBsr+Zm6BMVEF3YtcXRLau X-Received: by 2002:a05:6214:8006:b0:880:37f6:1035 with SMTP id 6a1803df08f44-88037f62387mr71143386d6.54.1761976196902; Fri, 31 Oct 2025 22:49:56 -0700 (PDT) Received: from postal.iol.unh.edu (postal.iol.unh.edu. [132.177.123.84]) by smtp-relay.gmail.com with ESMTPS id 6a1803df08f44-88036352091sm3376496d6.32.2025.10.31.22.49.56 (version=TLS1_2 cipher=ECDHE-ECDSA-AES128-GCM-SHA256 bits=128/128); Fri, 31 Oct 2025 22:49:56 -0700 (PDT) X-Relaying-Domain: iol.unh.edu Date: Fri, 31 Oct 2025 22:49:56 -0700 (PDT) Message-ID: <69059f84.050a0220.be789.155eSMTPIN_ADDED_MISSING@mx.google.com> Received: from [172.21.0.2] (unknown [172.18.0.240]) by postal.iol.unh.edu (Postfix) with ESMTP id A46E56051830; Sat, 1 Nov 2025 01:49:56 -0400 (EDT) Subject: |SUCCESS| [GIT MASTER] 42105ccaeef093ad8c7ce11d1bde3652861b783b From: dpdklab@iol.unh.edu To: Test Report Cc: dpdk-test-reports@iol.unh.edu, Xueming Li , Christian Ehrhardt , Kevin Traynor , Luca Boccassi Content-Type: text/plain X-BeenThere: test-report@dpdk.org X-Mailman-Version: 2.1.29 Precedence: list List-Id: automatic DPDK test reports List-Unsubscribe: , List-Archive: List-Post: List-Help: List-Subscribe: , Errors-To: test-report-bounces@dpdk.org _Testing PASS_ Branch: tags/v22.11 42105ccaeef093ad8c7ce11d1bde3652861b783b --> testing pass Upstream job id: Generic-DPDK-Compile-Meson#439745 Test environment and result as below: +-------------------------------+--------------------+-------------------------+----------------------+ | Environment | dpdk_meson_compile | dpdk_llvm_clang_compile | dpdk_mingw64_compile | +===============================+====================+=========================+======================+ | FreeBSD 14.2 | PASS | SKIPPED | SKIPPED | +-------------------------------+--------------------+-------------------------+----------------------+ | Ubuntu 20.04 | PASS | SKIPPED | SKIPPED | +-------------------------------+--------------------+-------------------------+----------------------+ | Fedora Linux 42 | PASS | SKIPPED | SKIPPED | +-------------------------------+--------------------+-------------------------+----------------------+ | CentOS Stream 9 | PASS | SKIPPED | SKIPPED | +-------------------------------+--------------------+-------------------------+----------------------+ | Debian GNU/Linux 12 | PASS | SKIPPED | SKIPPED | +-------------------------------+--------------------+-------------------------+----------------------+ | openSUSE Leap 15.6 | PASS | SKIPPED | SKIPPED | +-------------------------------+--------------------+-------------------------+----------------------+ | CentOS Stream 10 | PASS | SKIPPED | SKIPPED | +-------------------------------+--------------------+-------------------------+----------------------+ | Ubuntu 22.04 | PASS | SKIPPED | SKIPPED | +-------------------------------+--------------------+-------------------------+----------------------+ | Red Hat Enterprise Linux 8.10 | PASS | SKIPPED | SKIPPED | +-------------------------------+--------------------+-------------------------+----------------------+ | Ubuntu 24.04 | PASS | SKIPPED | SKIPPED | +-------------------------------+--------------------+-------------------------+----------------------+ | Red Hat Enterprise Linux 9.5 | PASS | SKIPPED | SKIPPED | +-------------------------------+--------------------+-------------------------+----------------------+ | Windows Server 2022 | SKIPPED | PASS | PASS | +-------------------------------+--------------------+-------------------------+----------------------+ FreeBSD 14.2 Kernel: 14.2-RELEASE Compiler: clang 18.1.6 Ubuntu 20.04 Kernel: 4.19 Compiler: gcc gcc (Ubuntu 9.4.0-1ubuntu1~20.04.2) 9.4.0 Fedora Linux 42 Kernel: 5.15 Compiler: clang gcc (GCC) 15.2.1 20250808 (Red Hat 15.2.1-1) CentOS Stream 9 Kernel: 5.15 Compiler: gcc gcc (GCC) 11.5.0 20240719 (Red Hat 11.5.0-11) Debian GNU/Linux 12 Kernel: 5.15 Compiler: gcc gcc (Debian 12.2.0-14+deb12u1) 12.2.0 openSUSE Leap 15.6 Kernel: 5.15 Compiler: gcc gcc (SUSE Linux) 7.5.0 CentOS Stream 10 Kernel: 5.15 Compiler: gcc gcc (GCC) 14.2.1 20250110 (Red Hat 14.2.1-8) Ubuntu 22.04 Kernel: 5.15 Compiler: gcc gcc (Ubuntu 11.4.0-1ubuntu1~22.04) 11.4.0 Red Hat Enterprise Linux 8.10 Kernel: 5.15 Compiler: gcc gcc (GCC) 8.5.0 20210514 (Red Hat 8.5.0-22) Ubuntu 24.04 Kernel: 5.15 Compiler: gcc gcc (Ubuntu 13.3.0-6ubuntu2~24.04) 13.3.0 Red Hat Enterprise Linux 9.5 Kernel: 5.15 Compiler: gcc gcc (GCC) 11.5.0 20240719 (Red Hat 11.5.0-2) Windows Server 2022 Kernel: 10.0.20348.2031 Compiler: clang 15.0.7, gcc 14.1.0 (MinGW), and MSVC VS 19.39.33521 To view detailed results, visit: https://lab.dpdk.org/results/dashboard/tarballs/35416/ UNH-IOL DPDK Community Lab To manage your email subscriptions, visit: https://lab.dpdk.org/results/dashboard/preferences/subscriptions/