* |WARNING| [GIT MASTER] 42105ccaeef093ad8c7ce11d1bde3652861b783b
@ 2025-11-01 6:03 dpdklab
0 siblings, 0 replies; 2+ messages in thread
From: dpdklab @ 2025-11-01 6:03 UTC (permalink / raw)
To: Test Report
Cc: dpdk-test-reports, Xueming Li, Christian Ehrhardt, Kevin Traynor,
Luca Boccassi
_Testing issues_
Branch: tags/v22.11
42105ccaeef093ad8c7ce11d1bde3652861b783b --> testing issues
Upstream job id: Template-DTS-Pipeline#252371
Test environment and result as below:
+--------------+----------------------+----------------------+
| Environment | dpdk_fips_validation | compressdev_zlib_pmd |
+==============+======================+======================+
| Ubuntu 20.04 | WARN | SKIPPED |
+--------------+----------------------+----------------------+
| Ubuntu 22.04 | SKIPPED | PASS |
+--------------+----------------------+----------------------+
==== 20 line log output for Ubuntu 20.04 (dpdk_fips_validation): ====
Traceback (most recent call last):
File "/dpdk-ci/tools/acvp/acvp_tool.py", line 368, in <module>
main(
File "/dpdk-ci/tools/acvp/acvp_tool.py", line 314, in main
with open(response_path, 'r') as upload_file:
FileNotFoundError: [Errno 2] No such file or directory: '/root/workspace/ACVP-FIPS-testing/out/hmac-sha-1-answers.rsp'
INFO:root:Using response file...
Traceback (most recent call last):
File "/dpdk-ci/tools/acvp/acvp_tool.py", line 368, in <module>
main(
File "/dpdk-ci/tools/acvp/acvp_tool.py", line 314, in main
with open(response_path, 'r') as upload_file:
FileNotFoundError: [Errno 2] No such file or directory: '/root/workspace/ACVP-FIPS-testing/out/acvp-tdes-cbc-answers.rsp'
INFO:root:Using response file...
Traceback (most recent call last):
File "/dpdk-ci/tools/acvp/acvp_tool.py", line 368, in <module>
main(
File "/dpdk-ci/tools/acvp/acvp_tool.py", line 314, in main
with open(response_path, 'r') as upload_file:
FileNotFoundError: [Errno 2] No such file or directory: '/root/workspace/ACVP-FIPS-testing/out/acvp-aes-ctr-answers.rsp'
==== End log output ====
Ubuntu 20.04
Kernel: 5.15
Compiler: gcc gcc (Ubuntu 9.4.0-1ubuntu1~20.04.2) 9.4.0
Ubuntu 22.04
Kernel: 5.15
Compiler: gcc gcc (Ubuntu 11.4.0-1ubuntu1~22.04.2) 11.4.0
To view detailed results, visit:
https://lab.dpdk.org/results/dashboard/tarballs/35416/
UNH-IOL DPDK Community Lab
To manage your email subscriptions, visit:
https://lab.dpdk.org/results/dashboard/preferences/subscriptions/
^ permalink raw reply [flat|nested] 2+ messages in thread
* |WARNING| [GIT MASTER] 42105ccaeef093ad8c7ce11d1bde3652861b783b
@ 2025-11-01 5:47 dpdklab
0 siblings, 0 replies; 2+ messages in thread
From: dpdklab @ 2025-11-01 5:47 UTC (permalink / raw)
To: Test Report
Cc: dpdk-test-reports, Xueming Li, Christian Ehrhardt, Kevin Traynor,
Luca Boccassi
_Testing issues_
Branch: tags/v22.11
42105ccaeef093ad8c7ce11d1bde3652861b783b --> testing issues
Upstream job id: ACVP-FIPS-testing#11634
Test environment and result as below:
+--------------+----------------------+----------------------+
| Environment | dpdk_fips_validation | compressdev_zlib_pmd |
+==============+======================+======================+
| Ubuntu 20.04 | WARN | SKIPPED |
+--------------+----------------------+----------------------+
| Ubuntu 22.04 | SKIPPED | PASS |
+--------------+----------------------+----------------------+
==== 20 line log output for Ubuntu 20.04 (dpdk_fips_validation): ====
Traceback (most recent call last):
File "/dpdk-ci/tools/acvp/acvp_tool.py", line 368, in <module>
main(
File "/dpdk-ci/tools/acvp/acvp_tool.py", line 314, in main
with open(response_path, 'r') as upload_file:
FileNotFoundError: [Errno 2] No such file or directory: '/root/workspace/ACVP-FIPS-testing/out/hmac-sha-1-answers.rsp'
INFO:root:Using response file...
Traceback (most recent call last):
File "/dpdk-ci/tools/acvp/acvp_tool.py", line 368, in <module>
main(
File "/dpdk-ci/tools/acvp/acvp_tool.py", line 314, in main
with open(response_path, 'r') as upload_file:
FileNotFoundError: [Errno 2] No such file or directory: '/root/workspace/ACVP-FIPS-testing/out/acvp-tdes-cbc-answers.rsp'
INFO:root:Using response file...
Traceback (most recent call last):
File "/dpdk-ci/tools/acvp/acvp_tool.py", line 368, in <module>
main(
File "/dpdk-ci/tools/acvp/acvp_tool.py", line 314, in main
with open(response_path, 'r') as upload_file:
FileNotFoundError: [Errno 2] No such file or directory: '/root/workspace/ACVP-FIPS-testing/out/acvp-aes-ctr-answers.rsp'
==== End log output ====
Ubuntu 20.04
Kernel: 5.15
Compiler: gcc gcc (Ubuntu 9.4.0-1ubuntu1~20.04.2) 9.4.0
Ubuntu 22.04
Kernel: 5.15
Compiler: gcc gcc (Ubuntu 11.4.0-1ubuntu1~22.04.2) 11.4.0
To view detailed results, visit:
https://lab.dpdk.org/results/dashboard/tarballs/35416/
UNH-IOL DPDK Community Lab
To manage your email subscriptions, visit:
https://lab.dpdk.org/results/dashboard/preferences/subscriptions/
^ permalink raw reply [flat|nested] 2+ messages in thread
end of thread, other threads:[~2025-11-01 6:03 UTC | newest]
Thread overview: 2+ messages (download: mbox.gz / follow: Atom feed)
-- links below jump to the message on this page --
2025-11-01 6:03 |WARNING| [GIT MASTER] 42105ccaeef093ad8c7ce11d1bde3652861b783b dpdklab
-- strict thread matches above, loose matches on Subject: below --
2025-11-01 5:47 dpdklab
This is a public inbox, see mirroring instructions
for how to clone and mirror all data and code used for this inbox;
as well as URLs for NNTP newsgroup(s).