From mboxrd@z Thu Jan 1 00:00:00 1970 Return-Path: Received: from mails.dpdk.org (mails.dpdk.org [217.70.189.124]) by inbox.dpdk.org (Postfix) with ESMTP id AEB4148A47 for ; Sat, 1 Nov 2025 07:45:40 +0100 (CET) Received: from mails.dpdk.org (localhost [127.0.0.1]) by mails.dpdk.org (Postfix) with ESMTP id 83BDD40150; Sat, 1 Nov 2025 07:45:40 +0100 (CET) Received: from mail-qv1-f98.google.com (mail-qv1-f98.google.com [209.85.219.98]) by mails.dpdk.org (Postfix) with ESMTP id 73BDE40150 for ; Sat, 1 Nov 2025 07:45:39 +0100 (CET) Received: by mail-qv1-f98.google.com with SMTP id 6a1803df08f44-87fc4d29301so46455896d6.2 for ; Fri, 31 Oct 2025 23:45:39 -0700 (PDT) DKIM-Signature: v=1; a=rsa-sha256; c=relaxed/relaxed; d=iol.unh.edu; s=unh-iol; t=1761979538; x=1762584338; darn=dpdk.org; h=cc:to:from:subject:message-id:date:from:to:cc:subject:date :message-id:reply-to; bh=bieOQyaISzP4MBVS6CYpGkHvRGvmJMaylcOw5KyQjPw=; b=YddNvCB29EVvHLxfHdeQqD9y/wxKY1tUtiY3ZeBrjiECodGXE4GcF2qMtJCj5Gc0Ib cfOVFRBKstFkLQwlVvx8eUNunOlAaDsxrjOpV3UeH1aolUtXOJMb/z3S7i5+0uTxN1iW VFvKewXhzIoRTjW0Hv5ZcN7/gtRMlnib8jFc0= X-Google-DKIM-Signature: v=1; a=rsa-sha256; c=relaxed/relaxed; d=1e100.net; s=20230601; t=1761979538; x=1762584338; h=cc:to:from:subject:message-id:date:x-gm-message-state:from:to:cc :subject:date:message-id:reply-to; bh=bieOQyaISzP4MBVS6CYpGkHvRGvmJMaylcOw5KyQjPw=; b=US53+Ia6V9JENT15pv84OsZH0Z7om016fFgWgRtpRSjg2Fwiw1IyaTr4oXt6pQ94Vf v+7t+roSVYCMNKymUIibbedxZsveyjZyoPYPmiMuT1doU1EAltiYh2j4X5+6xv7MPAaT OIrCGMRQxcaHmWn0sF3IFM1qmOKm3VX05pC+U/04vUH0gSbr9cKV5DRYoAAq6ZxHwbc4 iycmudiQinHUAVwiCV2m8D9TcUmQ2gETHK1rV5mPxvGrtstt5pWQAE3Z4vypExPRjpTM lKAKc8MCXhanKYb+ETSDM1SxETlj/4MnrIBU2N/27GQlilb6dVaw30Vsw+A923rKECI2 8Ofw== X-Gm-Message-State: AOJu0YySlzRTTYb9fEWo6AULooyH4Zm90Wc0Qk4xsNk+F1/F+CuAtTGZ cP3GhMfksR3C1MJYWbPwJ+dmJMiH3nsvffghy7t0YQlpjjcBWwp2ibXG0brRrgRUVt24ar43xPE oVDpo/+kODKO09q/sihj0O+cdIclRRDoXPplPCERxkJZmiPbEW0WO X-Gm-Gg: ASbGnctOfyPnQcHwhPnbYn39BRunXuI52z5E7oLHMIEQobDmn/XOPeC38jRTUGp12EQ akVcs5XE+qqjSuyIv1fuYiv+IlfOv6wCGQDG2PgJWXJmIT0q8Yt+bEanCQQMhbeB0Jpdya07i5T WKZm14atheqh+JoXEKTOAOTWVvlUKyPFR8Krahk6O4PiOBBKRlO7bADAWliH7/5NVE3HmZqeOZ6 l3D9N8aJ97jFrpCHBALL81n+g19DHPqW75Q8P7++aY+tUPWiysvxMqJczGatfbLLpzSDx0LyOcA xL/3oW7zYm+DvEjpyleTM+kcwrDGQ17RevZ4JzS8YlN3099O+bDnxOwN+YFUPkxtqAc0SCmgfmX o1SczyO6z X-Google-Smtp-Source: AGHT+IEZ9Mvl/eOT8A8UtrURIURM/wL9J59hgp9gbZlu6GVv4/25lZpnDcmT7qNST43ibDw5B6FhI/vaBtxC X-Received: by 2002:ad4:5ca3:0:b0:880:4614:bb0d with SMTP id 6a1803df08f44-8804614bbecmr28310986d6.27.1761979538630; Fri, 31 Oct 2025 23:45:38 -0700 (PDT) Received: from postal.iol.unh.edu (postal.iol.unh.edu. [2606:4100:3880:1234::84]) by smtp-relay.gmail.com with ESMTPS id 6a1803df08f44-880362c5482sm3628276d6.22.2025.10.31.23.45.38 (version=TLS1_2 cipher=ECDHE-ECDSA-AES128-GCM-SHA256 bits=128/128); Fri, 31 Oct 2025 23:45:38 -0700 (PDT) X-Relaying-Domain: iol.unh.edu Date: Fri, 31 Oct 2025 23:45:38 -0700 (PDT) Message-ID: <6905ac92.050a0220.35406.2d1dSMTPIN_ADDED_MISSING@mx.google.com> Received: from [172.21.0.2] (unknown [172.18.0.240]) by postal.iol.unh.edu (Postfix) with ESMTP id 4FAB26051830; Sat, 1 Nov 2025 02:45:38 -0400 (EDT) Subject: |SUCCESS| [GIT MASTER] b287e404643aeab5bb5db084c142789df187844e From: dpdklab@iol.unh.edu To: Test Report Cc: dpdk-test-reports@iol.unh.edu, Xueming Li , Christian Ehrhardt , Kevin Traynor , Luca Boccassi Content-Type: text/plain X-BeenThere: test-report@dpdk.org X-Mailman-Version: 2.1.29 Precedence: list List-Id: automatic DPDK test reports List-Unsubscribe: , List-Archive: List-Post: List-Help: List-Subscribe: , Errors-To: test-report-bounces@dpdk.org _Testing PASS_ Branch: tags/v24.11 b287e404643aeab5bb5db084c142789df187844e --> testing pass Upstream job id: Generic-DPDK-Compile-Meson#439799 Test environment and result as below: +-------------------------------+--------------------+-------------------+------------------+-------------------+-------------------------+----------------------+ | Environment | dpdk_meson_compile | dpdk_compile_spdk | dpdk_compile_ovs | dpdk_msvc_compile | dpdk_llvm_clang_compile | dpdk_mingw64_compile | +===============================+====================+===================+==================+===================+=========================+======================+ | Debian GNU/Linux 12 | PASS | PASS | SKIPPED | SKIPPED | SKIPPED | SKIPPED | +-------------------------------+--------------------+-------------------+------------------+-------------------+-------------------------+----------------------+ | CentOS Stream 10 | PASS | SKIPPED | SKIPPED | SKIPPED | SKIPPED | SKIPPED | +-------------------------------+--------------------+-------------------+------------------+-------------------+-------------------------+----------------------+ | CentOS Stream 9 | PASS | PASS | SKIPPED | SKIPPED | SKIPPED | SKIPPED | +-------------------------------+--------------------+-------------------+------------------+-------------------+-------------------------+----------------------+ | Fedora Linux 42 | PASS | PASS | PASS | SKIPPED | SKIPPED | SKIPPED | +-------------------------------+--------------------+-------------------+------------------+-------------------+-------------------------+----------------------+ | openSUSE Leap 15.6 | PASS | SKIPPED | SKIPPED | SKIPPED | SKIPPED | SKIPPED | +-------------------------------+--------------------+-------------------+------------------+-------------------+-------------------------+----------------------+ | Red Hat Enterprise Linux 8.10 | PASS | SKIPPED | SKIPPED | SKIPPED | SKIPPED | SKIPPED | +-------------------------------+--------------------+-------------------+------------------+-------------------+-------------------------+----------------------+ | Red Hat Enterprise Linux 9.5 | PASS | SKIPPED | SKIPPED | SKIPPED | SKIPPED | SKIPPED | +-------------------------------+--------------------+-------------------+------------------+-------------------+-------------------------+----------------------+ | Ubuntu 20.04 | PASS | SKIPPED | SKIPPED | SKIPPED | SKIPPED | SKIPPED | +-------------------------------+--------------------+-------------------+------------------+-------------------+-------------------------+----------------------+ | Ubuntu 22.04 | PASS | PASS | SKIPPED | SKIPPED | SKIPPED | SKIPPED | +-------------------------------+--------------------+-------------------+------------------+-------------------+-------------------------+----------------------+ | Ubuntu 24.04 | PASS | PASS | PASS | SKIPPED | SKIPPED | SKIPPED | +-------------------------------+--------------------+-------------------+------------------+-------------------+-------------------------+----------------------+ | Alpine Linux 3.22.0 | PASS | SKIPPED | SKIPPED | SKIPPED | SKIPPED | SKIPPED | +-------------------------------+--------------------+-------------------+------------------+-------------------+-------------------------+----------------------+ | FreeBSD 14.2 | PASS | SKIPPED | SKIPPED | SKIPPED | SKIPPED | SKIPPED | +-------------------------------+--------------------+-------------------+------------------+-------------------+-------------------------+----------------------+ | Windows Server 2022 | SKIPPED | SKIPPED | SKIPPED | PASS | PASS | PASS | +-------------------------------+--------------------+-------------------+------------------+-------------------+-------------------------+----------------------+ Debian GNU/Linux 12 Kernel: 5.15 Compiler: gcc gcc (Debian 12.2.0-14+deb12u1) 12.2.0 CentOS Stream 10 Kernel: 5.15 Compiler: gcc gcc (GCC) 14.2.1 20250110 (Red Hat 14.2.1-8) CentOS Stream 9 Kernel: 5.15 Compiler: gcc gcc (GCC) 11.5.0 20240719 (Red Hat 11.5.0-11) Fedora Linux 42 Kernel: 5.15 Compiler: clang gcc (GCC) 15.2.1 20250808 (Red Hat 15.2.1-1) openSUSE Leap 15.6 Kernel: 5.15 Compiler: gcc gcc (SUSE Linux) 7.5.0 Red Hat Enterprise Linux 8.10 Kernel: 5.15 Compiler: gcc gcc (GCC) 8.5.0 20210514 (Red Hat 8.5.0-22) Red Hat Enterprise Linux 9.5 Kernel: 5.15 Compiler: gcc gcc (GCC) 11.5.0 20240719 (Red Hat 11.5.0-2) Ubuntu 20.04 Kernel: 5.15 Compiler: gcc gcc (Ubuntu 9.4.0-1ubuntu1~20.04.2) 9.4.0 Ubuntu 22.04 Kernel: 5.15 Compiler: gcc gcc (Ubuntu 11.4.0-1ubuntu1~22.04) 11.4.0 Ubuntu 24.04 Kernel: 5.15 Compiler: gcc gcc (Ubuntu 13.3.0-6ubuntu2~24.04) 13.3.0 Alpine Linux 3.22.0 Kernel: 5.15 Compiler: gcc gcc (Alpine 14.2.0) 14.2.0 FreeBSD 14.2 Kernel: 14.2-RELEASE Compiler: clang 18.1.6 Windows Server 2022 Kernel: 10.0.20348.2031 Compiler: clang 15.0.7, gcc 14.1.0 (MinGW), and MSVC VS 19.39.33521 To view detailed results, visit: https://lab.dpdk.org/results/dashboard/tarballs/35417/ UNH-IOL DPDK Community Lab To manage your email subscriptions, visit: https://lab.dpdk.org/results/dashboard/preferences/subscriptions/