From mboxrd@z Thu Jan 1 00:00:00 1970 Return-Path: Received: from mails.dpdk.org (mails.dpdk.org [217.70.189.124]) by inbox.dpdk.org (Postfix) with ESMTP id 318D248A47 for ; Sat, 1 Nov 2025 07:50:53 +0100 (CET) Received: from mails.dpdk.org (localhost [127.0.0.1]) by mails.dpdk.org (Postfix) with ESMTP id 115CF40150; Sat, 1 Nov 2025 07:50:53 +0100 (CET) Received: from mail-io1-f99.google.com (mail-io1-f99.google.com [209.85.166.99]) by mails.dpdk.org (Postfix) with ESMTP id E1E2040150 for ; Sat, 1 Nov 2025 07:50:51 +0100 (CET) Received: by mail-io1-f99.google.com with SMTP id ca18e2360f4ac-93e89a59d68so119874339f.0 for ; Fri, 31 Oct 2025 23:50:51 -0700 (PDT) DKIM-Signature: v=1; a=rsa-sha256; c=relaxed/relaxed; d=iol.unh.edu; s=unh-iol; t=1761979851; x=1762584651; darn=dpdk.org; h=cc:to:from:subject:message-id:date:from:to:cc:subject:date :message-id:reply-to; bh=AQeYbH1DXJTo2CvoPzsGme9JaPOv7HgQ0ZBYo6ms8kQ=; b=jyTXSMbskjcUrnH/anCcQ+n+KgDHjP2coQQad0au8yNSbQFDojRaZLGLvrVeS1aS19 mOBN0qXWW3Qw4WRrH6cwp1UDgJ4agc3QzPdSiR9JrqDASlpHoopXthwhfroqKN67aWks mQh80AS9tMtB9N5YxVN6aHV7Si1b2raT5pvEc= X-Google-DKIM-Signature: v=1; a=rsa-sha256; c=relaxed/relaxed; d=1e100.net; s=20230601; t=1761979851; x=1762584651; h=cc:to:from:subject:message-id:date:x-gm-message-state:from:to:cc :subject:date:message-id:reply-to; bh=AQeYbH1DXJTo2CvoPzsGme9JaPOv7HgQ0ZBYo6ms8kQ=; b=V4XI8yl1DJMuhqTpVDsTWg1cgmTnsBgydDEyL1wqooPFCUW34ucM0VfEuAEfg5tMXS i/KWFtKn8/gyUNcwbdFcGMo27npjXmYW1cMH6sKWyUhwPRYfdXz/LRga3EN1UqqDHheU UPBtR8amacxBMgy3jBkIfwsKH7kGSSEYxWPWvmQ6d7lQv05yUEmnldU2WGYnyK68PbKz vUOl3RH1Yxs34BYk9Ne/nZgLOCZZg2YlIFfTeQN2wkUVcnYfT/UQSxvhdtdzC9afFwER HXaVMPiyIexTxyD7+Gk6IXZ8qk1ttD3GVxaeSgnh8h/37w8/jzbDm8m/wdqpciDl+uvO vo/g== X-Gm-Message-State: AOJu0YzSKKtA+yFHPqj/YQKNf6OtoUvSOviHPYMNDlVgCFfun6vSrS/W qCKpIBtJ0Q+rfmaRWOj2f5w3dmO3cUHL86wLE7+GC1ZX7mPnlqvQBjByjclM/vQYlK2wvOTzrP6 q8NvTN0D5Xde5D4nkfM7jib9Yyj6ggglNfi7V X-Gm-Gg: ASbGncs9/IhYzvlJ5IU4jumy/ZVDPBhsgLLFxEIlxZwyMZVCW9Ri/HvdMqotjXYpPS4 +9W/UZNcYmGieBVWLlVIL5H9w5iPHFRVzsoeycKc/D6abTGICGnh8armRkN+9UccPbYl4pVjXgf c1b1rlowWrnUr/TbBGH4YJN0i7S+mZKpAwsqdsvDt0VB4XZQ09GyZ4H1H0XtFNGa7D21Ik6yvMa XfcYAo/902p+7hEmeg22I8SWP0TE7t/DxXvx8LMppqfewsqFJWDKef0kuGb0KP8UhEMfLNKMKzH RuT6ukAcUQn0T2Q4ulXaQ5X1aonY+KCuOAuoJfOMxGY0Bb/v5HeqmAzz4vIHQvhAPSNKh5L50tO 6UtxQHovhdcDCdtnxAc813JkENZ2E8z4= X-Google-Smtp-Source: AGHT+IEiLGymNUam0SIlT1od9yOTo2MsJfgh+6IvQiCRw+xWf4weE3J6cqWoL6AKv3/sukr75KV+u3nzQzHF X-Received: by 2002:a05:6e02:6:b0:430:c9c5:734e with SMTP id e9e14a558f8ab-4330d2075c3mr95781725ab.31.1761979851096; Fri, 31 Oct 2025 23:50:51 -0700 (PDT) Received: from postal.iol.unh.edu (postal.iol.unh.edu. [132.177.123.84]) by smtp-relay.gmail.com with ESMTPS id e9e14a558f8ab-4331031bcefsm3254685ab.21.2025.10.31.23.50.51 (version=TLS1_2 cipher=ECDHE-ECDSA-AES128-GCM-SHA256 bits=128/128); Fri, 31 Oct 2025 23:50:51 -0700 (PDT) X-Relaying-Domain: iol.unh.edu Date: Fri, 31 Oct 2025 23:50:51 -0700 (PDT) Message-ID: <6905adcb.050a0220.2cba9.100dSMTPIN_ADDED_MISSING@mx.google.com> Received: from [172.21.0.2] (unknown [172.18.0.240]) by postal.iol.unh.edu (Postfix) with ESMTP id 822886051830; Sat, 1 Nov 2025 02:50:50 -0400 (EDT) Subject: |SUCCESS| [GIT MASTER] b287e404643aeab5bb5db084c142789df187844e From: dpdklab@iol.unh.edu To: Test Report Cc: dpdk-test-reports@iol.unh.edu, Xueming Li , Christian Ehrhardt , Kevin Traynor , Luca Boccassi Content-Type: text/plain X-BeenThere: test-report@dpdk.org X-Mailman-Version: 2.1.29 Precedence: list List-Id: automatic DPDK test reports List-Unsubscribe: , List-Archive: List-Post: List-Help: List-Subscribe: , Errors-To: test-report-bounces@dpdk.org _Testing PASS_ Branch: tags/v24.11 b287e404643aeab5bb5db084c142789df187844e --> testing pass Upstream job id: Generic-Unit-Test-DPDK#387521 Test environment and result as below: +-------------------------------+----------------+ | Environment | dpdk_unit_test | +===============================+================+ | Debian GNU/Linux 12 | PASS | +-------------------------------+----------------+ | CentOS Stream 9 | PASS | +-------------------------------+----------------+ | Fedora Linux 40 | PASS | +-------------------------------+----------------+ | Fedora Linux 42 | PASS | +-------------------------------+----------------+ | CentOS Stream 10 | PASS | +-------------------------------+----------------+ | Fedora Linux 41 | PASS | +-------------------------------+----------------+ | Ubuntu 20.04 | PASS | +-------------------------------+----------------+ | Ubuntu 24.04 | PASS | +-------------------------------+----------------+ | Red Hat Enterprise Linux 8.10 | PASS | +-------------------------------+----------------+ | Red Hat Enterprise Linux 9.5 | PASS | +-------------------------------+----------------+ | Ubuntu 22.04 | PASS | +-------------------------------+----------------+ | Windows Server 2022 | PASS | +-------------------------------+----------------+ Debian GNU/Linux 12 Kernel: 5.15 Compiler: gcc gcc (Debian 12.2.0-14+deb12u1) 12.2.0 CentOS Stream 9 Kernel: 5.15 Compiler: gcc gcc (GCC) 11.5.0 20240719 (Red Hat 11.5.0-11) Fedora Linux 40 Kernel: 5.15 Compiler: gcc gcc (GCC) 14.2.1 20240912 (Red Hat 14.2.1-3) Fedora Linux 42 Kernel: 5.15 Compiler: gcc gcc (GCC) 15.2.1 20250808 (Red Hat 15.2.1-1) CentOS Stream 10 Kernel: 5.15 Compiler: gcc gcc (GCC) 14.2.1 20250110 (Red Hat 14.2.1-8) Fedora Linux 41 Kernel: 5.15 Compiler: gcc gcc (GCC) 14.3.1 20250523 (Red Hat 14.3.1-1) Ubuntu 20.04 Kernel: 5.15 Compiler: gcc gcc (Ubuntu 9.4.0-1ubuntu1~20.04.2) 9.4.0 Ubuntu 24.04 Kernel: 5.15 Compiler: gcc gcc (Ubuntu 13.3.0-6ubuntu2~24.04) 13.3.0 Red Hat Enterprise Linux 8.10 Kernel: 5.15 Compiler: gcc gcc (GCC) 8.5.0 20210514 (Red Hat 8.5.0-22) Red Hat Enterprise Linux 9.5 Kernel: 5.15 Compiler: gcc gcc (GCC) 11.5.0 20240719 (Red Hat 11.5.0-2) Ubuntu 22.04 Kernel: 5.15 Compiler: gcc gcc (Ubuntu 11.4.0-1ubuntu1~22.04) 11.4.0 Windows Server 2022 Kernel: 10.0.20348.2031 Compiler: clang 15.0.7, gcc 14.1.0 (MinGW), and MSVC VS 19.39.33521 To view detailed results, visit: https://lab.dpdk.org/results/dashboard/tarballs/35417/ UNH-IOL DPDK Community Lab To manage your email subscriptions, visit: https://lab.dpdk.org/results/dashboard/preferences/subscriptions/