From mboxrd@z Thu Jan 1 00:00:00 1970 Return-Path: Received: from mails.dpdk.org (mails.dpdk.org [217.70.189.124]) by inbox.dpdk.org (Postfix) with ESMTP id CA6CD48A4B for ; Sat, 1 Nov 2025 09:48:02 +0100 (CET) Received: from mails.dpdk.org (localhost [127.0.0.1]) by mails.dpdk.org (Postfix) with ESMTP id 8D94940150; Sat, 1 Nov 2025 09:48:02 +0100 (CET) Received: from mail-io1-f99.google.com (mail-io1-f99.google.com [209.85.166.99]) by mails.dpdk.org (Postfix) with ESMTP id C71C240150 for ; Sat, 1 Nov 2025 09:48:01 +0100 (CET) Received: by mail-io1-f99.google.com with SMTP id ca18e2360f4ac-945a5a42f1eso123732939f.0 for ; Sat, 01 Nov 2025 01:48:01 -0700 (PDT) DKIM-Signature: v=1; a=rsa-sha256; c=relaxed/relaxed; d=iol.unh.edu; s=unh-iol; t=1761986881; x=1762591681; darn=dpdk.org; h=cc:to:from:subject:message-id:date:from:to:cc:subject:date :message-id:reply-to; bh=K48wN0/YHgGgXOBx5WyA7hfeeGnG/LBvg3yMek70m9Y=; b=bYEuFdSH72JQRcIUPNs3qLS9tyKzjUKQ3Wpiv5O+cN4svrptAgUlzU/NQ2BabyrZEI fYRxeS+0CUVmftREyNlADloRbLDdvKTF2MFtXj2zjj6dCSVsK0KFde+0tWi4m9MEseK1 LboFbRAGThr6zwCOoSzSmE1OCDT1fr3OX7bMI= X-Google-DKIM-Signature: v=1; a=rsa-sha256; c=relaxed/relaxed; d=1e100.net; s=20230601; t=1761986881; x=1762591681; h=cc:to:from:subject:message-id:date:x-gm-message-state:from:to:cc :subject:date:message-id:reply-to; bh=K48wN0/YHgGgXOBx5WyA7hfeeGnG/LBvg3yMek70m9Y=; b=p1BqQvNpoSajwcDXUO0TIw0fdVNqNOMny4CppQktSPinSIhBtOp5mlxwDPHwR0xsY+ VPORo9Kky5/Y1njLK03TlzFhHVscF3Ewh+2ry/mdLcRf5Q9Z5gPc8ibGlQEc7FvDflfU BC60aEEVaN6RfkpOBoJExYeL0VFDbS1vNLHT4tYY7l5ZWa+lMFI7C5tt9DWZbl0DIVQH 2nyEMRopfJ5El9v4hnLaPYoUxeO0mpgAJ9zLx90HT6DQrQuGjVKPfnREEZnoI4YTb3hn kpFVr+HL5cN/XCxiXXsKGzrnHgdR4QHMCjM0NO66AG152QNO6vRxsAIIW9oDAUyEk4Dg rEIw== X-Gm-Message-State: AOJu0Yx2CHl5C4p2jvdY4S4ipckHc10iB8ZyePUoiXyIg1a4hAh5NG8I GIN4SenXMMPChTWigOtokV6wRvvBQmCx1HkwlKoN6QRX56YDxY5NfoIuNzW86Jk/xJljz73wtNQ xB3icmx586qytdVi3d1VeiKNdJqHhRO8CG5B0ZiB4N+xMnIvW4ZKM X-Gm-Gg: ASbGncvnr5XOYLUVw4imB/pzC85MWXkRBp+yesLNi3Rcx5Wf0oLfsdBf09OV2aDSpOz VmKsbX87lWPUmZv/PKPjYBmG1T36S9SliypXJRpxKv1uSK2Gp72SGMIVsfWbgV2XJsSnAHO+6Kb xic3tlpazAK6KGmoyba/2MGxux6sWfDBR6YrY7fMqsTvQCc+p7hu1Tlx7B+p51wqetrxKGdIeG3 Fxb/C3aRAnNYWdmGQHlq/54Rp9N+tDbMtM5SrNE6RIjXJebIqLQvxwrV04n6UytO4TI5CKfhIqB ngAnspGk4IA6MqNclVezR3L2hXXENSTX0JJjcvTg+OsdAz491zmf4lm7HyEmZRerFPPCi+R7Tmk /hO81OGle X-Google-Smtp-Source: AGHT+IH/50X0wg6jYFG0vOtiTGy19r97SHOaEvU7jNldpnL3eUD+pfEi2yAuslA18WrYIRwXXi6LfnEl5y6T X-Received: by 2002:a05:6e02:5e03:b0:433:23c3:f32a with SMTP id e9e14a558f8ab-43323c3f362mr6758155ab.27.1761986880983; Sat, 01 Nov 2025 01:48:00 -0700 (PDT) Received: from postal.iol.unh.edu (postal.iol.unh.edu. [2606:4100:3880:1234::84]) by smtp-relay.gmail.com with ESMTPS id 8926c6da1cb9f-5b6a55b0039sm375825173.24.2025.11.01.01.48.00 (version=TLS1_2 cipher=ECDHE-ECDSA-AES128-GCM-SHA256 bits=128/128); Sat, 01 Nov 2025 01:48:00 -0700 (PDT) X-Relaying-Domain: iol.unh.edu Date: Sat, 01 Nov 2025 01:48:00 -0700 (PDT) Message-ID: <6905c940.050a0220.3bb00.3549SMTPIN_ADDED_MISSING@mx.google.com> Received: from [172.21.0.2] (unknown [172.18.0.240]) by postal.iol.unh.edu (Postfix) with ESMTP id 6C68C60003E8; Sat, 1 Nov 2025 04:48:00 -0400 (EDT) Subject: |SUCCESS| [GIT MASTER] b287e404643aeab5bb5db084c142789df187844e From: dpdklab@iol.unh.edu To: Test Report Cc: dpdk-test-reports@iol.unh.edu, Xueming Li , Christian Ehrhardt , Kevin Traynor , Luca Boccassi Content-Type: text/plain X-BeenThere: test-report@dpdk.org X-Mailman-Version: 2.1.29 Precedence: list List-Id: automatic DPDK test reports List-Unsubscribe: , List-Archive: List-Post: List-Help: List-Subscribe: , Errors-To: test-report-bounces@dpdk.org _Testing PASS_ Branch: tags/v24.11 b287e404643aeab5bb5db084c142789df187844e --> testing pass Upstream job id: Generic-Unit-Test-DPDK#387538 Test environment and result as below: +------------------------------+----------------+---------------------------+--------------+------------------------------+ | Environment | dpdk_unit_test | cryptodev_sw_zuc_autotest | lpm_autotest | cryptodev_sw_snow3g_autotest | +==============================+================+===========================+==============+==============================+ | CentOS Stream 9 | PASS | SKIPPED | SKIPPED | SKIPPED | +------------------------------+----------------+---------------------------+--------------+------------------------------+ | Red Hat Enterprise Linux 9.5 | PASS | SKIPPED | SKIPPED | SKIPPED | +------------------------------+----------------+---------------------------+--------------+------------------------------+ | CentOS Stream 10 | PASS | SKIPPED | SKIPPED | SKIPPED | +------------------------------+----------------+---------------------------+--------------+------------------------------+ | Ubuntu 20.04 | PASS | SKIPPED | PASS | SKIPPED | +------------------------------+----------------+---------------------------+--------------+------------------------------+ | Debian GNU/Linux 12 | PASS | SKIPPED | SKIPPED | SKIPPED | +------------------------------+----------------+---------------------------+--------------+------------------------------+ | Fedora Linux 41 | PASS | SKIPPED | SKIPPED | SKIPPED | +------------------------------+----------------+---------------------------+--------------+------------------------------+ | Fedora Linux 40 | PASS | SKIPPED | SKIPPED | SKIPPED | +------------------------------+----------------+---------------------------+--------------+------------------------------+ | Ubuntu 22.04 | PASS | SKIPPED | SKIPPED | SKIPPED | +------------------------------+----------------+---------------------------+--------------+------------------------------+ | Fedora Linux 42 | PASS | SKIPPED | SKIPPED | SKIPPED | +------------------------------+----------------+---------------------------+--------------+------------------------------+ | Ubuntu 24.04 | PASS | SKIPPED | SKIPPED | SKIPPED | +------------------------------+----------------+---------------------------+--------------+------------------------------+ | Debian 12 (arm) | SKIPPED | PASS | SKIPPED | PASS | +------------------------------+----------------+---------------------------+--------------+------------------------------+ CentOS Stream 9 Kernel: 5.4 Compiler: gcc gcc (GCC) 11.5.0 20240719 (Red Hat 11.5.0-11) Red Hat Enterprise Linux 9.5 Kernel: 5.4 Compiler: gcc gcc (GCC) 11.5.0 20240719 (Red Hat 11.5.0-2) CentOS Stream 10 Kernel: 5.4 Compiler: gcc gcc (GCC) 14.2.1 20250110 (Red Hat 14.2.1-8) Ubuntu 20.04 Kernel: 5.4 Compiler: gcc gcc (Ubuntu 9.4.0-1ubuntu1~20.04.2) 9.4.0 Debian GNU/Linux 12 Kernel: 5.4 Compiler: gcc gcc (Debian 12.2.0-14+deb12u1) 12.2.0 Fedora Linux 41 Kernel: 5.4 Compiler: gcc gcc (GCC) 14.3.1 20250523 (Red Hat 14.3.1-1) Fedora Linux 40 Kernel: 5.4 Compiler: gcc gcc (GCC) 14.2.1 20240912 (Red Hat 14.2.1-3) Ubuntu 22.04 Kernel: 5.4 Compiler: gcc gcc (Ubuntu 11.4.0-1ubuntu1~22.04) 11.4.0 Fedora Linux 42 Kernel: 5.4 Compiler: clang gcc (GCC) 15.2.1 20250808 (Red Hat 15.2.1-1) Ubuntu 24.04 Kernel: 5.4 Compiler: gcc gcc (Ubuntu 13.3.0-6ubuntu2~24.04) 13.3.0 Debian 12 (arm) Kernel: Depends on container host Compiler: gcc (Debian 12.2.0-14) 12.2.0 To view detailed results, visit: https://lab.dpdk.org/results/dashboard/tarballs/35417/ UNH-IOL DPDK Community Lab To manage your email subscriptions, visit: https://lab.dpdk.org/results/dashboard/preferences/subscriptions/