From mboxrd@z Thu Jan 1 00:00:00 1970 Return-Path: Received: from mails.dpdk.org (mails.dpdk.org [217.70.189.124]) by inbox.dpdk.org (Postfix) with ESMTP id AB5B148A4B for ; Sat, 1 Nov 2025 09:59:37 +0100 (CET) Received: from mails.dpdk.org (localhost [127.0.0.1]) by mails.dpdk.org (Postfix) with ESMTP id 8497D40150; Sat, 1 Nov 2025 09:59:37 +0100 (CET) Received: from mail-yw1-f227.google.com (mail-yw1-f227.google.com [209.85.128.227]) by mails.dpdk.org (Postfix) with ESMTP id BD23D40150 for ; Sat, 1 Nov 2025 09:59:36 +0100 (CET) Received: by mail-yw1-f227.google.com with SMTP id 00721157ae682-78665bc1aecso566567b3.2 for ; Sat, 01 Nov 2025 01:59:36 -0700 (PDT) DKIM-Signature: v=1; a=rsa-sha256; c=relaxed/relaxed; d=iol.unh.edu; s=unh-iol; t=1761987576; x=1762592376; darn=dpdk.org; h=cc:to:from:subject:message-id:date:from:to:cc:subject:date :message-id:reply-to; bh=SAvLcroGx5N3bxt02p+8kVPf4j1jeyUxugY48xwrUJ4=; b=WqnbrQLdXg2/J2Jy+d7KJJvVjZBAihF/vzU/cQI6HJPzFIOv7G6wJiLfkcdsuc1kvI ofjizvU9hip052Ug7OE+HnWsJQlXdQ0su3c0w1KIU35He+725+2f46P2GdmJPWaSDOB3 6n3qSJ8gUm/QN4Gx07Hfn149Ivcwigyvxh90c= X-Google-DKIM-Signature: v=1; a=rsa-sha256; c=relaxed/relaxed; d=1e100.net; s=20230601; t=1761987576; x=1762592376; h=cc:to:from:subject:message-id:date:x-gm-message-state:from:to:cc :subject:date:message-id:reply-to; bh=SAvLcroGx5N3bxt02p+8kVPf4j1jeyUxugY48xwrUJ4=; b=l9cs7JBfXkXeu0UZNucU7d8TVMmqTLgWdMqvPjt8UMDdccNuo3J889HTg3f13gunZm AJETLq/pRxeVTQ9wLrM79L0V58GFEpUAdSsV5n/opqlU/ysal4fx5eR64HO47Ro7Uxnf RJ3c6vZ8l/cQbvbX0qeynxl1KzCa7DJc2PeTg76A9wRyKWzX9TBJF+zOmDjZAMQrFEvj ZGr/wPKPAEiKeAlTf4Mv3AL3TlWJ3psOfzJhtgWyjNVnQZMGTl52C5DupjE7GMxmX7BZ 24c/MhijjStoIqrTW9LJef27G1Fl903ipppvS2lDlZFNdmMzD7zfDiMkbLeiI6zuKsPx IMLA== X-Gm-Message-State: AOJu0YwSVEwdI/g3yTLKUu8AghcA/LqEhobVZY+TCF9P4ZPxz08/maaL kVKLGov9+dReCP2Fwg7NMrETUt1dOBz7cXWC8sAlaOLKF5XoNzQMHduECZvqnvwD1jEwPo2vUnI W8hRO/0SQcn1BqkR7cpkFSk5O6GvfjTCwMUv+J1v5UGpx+fLDzzua X-Gm-Gg: ASbGnctAl84SkvfbPWaoD+Du43DrKIpua8ppaMUGHWiW9bVUFOlKZlUzoR0qA2OFxvH IrY1KcRyGwssvv4l/fP63TjtT+FYh0wvFr3w7NgxwbY6Jmdqn9RNZ4TtQETySI9FNy2MaSNtg7P BCme4WKF9atjbRifl68qOHnYvNGgwnQgHkQF0M2Z7TxtAuDRTsAoMuZsr8v+Nzr7CdPsRSjcklJ JSkv7W3V7pu32uzBEC7JUIZnAJ/voMiwxyzXaHFHnTqBtWCuvNkPRr/QcC0GF3hOT42tL9r//I7 ScLvXIsoW+G19qtBlnYLCfluJiUDsBlkVtPs1tWNOQylRsxtHYjU3DU6KOtLKE8WkLm9e7Cbt+x ORKgxhsKo X-Google-Smtp-Source: AGHT+IFaaEK9M7AuNF6CGWibGU03kRJYh8/5gq8ahH6IbhrLi2A030Xamtqf23sGhQVfY7KiAsrCZtKohNje X-Received: by 2002:a05:690c:c85:b0:784:84b3:19e5 with SMTP id 00721157ae682-786483d70e6mr57389587b3.10.1761987575877; Sat, 01 Nov 2025 01:59:35 -0700 (PDT) Received: from postal.iol.unh.edu (postal.iol.unh.edu. [2606:4100:3880:1234::84]) by smtp-relay.gmail.com with ESMTPS id 00721157ae682-7864bd8c56fsm2791547b3.12.2025.11.01.01.59.35 (version=TLS1_2 cipher=ECDHE-ECDSA-AES128-GCM-SHA256 bits=128/128); Sat, 01 Nov 2025 01:59:35 -0700 (PDT) X-Relaying-Domain: iol.unh.edu Date: Sat, 01 Nov 2025 01:59:35 -0700 (PDT) Message-ID: <6905cbf7.050a0220.b2d86.e667SMTPIN_ADDED_MISSING@mx.google.com> Received: from [172.21.0.3] (unknown [172.18.0.240]) by postal.iol.unh.edu (Postfix) with ESMTP id 828776051830; Sat, 1 Nov 2025 04:59:35 -0400 (EDT) Subject: |SUCCESS| [GIT MASTER] b287e404643aeab5bb5db084c142789df187844e From: dpdklab@iol.unh.edu To: Test Report Cc: dpdk-test-reports@iol.unh.edu, Xueming Li , Christian Ehrhardt , Kevin Traynor , Luca Boccassi Content-Type: text/plain X-BeenThere: test-report@dpdk.org X-Mailman-Version: 2.1.29 Precedence: list List-Id: automatic DPDK test reports List-Unsubscribe: , List-Archive: List-Post: List-Help: List-Subscribe: , Errors-To: test-report-bounces@dpdk.org _Testing PASS_ Branch: tags/v24.11 b287e404643aeab5bb5db084c142789df187844e --> testing pass Upstream job id: Generic-DPDK-Compile-Meson#439806 Test environment and result as below: +------------------------------+--------------------+ | Environment | dpdk_meson_compile | +==============================+====================+ | Ubuntu 24.04 | PASS | +------------------------------+--------------------+ | Ubuntu 22.04 | PASS | +------------------------------+--------------------+ | Fedora Linux 42 | PASS | +------------------------------+--------------------+ | Red Hat Enterprise Linux 9.5 | PASS | +------------------------------+--------------------+ | Ubuntu 20.04 | PASS | +------------------------------+--------------------+ | Debian GNU/Linux 12 | PASS | +------------------------------+--------------------+ | CentOS Stream 10 | PASS | +------------------------------+--------------------+ | CentOS Stream 9 | PASS | +------------------------------+--------------------+ Ubuntu 24.04 Kernel: 5.4 Compiler: gcc gcc (Ubuntu 13.3.0-6ubuntu2~24.04) 13.3.0 Ubuntu 22.04 Kernel: 5.4 Compiler: gcc gcc (Ubuntu 11.4.0-1ubuntu1~22.04) 11.4.0 Fedora Linux 42 Kernel: 5.4 Compiler: clang gcc (GCC) 15.2.1 20250808 (Red Hat 15.2.1-1) Red Hat Enterprise Linux 9.5 Kernel: 5.4 Compiler: gcc gcc (GCC) 11.5.0 20240719 (Red Hat 11.5.0-2) Ubuntu 20.04 Kernel: 5.4 Compiler: gcc gcc (Ubuntu 9.4.0-1ubuntu1~20.04.2) 9.4.0 Debian GNU/Linux 12 Kernel: 5.4 Compiler: gcc gcc (Debian 12.2.0-14+deb12u1) 12.2.0 CentOS Stream 10 Kernel: 5.4 Compiler: gcc gcc (GCC) 14.2.1 20250110 (Red Hat 14.2.1-8) CentOS Stream 9 Kernel: 5.4 Compiler: gcc gcc (GCC) 11.5.0 20240719 (Red Hat 11.5.0-11) To view detailed results, visit: https://lab.dpdk.org/results/dashboard/tarballs/35417/ UNH-IOL DPDK Community Lab To manage your email subscriptions, visit: https://lab.dpdk.org/results/dashboard/preferences/subscriptions/