From mboxrd@z Thu Jan 1 00:00:00 1970 Return-Path: Received: from mails.dpdk.org (mails.dpdk.org [217.70.189.124]) by inbox.dpdk.org (Postfix) with ESMTP id 8F9C748A55 for ; Sat, 1 Nov 2025 11:02:08 +0100 (CET) Received: from mails.dpdk.org (localhost [127.0.0.1]) by mails.dpdk.org (Postfix) with ESMTP id 7A48C40150; Sat, 1 Nov 2025 11:02:08 +0100 (CET) Received: from mail-il1-f227.google.com (mail-il1-f227.google.com [209.85.166.227]) by mails.dpdk.org (Postfix) with ESMTP id 92C2B40150 for ; Sat, 1 Nov 2025 11:02:07 +0100 (CET) Received: by mail-il1-f227.google.com with SMTP id e9e14a558f8ab-4330dfb6ea3so7024425ab.0 for ; Sat, 01 Nov 2025 03:02:07 -0700 (PDT) DKIM-Signature: v=1; a=rsa-sha256; c=relaxed/relaxed; d=iol.unh.edu; s=unh-iol; t=1761991326; x=1762596126; darn=dpdk.org; h=cc:to:from:subject:message-id:date:from:to:cc:subject:date :message-id:reply-to; bh=iizCYUpL9mTh1/87vRogZcrQb3LDDMGZM6om8v4GJOU=; b=eLg4Lu87QCTEGouN5xQGzuLs6wSjkRmJsVI7N7WostMcaHoLeLm0G5ySo8MQ7+ZooT CbtXSNl31i0t1UKkkngjV1G6PfjfvrfPxmXGuavKK7/UDPzGsHHNtAEACfxTJht3bRzo 01iIAeSc4b2uarLR9alM9h/isHq3JfBVc79cA= X-Google-DKIM-Signature: v=1; a=rsa-sha256; c=relaxed/relaxed; d=1e100.net; s=20230601; t=1761991326; x=1762596126; h=cc:to:from:subject:message-id:date:x-gm-message-state:from:to:cc :subject:date:message-id:reply-to; bh=iizCYUpL9mTh1/87vRogZcrQb3LDDMGZM6om8v4GJOU=; b=dOYsPxnhwMVhtPLcy/bduNwvPEgTUMDmODQOEmoXa+XcqeuP0bGc6rZh+UDFPY4oNb TSue6uaxZu4HNhWd4+jioPQBcbGI8XJHbZKOiF/GUgWB30aV9nxHBmPcOocpG36vFCgK I0f9kKu6aMqZNHSHoNG0G7h66+s0Ykaish1nKUTlBA2UGNSQLbgItqaxU9AownvQ2Ja4 9mz9TbkE4FFQkGGSkY6wvyzZJEkxr5fb+3lFDdZyEJ4jCcs2pSH1y7LpRFRJRUMcr/Bu vLXhWDdUSDU+WsAPdQmk+tFqDdxQWX1TIDc5qYd7qZ927oLkm1XMffxaRYcjvFjbSWy3 hf4w== X-Gm-Message-State: AOJu0Yzl9khFPenU9BpLZ9O9eZnCgZT2zhzTnkyiFqmxKPQcFVb04q9e C8ehOpj/7jjS3o1uEUPki/8Jzyh/7ZGMhUgXSD9tRfk3LdUoa+iP+9ro+e/XN0Sar3cewL8IkXx 3NNckG5bAQ/Po/3kcnovuBMxFxRKnQYzcoHqU X-Gm-Gg: ASbGncv70W/EAUyLys5v0IWNTXYBc+wM6t4wtCU8z01vFA3yDdWUtu1UNlEv4cCPaVf GgLyvN7l6x5+reR0dPK8J7Og0GlHREqZ7dbv70MZjeA3NcincamtoAlEPxFH7Dzv59jjW1PJ5ms C9CoBs68OzAIRURyPuwz1CFUc48KJG4Z9WilYQZxKwxwGe86/JUQTu1M0h2U4SxizCiWY9gidsl G/atrksz9ld/1nlwBk6M8W1ci8LsYRnUq5OwIai4E3UXy4Ff5BhmjxCg+yko4aOacH/m5PNHA/y 9X/mVcqXzv6Kymd5hq5E0uRObeL8t6oYNuQokBzl9cPE+ExADutSmsI4I2qRF9GsV6404RQ3stL jCxj8VAYGSuSt0GfTHv5oNzHnRJ2E2iA= X-Google-Smtp-Source: AGHT+IHmT5aHQGults9EI5DJ49aAB8VQ/0NPHp/MBL3hTO2FlUh1xLHerM1Hzk9hZV6L1uEl11UNAMIoqwkc X-Received: by 2002:a05:6e02:1a4e:b0:42f:a60a:8538 with SMTP id e9e14a558f8ab-4330d1aa156mr92462465ab.16.1761991326652; Sat, 01 Nov 2025 03:02:06 -0700 (PDT) Received: from postal.iol.unh.edu (postal.iol.unh.edu. [132.177.123.84]) by smtp-relay.gmail.com with ESMTPS id 8926c6da1cb9f-5b6a035a4f4sm380093173.0.2025.11.01.03.02.06 (version=TLS1_2 cipher=ECDHE-ECDSA-AES128-GCM-SHA256 bits=128/128); Sat, 01 Nov 2025 03:02:06 -0700 (PDT) X-Relaying-Domain: iol.unh.edu Date: Sat, 01 Nov 2025 03:02:06 -0700 (PDT) Message-ID: <6905da9e.050a0220.1bb7a7.4449SMTPIN_ADDED_MISSING@mx.google.com> Received: from [172.21.0.3] (unknown [172.18.0.240]) by postal.iol.unh.edu (Postfix) with ESMTP id 3DBCF6051830; Sat, 1 Nov 2025 06:02:06 -0400 (EDT) Subject: |SUCCESS| [GIT MASTER] 42105ccaeef093ad8c7ce11d1bde3652861b783b From: dpdklab@iol.unh.edu To: Test Report Cc: dpdk-test-reports@iol.unh.edu, Xueming Li , Christian Ehrhardt , Kevin Traynor , Luca Boccassi Content-Type: text/plain X-BeenThere: test-report@dpdk.org X-Mailman-Version: 2.1.29 Precedence: list List-Id: automatic DPDK test reports List-Unsubscribe: , List-Archive: List-Post: List-Help: List-Subscribe: , Errors-To: test-report-bounces@dpdk.org _Testing PASS_ Branch: tags/v22.11 42105ccaeef093ad8c7ce11d1bde3652861b783b --> testing pass Upstream job id: Generic-DPDK-Compile-Meson#439757 Test environment and result as below: +------------------------------+--------------------+ | Environment | dpdk_meson_compile | +==============================+====================+ | Ubuntu 20.04 | PASS | +------------------------------+--------------------+ | Debian GNU/Linux 12 | PASS | +------------------------------+--------------------+ | CentOS Stream 9 | PASS | +------------------------------+--------------------+ | CentOS Stream 10 | PASS | +------------------------------+--------------------+ | Ubuntu 22.04 | PASS | +------------------------------+--------------------+ | Red Hat Enterprise Linux 9.5 | PASS | +------------------------------+--------------------+ | Fedora Linux 42 | PASS | +------------------------------+--------------------+ | Ubuntu 24.04 | PASS | +------------------------------+--------------------+ Ubuntu 20.04 Kernel: 5.15 Compiler: aarch64-linux-gnu-gcc gcc (Ubuntu 9.4.0-1ubuntu1~20.04.2) 9.4.0 Debian GNU/Linux 12 Kernel: 5.4 Compiler: gcc gcc (Debian 12.2.0-14+deb12u1) 12.2.0 CentOS Stream 9 Kernel: 5.4 Compiler: gcc gcc (GCC) 11.5.0 20240719 (Red Hat 11.5.0-11) CentOS Stream 10 Kernel: 5.4 Compiler: gcc gcc (GCC) 14.2.1 20250110 (Red Hat 14.2.1-8) Ubuntu 22.04 Kernel: 5.4 Compiler: gcc gcc (Ubuntu 11.4.0-1ubuntu1~22.04) 11.4.0 Red Hat Enterprise Linux 9.5 Kernel: 5.4 Compiler: gcc gcc (GCC) 11.5.0 20240719 (Red Hat 11.5.0-2) Fedora Linux 42 Kernel: 5.4 Compiler: gcc gcc (GCC) 15.2.1 20250808 (Red Hat 15.2.1-1) Ubuntu 24.04 Kernel: 5.4 Compiler: gcc gcc (Ubuntu 13.3.0-6ubuntu2~24.04) 13.3.0 To view detailed results, visit: https://lab.dpdk.org/results/dashboard/tarballs/35416/ UNH-IOL DPDK Community Lab To manage your email subscriptions, visit: https://lab.dpdk.org/results/dashboard/preferences/subscriptions/