From mboxrd@z Thu Jan 1 00:00:00 1970 Return-Path: Received: from mails.dpdk.org (mails.dpdk.org [217.70.189.124]) by inbox.dpdk.org (Postfix) with ESMTP id BCAA148A5B for ; Sat, 1 Nov 2025 12:55:51 +0100 (CET) Received: from mails.dpdk.org (localhost [127.0.0.1]) by mails.dpdk.org (Postfix) with ESMTP id B5D8B40150; Sat, 1 Nov 2025 12:55:51 +0100 (CET) Received: from mail-pj1-f100.google.com (mail-pj1-f100.google.com [209.85.216.100]) by mails.dpdk.org (Postfix) with ESMTP id 2AF0F40150 for ; Sat, 1 Nov 2025 12:55:51 +0100 (CET) Received: by mail-pj1-f100.google.com with SMTP id 98e67ed59e1d1-340bb1cb9ddso686892a91.2 for ; Sat, 01 Nov 2025 04:55:51 -0700 (PDT) DKIM-Signature: v=1; a=rsa-sha256; c=relaxed/relaxed; d=iol.unh.edu; s=unh-iol; t=1761998150; x=1762602950; darn=dpdk.org; h=references:in-reply-to:cc:to:from:subject:message-id:date:from:to :cc:subject:date:message-id:reply-to; bh=P/1BCc96327I9zYWr5kx5ttgkjyuwKzVYbRikT8OYWs=; b=XvPoQA1u1SDIxfbFGICQAMLyHBqTD1N0JcwfQJj7gW5q9aFu/YwuOHUBOWVEvMl7/x /CLRNE/80hOm7Om96iely0LU1GCjeyDjpqTww5djdzYIu8gdG8xC22EBapSdJkoa1Vh7 9bReGI6pFXiFb+uwRsAJneUUPxjwv7aio2xko= X-Google-DKIM-Signature: v=1; a=rsa-sha256; c=relaxed/relaxed; d=1e100.net; s=20230601; t=1761998150; x=1762602950; h=references:in-reply-to:cc:to:from:subject:message-id:date :x-gm-message-state:from:to:cc:subject:date:message-id:reply-to; bh=P/1BCc96327I9zYWr5kx5ttgkjyuwKzVYbRikT8OYWs=; b=OoSkrqLoyV5shVUFzcxnqz4Jiqb1L6d/ggbBdC32FQ15xwnv+xX8wK3U1GcTUm6GXs r/7dQ+7LBYFMdjZabSuktUZY8pstZkAKsTC3IFUmN39Fd4eiCUMZrexV1a5g3WOOeO01 Gd+QRB0lDbMTiw/0dEdTU6OHWH/JAGDeF5elBoLaa8QGCT75T0YCgIcoly3p8sb6ACCQ Bddo9rVdaOVjzNBp6FzqIZ8efkEsWx4OiwhVBISea4FJrD9H/xzkRIS6AyEVowTM6d92 lnFEfdtPjcu34Su2AhseuINxOSKHgj5+2/fIL9MyRZu+4/r6Qo7tp6D4LlRs0dkBf/P2 /PjA== X-Gm-Message-State: AOJu0YxdH5JT9Dmxf2pOFWUth6DB1wlx3V3vjtxRR+3HaQ7P4/r4eLO4 0sX/o7wdoYmMlGcVHicdIUGrB/J4HC9ZZgLb1Ssv7lipW+T+AbT3b9kWi1kZYXVgdGM1WBvf0t5 uBwGgUOtzwWkcfR9vQCetQYhB5FcIHEz7LpTPSYInlseJlgROT3feFjcsLVZh X-Gm-Gg: ASbGnct3bNM3odAkBb6byd7y9f8rA+0uVdz9vUATDbRGc7gyIev1OJMXXwO68h89NGJ K+QqTE4/g/7m3cOg63F4MlNQA+UW4mwc1TUPPMVnRvs/euYH6DL8Da+cnNIQ0LRHUrKQaK9HWwE GM55EtmIxbXgPZTdNlLb//AqQv16+9D2aFiAiX1jBZrIU7idXZsx1h3kUGyBrgr+fEBs7pTG7zm HOXtaPy7+OpKtD2Q47x4vAtYqFpjr9Gu8ATmjJesn+NHiaO3j7duFjGs1bijI4Sb5bYg9J30VtE HSF1CjaVbrtZaI5kout4c6IOKS/66qBE7dlAFKKxt1vxK1YVMRDUEe+e/XYnbzcd963OpVBefAq llLUquPJz X-Google-Smtp-Source: AGHT+IHaAQdkAH3W5iNqvoSrOICy04tCm4+JwunCNt/fGGmyE8rGVlMeMhgkQ/rHl17VV9W1U1536PyvvTk+ X-Received: by 2002:a17:90a:e7c9:b0:340:b908:9665 with SMTP id 98e67ed59e1d1-340b90898e6mr3875559a91.37.1761998150353; Sat, 01 Nov 2025 04:55:50 -0700 (PDT) Received: from postal.iol.unh.edu (postal.iol.unh.edu. [2606:4100:3880:1234::84]) by smtp-relay.gmail.com with ESMTPS id 41be03b00d2f7-b93b0c8b56bsm314086a12.0.2025.11.01.04.55.50 (version=TLS1_2 cipher=ECDHE-ECDSA-AES128-GCM-SHA256 bits=128/128); Sat, 01 Nov 2025 04:55:50 -0700 (PDT) X-Relaying-Domain: iol.unh.edu Date: Sat, 01 Nov 2025 04:55:50 -0700 (PDT) Message-ID: <6905f546.650a0220.3d7065.11a7SMTPIN_ADDED_MISSING@mx.google.com> Received: from [172.21.0.3] (unknown [172.18.0.240]) by postal.iol.unh.edu (Postfix) with ESMTP id 580066051830; Sat, 1 Nov 2025 07:55:49 -0400 (EDT) Subject: |SUCCESS| pw158326 [PATCH] net/ice: add source prune configuration A From: dpdklab@iol.unh.edu To: Test Report Cc: dpdk-test-reports@iol.unh.edu, Bruce Richardson In-Reply-To: <20251101104627.64906-1-anurag.mandal@intel.com> References: <20251101104627.64906-1-anurag.mandal@intel.com> Content-Type: text/plain X-BeenThere: test-report@dpdk.org X-Mailman-Version: 2.1.29 Precedence: list List-Id: automatic DPDK test reports List-Unsubscribe: , List-Archive: List-Post: List-Help: List-Subscribe: , Errors-To: test-report-bounces@dpdk.org Test-Label: iol-unit-amd64-testing Test-Status: SUCCESS http://dpdk.org/patch/158326 _Testing PASS_ Submitter: Anurag Mandal Date: Saturday, November 01 2025 10:46:27 DPDK git baseline: Repo:dpdk-next-net-intel Branch: master CommitID:40de0ba36a04ef80e8a2ac90c240183fc2c6d1b4 158326 --> testing pass Upstream job id: Generic-VM-Unit-Test-DPDK#32219 Test environment and result as below: +-------------------------------+----------------+ | Environment | dpdk_unit_test | +===============================+================+ | Ubuntu 24.04 | PASS | +-------------------------------+----------------+ | Red Hat Enterprise Linux 8.10 | PASS | +-------------------------------+----------------+ | Fedora Linux 41 | PASS | +-------------------------------+----------------+ | Fedora Linux 42 | PASS | +-------------------------------+----------------+ | Debian GNU/Linux 12 | PASS | +-------------------------------+----------------+ | Ubuntu 20.04 | PASS | +-------------------------------+----------------+ | Fedora Linux 40 | PASS | +-------------------------------+----------------+ | Red Hat Enterprise Linux 9.5 | PASS | +-------------------------------+----------------+ | CentOS Stream 10 | PASS | +-------------------------------+----------------+ | CentOS Stream 9 | PASS | +-------------------------------+----------------+ | Ubuntu 22.04 | PASS | +-------------------------------+----------------+ | Windows Server 2022 | PASS | +-------------------------------+----------------+ Ubuntu 24.04 Kernel: 5.15 Compiler: gcc gcc (Ubuntu 13.3.0-6ubuntu2~24.04) 13.3.0 Red Hat Enterprise Linux 8.10 Kernel: 5.15 Compiler: gcc gcc (GCC) 8.5.0 20210514 (Red Hat 8.5.0-22) Fedora Linux 41 Kernel: 5.15 Compiler: gcc gcc (GCC) 14.3.1 20250523 (Red Hat 14.3.1-1) Fedora Linux 42 Kernel: 5.15 Compiler: gcc gcc (GCC) 15.2.1 20250808 (Red Hat 15.2.1-1) Debian GNU/Linux 12 Kernel: 5.15 Compiler: gcc gcc (Debian 12.2.0-14+deb12u1) 12.2.0 Ubuntu 20.04 Kernel: 5.15 Compiler: gcc gcc (Ubuntu 9.4.0-1ubuntu1~20.04.2) 9.4.0 Fedora Linux 40 Kernel: 5.15 Compiler: gcc gcc (GCC) 14.2.1 20240912 (Red Hat 14.2.1-3) Red Hat Enterprise Linux 9.5 Kernel: 5.15 Compiler: gcc gcc (GCC) 11.5.0 20240719 (Red Hat 11.5.0-2) CentOS Stream 10 Kernel: 5.15 Compiler: gcc gcc (GCC) 14.2.1 20250110 (Red Hat 14.2.1-8) CentOS Stream 9 Kernel: 5.15 Compiler: gcc gcc (GCC) 11.5.0 20240719 (Red Hat 11.5.0-11) Ubuntu 22.04 Kernel: 5.15 Compiler: gcc gcc (Ubuntu 11.4.0-1ubuntu1~22.04) 11.4.0 Windows Server 2022 Kernel: 10.0.20348.2031 Compiler: clang 15.0.7, gcc 14.1.0 (MinGW), and MSVC VS 19.39.33521 To view detailed results, visit: https://lab.dpdk.org/results/dashboard/patchsets/34437/ UNH-IOL DPDK Community Lab To manage your email subscriptions, visit: https://lab.dpdk.org/results/dashboard/preferences/subscriptions/