From mboxrd@z Thu Jan 1 00:00:00 1970 Return-Path: Received: from mails.dpdk.org (mails.dpdk.org [217.70.189.124]) by inbox.dpdk.org (Postfix) with ESMTP id 76A9048A5B for ; Sat, 1 Nov 2025 13:00:30 +0100 (CET) Received: from mails.dpdk.org (localhost [127.0.0.1]) by mails.dpdk.org (Postfix) with ESMTP id 398DB40150; Sat, 1 Nov 2025 13:00:30 +0100 (CET) Received: from mail-pf1-f228.google.com (mail-pf1-f228.google.com [209.85.210.228]) by mails.dpdk.org (Postfix) with ESMTP id 30FC540150 for ; Sat, 1 Nov 2025 13:00:29 +0100 (CET) Received: by mail-pf1-f228.google.com with SMTP id d2e1a72fcca58-79af647cef2so3001232b3a.3 for ; Sat, 01 Nov 2025 05:00:29 -0700 (PDT) DKIM-Signature: v=1; a=rsa-sha256; c=relaxed/relaxed; d=iol.unh.edu; s=unh-iol; t=1761998428; x=1762603228; darn=dpdk.org; h=references:in-reply-to:cc:to:from:subject:message-id:date:from:to :cc:subject:date:message-id:reply-to; bh=12MNr7X5UhgdjXXrf1PXPLsPA70/EMzaPivk88GrjO8=; b=UKcxpRoo6z2mFWiD43JR38Qc5zmuMfQhn92UnrqR00dTRfawtFezwkTCWYRG7K7dBM L5TV5+gcMiefmxfC2gxOSby3YbCaOiFnWlDJly2LE7p45mWtcnB1mBXLZayQQpQGsrfc frsYJVYzqMvQQCXJ2T1tt+RmhJlzsS30JVExs= X-Google-DKIM-Signature: v=1; a=rsa-sha256; c=relaxed/relaxed; d=1e100.net; s=20230601; t=1761998428; x=1762603228; h=references:in-reply-to:cc:to:from:subject:message-id:date :x-gm-message-state:from:to:cc:subject:date:message-id:reply-to; bh=12MNr7X5UhgdjXXrf1PXPLsPA70/EMzaPivk88GrjO8=; b=pLDWH1h6upKK9AMxKiOtMhCtmGFViiNHrAfB3EB9KhskrYthnvoSxNgGiBwG6zlRqP MJXjD6Ir4G98jV600pRLSeeLOQ1OqXwyOgjh2BIqv4Hlw+vWC6QP4rg/z5PTyEXBSY+9 K8iknFYsz3M+yxCWQy306Kn3XqJLc4R+B38PUiy/ufZQb63hoY7OnhSwy6H8cTIz7MmM 8+5p+WeaP9AQQyhh7tZpVauWQfUgoAt+FXt/Le6zRM5nsELouhU2BbVLscsMOQ2MktHX reGEXdhukESZRk+aSVtXccPPGA0aGS2P1gXjsKyejoIRdMx1/OZUVAcUUbsKOrKif10J AObg== X-Gm-Message-State: AOJu0Yzf8uh33HvZKa6BNQzNfX2pFoslVbj0lIKJ9WthJXKMC4+VY2vD SRJFqhGgA3UrlJpNE3eYJwpXQjCj4mmW1l5EnRjuQCW4hn5oCiXgURPx22nxucguq2ijUkrd1yJ kmsYvPwhTaPH1+odubtQHQWGaRmhHMKMz7goE2q6NRsGU X-Gm-Gg: ASbGncv2ITZml7DG36yU+6joT8JG5c32JarOezGAuOz99nUF6vUWWWxGZNRo1IiBvY7 0jxtr4rErZzeHah/JFn/bbFYkVGWSvH2RoSyxLcriaeDHsOqt5zXFO/HddjB5UXwNYApPmfICjQ 8koCVB2lOOs6Hfdm5H/TGXehFcbWH9Oknzc2oISPaVMhpyYtNqn9rVlAbe4PZ4cOcBQ9glh0q3X FS6DAFI4RRINrDv+UTL27iERa1jRDgOkQ9FIHNrQN40eEdFx4JRN54lyxLNvwgmo3b1ile/rulC QX6ENI0AdSDLnN9JVKKBuN/fbK3kaC7TqzCgW1cS1a7zi+SjEC6O1EyTwjwJmeCA2wlA86yxgTD pMPXY8updBzB7pWYIYLlCD5SeF4ZK+vg= X-Google-Smtp-Source: AGHT+IH/fgbQHuch5zzhzfvRgyc4vPkndQsPl3hS4HnTVvKItifiwCIi/fqKx1DuivZ2oc6SxCoK/ynhlqLn X-Received: by 2002:a05:6a00:9291:b0:79a:905a:8956 with SMTP id d2e1a72fcca58-7a77718e95cmr8613187b3a.14.1761998427633; Sat, 01 Nov 2025 05:00:27 -0700 (PDT) Received: from postal.iol.unh.edu (postal.iol.unh.edu. [132.177.123.84]) by smtp-relay.gmail.com with ESMTPS id d2e1a72fcca58-7a7db4833a6sm347423b3a.9.2025.11.01.05.00.27 (version=TLS1_2 cipher=ECDHE-ECDSA-AES128-GCM-SHA256 bits=128/128); Sat, 01 Nov 2025 05:00:27 -0700 (PDT) X-Relaying-Domain: iol.unh.edu Date: Sat, 01 Nov 2025 05:00:27 -0700 (PDT) Message-ID: <6905f65b.050a0220.1ecf31.2b83SMTPIN_ADDED_MISSING@mx.google.com> Received: from [172.21.0.3] (unknown [172.18.0.240]) by postal.iol.unh.edu (Postfix) with ESMTP id 52B256051830; Sat, 1 Nov 2025 08:00:26 -0400 (EDT) Subject: |SUCCESS| pw158326 [PATCH] net/ice: add source prune configuration A From: dpdklab@iol.unh.edu To: Test Report Cc: dpdk-test-reports@iol.unh.edu, Bruce Richardson In-Reply-To: <20251101104627.64906-1-anurag.mandal@intel.com> References: <20251101104627.64906-1-anurag.mandal@intel.com> Content-Type: text/plain X-BeenThere: test-report@dpdk.org X-Mailman-Version: 2.1.29 Precedence: list List-Id: automatic DPDK test reports List-Unsubscribe: , List-Archive: List-Post: List-Help: List-Subscribe: , Errors-To: test-report-bounces@dpdk.org Test-Label: iol-unit-amd64-testing Test-Status: SUCCESS http://dpdk.org/patch/158326 _Testing PASS_ Submitter: Anurag Mandal Date: Saturday, November 01 2025 10:46:27 DPDK git baseline: Repo:dpdk-next-net-intel Branch: master CommitID:40de0ba36a04ef80e8a2ac90c240183fc2c6d1b4 158326 --> testing pass Upstream job id: Generic-VM-Unit-Test-DPDK#32220 Test environment and result as below: +-------------------------------+----------------+ | Environment | dpdk_unit_test | +===============================+================+ | Ubuntu 24.04 | PASS | +-------------------------------+----------------+ | Red Hat Enterprise Linux 8.10 | PASS | +-------------------------------+----------------+ | Fedora Linux 41 | PASS | +-------------------------------+----------------+ | Fedora Linux 42 | PASS | +-------------------------------+----------------+ | Debian GNU/Linux 12 | PASS | +-------------------------------+----------------+ | Ubuntu 20.04 | PASS | +-------------------------------+----------------+ | Fedora Linux 40 | PASS | +-------------------------------+----------------+ | Red Hat Enterprise Linux 9.5 | PASS | +-------------------------------+----------------+ | CentOS Stream 10 | PASS | +-------------------------------+----------------+ | CentOS Stream 9 | PASS | +-------------------------------+----------------+ | Ubuntu 22.04 | PASS | +-------------------------------+----------------+ | Windows Server 2022 | PASS | +-------------------------------+----------------+ Ubuntu 24.04 Kernel: 5.15 Compiler: gcc gcc (Ubuntu 13.3.0-6ubuntu2~24.04) 13.3.0 Red Hat Enterprise Linux 8.10 Kernel: 5.15 Compiler: gcc gcc (GCC) 8.5.0 20210514 (Red Hat 8.5.0-22) Fedora Linux 41 Kernel: 5.15 Compiler: gcc gcc (GCC) 14.3.1 20250523 (Red Hat 14.3.1-1) Fedora Linux 42 Kernel: 5.15 Compiler: gcc gcc (GCC) 15.2.1 20250808 (Red Hat 15.2.1-1) Debian GNU/Linux 12 Kernel: 5.15 Compiler: gcc gcc (Debian 12.2.0-14+deb12u1) 12.2.0 Ubuntu 20.04 Kernel: 5.15 Compiler: gcc gcc (Ubuntu 9.4.0-1ubuntu1~20.04.2) 9.4.0 Fedora Linux 40 Kernel: 5.15 Compiler: gcc gcc (GCC) 14.2.1 20240912 (Red Hat 14.2.1-3) Red Hat Enterprise Linux 9.5 Kernel: 5.15 Compiler: gcc gcc (GCC) 11.5.0 20240719 (Red Hat 11.5.0-2) CentOS Stream 10 Kernel: 5.15 Compiler: gcc gcc (GCC) 14.2.1 20250110 (Red Hat 14.2.1-8) CentOS Stream 9 Kernel: 5.15 Compiler: gcc gcc (GCC) 11.5.0 20240719 (Red Hat 11.5.0-11) Ubuntu 22.04 Kernel: 5.15 Compiler: gcc gcc (Ubuntu 11.4.0-1ubuntu1~22.04) 11.4.0 Windows Server 2022 Kernel: 10.0.20348.2031 Compiler: clang 15.0.7, gcc 14.1.0 (MinGW), and MSVC VS 19.39.33521 To view detailed results, visit: https://lab.dpdk.org/results/dashboard/patchsets/34437/ UNH-IOL DPDK Community Lab To manage your email subscriptions, visit: https://lab.dpdk.org/results/dashboard/preferences/subscriptions/