From mboxrd@z Thu Jan 1 00:00:00 1970 Return-Path: Received: from mails.dpdk.org (mails.dpdk.org [217.70.189.124]) by inbox.dpdk.org (Postfix) with ESMTP id E828C48A5B for ; Sat, 1 Nov 2025 13:33:13 +0100 (CET) Received: from mails.dpdk.org (localhost [127.0.0.1]) by mails.dpdk.org (Postfix) with ESMTP id BB33740150; Sat, 1 Nov 2025 13:33:13 +0100 (CET) Received: from mail-pl1-f228.google.com (mail-pl1-f228.google.com [209.85.214.228]) by mails.dpdk.org (Postfix) with ESMTP id 13D4D40150 for ; Sat, 1 Nov 2025 13:33:13 +0100 (CET) Received: by mail-pl1-f228.google.com with SMTP id d9443c01a7336-295548467c7so5443345ad.2 for ; Sat, 01 Nov 2025 05:33:12 -0700 (PDT) DKIM-Signature: v=1; a=rsa-sha256; c=relaxed/relaxed; d=iol.unh.edu; s=unh-iol; t=1762000392; x=1762605192; darn=dpdk.org; h=references:in-reply-to:cc:to:from:subject:message-id:date:from:to :cc:subject:date:message-id:reply-to; bh=EC5kGJ38KHIqh1/SYIrqZb/YYg9Bt1FHpS4GTndPcz8=; b=jUy4ImS38af8PnYw/RD9KncSK0zkZOMLGzHh93c+77EN6NJ1XpSu73h6yJLCdi8VPH 1PSVpiyl8pRJ8EtKwscxD1wQvKUNX1d33B3XM1GuUy3p8Z+grn5EFHaeJwHP8cd8EuXp 93QwhErOBkNqiOPwUqY1fLbNYQpbb6UsBvBdg= X-Google-DKIM-Signature: v=1; a=rsa-sha256; c=relaxed/relaxed; d=1e100.net; s=20230601; t=1762000392; x=1762605192; h=references:in-reply-to:cc:to:from:subject:message-id:date :x-gm-message-state:from:to:cc:subject:date:message-id:reply-to; bh=EC5kGJ38KHIqh1/SYIrqZb/YYg9Bt1FHpS4GTndPcz8=; b=EkTCIccUV1R3W1pxX+TJSfmtSbZATBX3cW60DPQJfBO44hSze0GCEUd8DeE0mdhO1J wwrM9jakh8QZiMoEAmCSZrkbJ+rfqfkZ8pXbe9FuG+CruzoCMzo1Ld9kil2VWmwhH+Es PXOcmxsIHI/oiRulDTa5EZUQf2Jxa/BPCLpgiGxfYoINTYDk7/yK5DowtxDQ+bY5LDbm SLicyO6ANQ82Lx/flRnO9IEi+nF4hjN32srmu5irK4BJQhJuHdXHHk4rzdLSa4VydQaV OxV8GSBhgPpMWZbRvkIRy7pY0wPGRRCehUF0QqZFWZl2fiKyO+uz6i/9XXipFJrAK9PF BCyQ== X-Gm-Message-State: AOJu0Yy9YHsYpbES0LWCd4SA01siK67ALkcikpqh7MM3glnCle0QtXbe GFkdusi7h7XNFYUMdoX2W95I6sLm1/LRa4cIYHiWYGgQWKxwULQf0cxD0sNmh/p9iydxamoCHe4 J90jIEpsOwDgS9wpZBfx2BaprgFDnaRFBx2Mf0qtNFTIh X-Gm-Gg: ASbGncsaVqzzti8xONl54/o7SdfMkdL2aDlths/ZCDnND1W1Ml+MGNozrsGu6AEk/0+ 4+9Hb7b7lOc7aferxthRrxIsNOYuruKYkMXHFUx2aPMasJ8T/nwacMszTRvnbUdCGSN7LZDv1um SSjkUc6573BQDeIyYkCtvtFtObRgPyIORUegM0LcLdiebz6ZSePzgn2JuFbwcxyFlRpbB0Q0EnD Eyn8/DIKw2J765KwzkFA0idxdHVl1LbxhBl0Qkf6ZRZ8mlJufStpEPxbl2LPpbufrGWBHa3BXoq tB+x67j2TFZfcOgE87bH7of3t6HXcAWwSkFjLpBYjhtjigCVg8aet++SWpbcQJhYQdRBZsNLw5P qZ4p/MYEyLnJ9Dx0O0KUBWwld5hYBR8U= X-Google-Smtp-Source: AGHT+IHD2vs1H8ayDlRQLr4E/DhjbOc8R88qbXMm1QblT1D6Sfu6zPZTQc2laDk7w0posOe6oup70I8IYPqn X-Received: by 2002:a17:902:da82:b0:295:5948:f5d8 with SMTP id d9443c01a7336-2955948f90fmr21830655ad.48.1762000392104; Sat, 01 Nov 2025 05:33:12 -0700 (PDT) Received: from postal.iol.unh.edu (postal.iol.unh.edu. [132.177.123.84]) by smtp-relay.gmail.com with ESMTPS id d9443c01a7336-295268761bbsm3925605ad.10.2025.11.01.05.33.11 (version=TLS1_2 cipher=ECDHE-ECDSA-AES128-GCM-SHA256 bits=128/128); Sat, 01 Nov 2025 05:33:12 -0700 (PDT) X-Relaying-Domain: iol.unh.edu Date: Sat, 01 Nov 2025 05:33:12 -0700 (PDT) Message-ID: <6905fe08.170a0220.8560b.41c5SMTPIN_ADDED_MISSING@mx.google.com> Received: from [172.21.0.2] (unknown [172.18.0.240]) by postal.iol.unh.edu (Postfix) with ESMTP id 7F2B460003E8; Sat, 1 Nov 2025 08:33:11 -0400 (EDT) Subject: |SUCCESS| pw158326 [PATCH] net/ice: add source prune configuration A From: dpdklab@iol.unh.edu To: Test Report Cc: dpdk-test-reports@iol.unh.edu, Bruce Richardson In-Reply-To: <20251101104627.64906-1-anurag.mandal@intel.com> References: <20251101104627.64906-1-anurag.mandal@intel.com> Content-Type: text/plain X-BeenThere: test-report@dpdk.org X-Mailman-Version: 2.1.29 Precedence: list List-Id: automatic DPDK test reports List-Unsubscribe: , List-Archive: List-Post: List-Help: List-Subscribe: , Errors-To: test-report-bounces@dpdk.org Test-Label: iol-unit-arm64-testing Test-Status: SUCCESS http://dpdk.org/patch/158326 _Testing PASS_ Submitter: Anurag Mandal Date: Saturday, November 01 2025 10:46:27 DPDK git baseline: Repo:dpdk-next-net-intel Branch: master CommitID:40de0ba36a04ef80e8a2ac90c240183fc2c6d1b4 158326 --> testing pass Upstream job id: Generic-Unit-Test-DPDK#387548 Test environment and result as below: +------------------------------+----------------+------------------------------+--------------+---------------------------+ | Environment | dpdk_unit_test | cryptodev_sw_snow3g_autotest | lpm_autotest | cryptodev_sw_zuc_autotest | +==============================+================+==============================+==============+===========================+ | Ubuntu 22.04 | PASS | SKIPPED | SKIPPED | SKIPPED | +------------------------------+----------------+------------------------------+--------------+---------------------------+ | Fedora Linux 41 | PASS | SKIPPED | SKIPPED | SKIPPED | +------------------------------+----------------+------------------------------+--------------+---------------------------+ | Fedora Linux 40 | PASS | SKIPPED | SKIPPED | SKIPPED | +------------------------------+----------------+------------------------------+--------------+---------------------------+ | Red Hat Enterprise Linux 9.5 | PASS | SKIPPED | SKIPPED | SKIPPED | +------------------------------+----------------+------------------------------+--------------+---------------------------+ | Debian GNU/Linux 12 | PASS | SKIPPED | SKIPPED | SKIPPED | +------------------------------+----------------+------------------------------+--------------+---------------------------+ | CentOS Stream 9 | PASS | SKIPPED | SKIPPED | SKIPPED | +------------------------------+----------------+------------------------------+--------------+---------------------------+ | Fedora Linux 42 | PASS | SKIPPED | SKIPPED | SKIPPED | +------------------------------+----------------+------------------------------+--------------+---------------------------+ | Ubuntu 20.04 | PASS | SKIPPED | PASS | SKIPPED | +------------------------------+----------------+------------------------------+--------------+---------------------------+ | Ubuntu 24.04 | PASS | SKIPPED | SKIPPED | SKIPPED | +------------------------------+----------------+------------------------------+--------------+---------------------------+ | CentOS Stream 10 | PASS | SKIPPED | SKIPPED | SKIPPED | +------------------------------+----------------+------------------------------+--------------+---------------------------+ | Debian 12 (arm) | SKIPPED | PASS | SKIPPED | PASS | +------------------------------+----------------+------------------------------+--------------+---------------------------+ Ubuntu 22.04 Kernel: 5.4 Compiler: gcc gcc (Ubuntu 11.4.0-1ubuntu1~22.04) 11.4.0 Fedora Linux 41 Kernel: 5.4 Compiler: gcc gcc (GCC) 14.3.1 20250523 (Red Hat 14.3.1-1) Fedora Linux 40 Kernel: 5.4 Compiler: gcc gcc (GCC) 14.2.1 20240912 (Red Hat 14.2.1-3) Red Hat Enterprise Linux 9.5 Kernel: 5.4 Compiler: gcc gcc (GCC) 11.5.0 20240719 (Red Hat 11.5.0-2) Debian GNU/Linux 12 Kernel: 5.4 Compiler: gcc gcc (Debian 12.2.0-14+deb12u1) 12.2.0 CentOS Stream 9 Kernel: 5.4 Compiler: gcc gcc (GCC) 11.5.0 20240719 (Red Hat 11.5.0-11) Fedora Linux 42 Kernel: 5.4 Compiler: clang gcc (GCC) 15.2.1 20250808 (Red Hat 15.2.1-1) Ubuntu 20.04 Kernel: 5.4 Compiler: gcc gcc (Ubuntu 9.4.0-1ubuntu1~20.04.2) 9.4.0 Ubuntu 24.04 Kernel: 5.4 Compiler: gcc gcc (Ubuntu 13.3.0-6ubuntu2~24.04) 13.3.0 CentOS Stream 10 Kernel: 5.4 Compiler: gcc gcc (GCC) 14.2.1 20250110 (Red Hat 14.2.1-8) Debian 12 (arm) Kernel: Depends on container host Compiler: gcc (Debian 12.2.0-14) 12.2.0 To view detailed results, visit: https://lab.dpdk.org/results/dashboard/patchsets/34437/ UNH-IOL DPDK Community Lab To manage your email subscriptions, visit: https://lab.dpdk.org/results/dashboard/preferences/subscriptions/