From mboxrd@z Thu Jan 1 00:00:00 1970 Return-Path: Received: from mails.dpdk.org (mails.dpdk.org [217.70.189.124]) by inbox.dpdk.org (Postfix) with ESMTP id F18DB48A5E for ; Sat, 1 Nov 2025 15:26:55 +0100 (CET) Received: from mails.dpdk.org (localhost [127.0.0.1]) by mails.dpdk.org (Postfix) with ESMTP id CC3BA40273; Sat, 1 Nov 2025 15:26:55 +0100 (CET) Received: from mail-yx1-f99.google.com (mail-yx1-f99.google.com [74.125.224.99]) by mails.dpdk.org (Postfix) with ESMTP id 106FC40273 for ; Sat, 1 Nov 2025 15:26:55 +0100 (CET) Received: by mail-yx1-f99.google.com with SMTP id 956f58d0204a3-63e393c4a8aso3170413d50.2 for ; Sat, 01 Nov 2025 07:26:54 -0700 (PDT) DKIM-Signature: v=1; a=rsa-sha256; c=relaxed/relaxed; d=iol.unh.edu; s=unh-iol; t=1762007214; x=1762612014; darn=dpdk.org; h=references:in-reply-to:cc:to:from:subject:message-id:date:from:to :cc:subject:date:message-id:reply-to; bh=IbJwgc0Yyy3Q+CUQ1gxGeEPO2KKAzPwJkpx0CeLwSkg=; b=N4WH459VjewL9iKTepoaRaxaCT5CRhx3ihMIHZHnqd31zAvZTZXfKwJ59MQUDQgv58 DbDiGpP06g2klYxSSxlck839cnWYhiyqbTLRn2BpXJbLcf87YWU1Off3brFO3Yvk+7G2 1A7vL47X7LCqDWw3H8qHduNFYJ3ZOoD2829G0= X-Google-DKIM-Signature: v=1; a=rsa-sha256; c=relaxed/relaxed; d=1e100.net; s=20230601; t=1762007214; x=1762612014; h=references:in-reply-to:cc:to:from:subject:message-id:date :x-gm-message-state:from:to:cc:subject:date:message-id:reply-to; bh=IbJwgc0Yyy3Q+CUQ1gxGeEPO2KKAzPwJkpx0CeLwSkg=; b=kdgqcp1gukCyif+1Vg8CVZm3wqDW+WDYuNCHlDrbKCzwFgwgth/jjzD0z3z9Yz6WWo 2ZPCkAqJCacI+dBP9WdFzjgnH5J07pshldn6RfNnaNny4lSgtgaNF9PMffi5BrUw2r+o Fq68lMUGRnSzhOdx/bhhjegii9HnZvvjprmE9z20FpGj6MJs5VtGrbkAxMKVyXLxb6HT 6i4EyXcxHyIP5SR2B43/OMyno2cZJbOovMeDlX1hdgJO3DINgeBNp3r+jxI+J+zZNlEs IhbdQsYxzk4jrGvQXs/pQHJa15Hu0O1d6AoAhdrNrhJuXK4NezHL9zw8ZFt+NQhIle4W sAtA== X-Gm-Message-State: AOJu0YwRuNl9Ute5q5fvtcvRPAhsLzOU+j8cP86qWFLOXenTH8yO48Tn cNbc3KaWMe7HpCrXNMwq9T6y7Bun8T3c51ThboFnQacFkuyK/89B1x/8Zv72xVEu3U7YBVMdfVH K5MwJcT5+usVGEAIeE6L1905mLWX2E9Wn/I8s7DjB3UKUFMTmNWjjCQQv5zec X-Gm-Gg: ASbGncu4NZcJIOwWFl5kVmmkba805/Fici7ugouqHcRrPTuukhFowe3Zwb1hDcp5tX8 1+H/zRqBjG7cpMzC08U8vti6Nbx5Aix/8KKLZtVcQUPx282+0gql/2Vwvdv078h+Hb30S1F0QNS XogH1ozIxDPiQaurVBdtkHBclh1BIIxJyj46TtMdFtJYN0hEfYz744j33jGKI56sERugsbP4aQv 68wsMSu9QorIhRt55oHZ7GwA5FAhgy1n/D+Oo/p5JIxK/s5yX10plnAW/2sSuXJTKL7lysYmHWi zUuwY7pE8G11Yodzn/Bae64HUDxEDWVYMAxboYJlrhuPgReigkKaq1QX5uHWWWI41O6mpIRZmOb DDyuUWyeV X-Google-Smtp-Source: AGHT+IHaNt8m8/yecvdE/H2jh0wUwkoJEglojn1HcUOBaj9K4ru8QREabiM6EV/sdD9r6Tpi71s8ia4h3I/c X-Received: by 2002:a53:d005:0:b0:636:1844:104 with SMTP id 956f58d0204a3-63f9223d233mr5073046d50.12.1762007214185; Sat, 01 Nov 2025 07:26:54 -0700 (PDT) Received: from postal.iol.unh.edu (postal.iol.unh.edu. [2606:4100:3880:1234::84]) by smtp-relay.gmail.com with ESMTPS id 00721157ae682-7864c292b6dsm3080717b3.21.2025.11.01.07.26.54 (version=TLS1_2 cipher=ECDHE-ECDSA-AES128-GCM-SHA256 bits=128/128); Sat, 01 Nov 2025 07:26:54 -0700 (PDT) X-Relaying-Domain: iol.unh.edu Date: Sat, 01 Nov 2025 07:26:54 -0700 (PDT) Message-ID: <690618ae.050a0220.82427.0a85SMTPIN_ADDED_MISSING@mx.google.com> Received: from [172.21.0.2] (unknown [172.18.0.240]) by postal.iol.unh.edu (Postfix) with ESMTP id CAB616051830; Sat, 1 Nov 2025 10:26:53 -0400 (EDT) Subject: |SUCCESS| pw158326 [PATCH] net/ice: add source prune configuration A From: dpdklab@iol.unh.edu To: Test Report Cc: dpdk-test-reports@iol.unh.edu, Bruce Richardson In-Reply-To: <20251101104627.64906-1-anurag.mandal@intel.com> References: <20251101104627.64906-1-anurag.mandal@intel.com> Content-Type: text/plain X-BeenThere: test-report@dpdk.org X-Mailman-Version: 2.1.29 Precedence: list List-Id: automatic DPDK test reports List-Unsubscribe: , List-Archive: List-Post: List-Help: List-Subscribe: , Errors-To: test-report-bounces@dpdk.org Test-Label: iol-compile-arm64-testing Test-Status: SUCCESS http://dpdk.org/patch/158326 _Testing PASS_ Submitter: Anurag Mandal Date: Saturday, November 01 2025 10:46:27 DPDK git baseline: Repo:dpdk-next-net-intel Branch: master CommitID:40de0ba36a04ef80e8a2ac90c240183fc2c6d1b4 158326 --> testing pass Upstream job id: Generic-DPDK-Compile-Meson#439831 Test environment and result as below: +------------------------------+--------------------+ | Environment | dpdk_meson_compile | +==============================+====================+ | Ubuntu 22.04 | PASS | +------------------------------+--------------------+ | Ubuntu 20.04 | PASS | +------------------------------+--------------------+ | Debian GNU/Linux 12 | PASS | +------------------------------+--------------------+ | Fedora Linux 42 | PASS | +------------------------------+--------------------+ | Red Hat Enterprise Linux 9.5 | PASS | +------------------------------+--------------------+ | Ubuntu 24.04 | PASS | +------------------------------+--------------------+ | CentOS Stream 10 | PASS | +------------------------------+--------------------+ | CentOS Stream 9 | PASS | +------------------------------+--------------------+ Ubuntu 22.04 Kernel: 5.4 Compiler: gcc gcc (Ubuntu 11.4.0-1ubuntu1~22.04) 11.4.0 Ubuntu 20.04 Kernel: 5.15 Compiler: aarch64-linux-gnu-gcc gcc (Ubuntu 9.4.0-1ubuntu1~20.04.2) 9.4.0 Debian GNU/Linux 12 Kernel: 5.4 Compiler: gcc gcc (Debian 12.2.0-14+deb12u1) 12.2.0 Fedora Linux 42 Kernel: 5.4 Compiler: gcc gcc (GCC) 15.2.1 20250808 (Red Hat 15.2.1-1) Red Hat Enterprise Linux 9.5 Kernel: 5.4 Compiler: gcc gcc (GCC) 11.5.0 20240719 (Red Hat 11.5.0-2) Ubuntu 24.04 Kernel: 5.4 Compiler: gcc gcc (Ubuntu 13.3.0-6ubuntu2~24.04) 13.3.0 CentOS Stream 10 Kernel: 5.4 Compiler: gcc gcc (GCC) 14.2.1 20250110 (Red Hat 14.2.1-8) CentOS Stream 9 Kernel: 5.4 Compiler: gcc gcc (GCC) 11.5.0 20240719 (Red Hat 11.5.0-11) To view detailed results, visit: https://lab.dpdk.org/results/dashboard/patchsets/34437/ UNH-IOL DPDK Community Lab To manage your email subscriptions, visit: https://lab.dpdk.org/results/dashboard/preferences/subscriptions/