From mboxrd@z Thu Jan 1 00:00:00 1970 Return-Path: Received: from mails.dpdk.org (mails.dpdk.org [217.70.189.124]) by inbox.dpdk.org (Postfix) with ESMTP id 17F4C48A5F for ; Sun, 2 Nov 2025 01:50:21 +0100 (CET) Received: from mails.dpdk.org (localhost [127.0.0.1]) by mails.dpdk.org (Postfix) with ESMTP id D951140261; Sun, 2 Nov 2025 01:50:20 +0100 (CET) Received: from mail-pl1-f226.google.com (mail-pl1-f226.google.com [209.85.214.226]) by mails.dpdk.org (Postfix) with ESMTP id BB2D740261 for ; Sun, 2 Nov 2025 01:50:19 +0100 (CET) Received: by mail-pl1-f226.google.com with SMTP id d9443c01a7336-29555b384acso8008825ad.1 for ; Sat, 01 Nov 2025 17:50:19 -0700 (PDT) DKIM-Signature: v=1; a=rsa-sha256; c=relaxed/relaxed; d=iol.unh.edu; s=unh-iol; t=1762044619; x=1762649419; darn=dpdk.org; h=cc:to:from:subject:message-id:date:from:to:cc:subject:date :message-id:reply-to; bh=Op91xM+S6RwWjjxY/BjXJMXoMiJhp0RWcNB/PlMz5iU=; b=Bjriu4QIZ2keprJcgCo6UV/TJ1WdqYXG0YMxJNYoCzPvmlmfiRlMnXhCResZrAiJKH wTSQOXCnuK+nskPWCRGroXDW6DjUWUWP6eSB/XFq3TuoWKc7evKPDZoWucOqyODK40MG uJRa9Cek9gWxA2Qc/iVi05LWdbFdzwBmk9PbQ= X-Google-DKIM-Signature: v=1; a=rsa-sha256; c=relaxed/relaxed; d=1e100.net; s=20230601; t=1762044619; x=1762649419; h=cc:to:from:subject:message-id:date:x-gm-message-state:from:to:cc :subject:date:message-id:reply-to; bh=Op91xM+S6RwWjjxY/BjXJMXoMiJhp0RWcNB/PlMz5iU=; b=tpRed9mXMU0aczeVir+7JeoiuX9LcOZnfUMDtYpIhRWVoL/PJ2n7sOipEaZedR2/f4 Grzce8JSL43SWIIyneb9Utx2eALfDvUm7SKlrAhfaRoGTLzXyCgFMc2mNriaO1/Y96B6 bFaJGpH3MPFpXdKVZyXbbVEn0DMwRqrcbVpfioSiPprEBrRxB9+3FzrBwyf+1K2XRs1p HvFaLB9yUw6oXsjGqu9SHklAzgTgeWD/bTWY6XVk6NYIPUKETPen0r3lNUP3UB7HaEtQ aU3Mm9CG4kq36wlYuYctg8D5X8qdWPs2DlP6yXOaNsVCC4kysjOmN3U3AWN7qCBhQYVK Fm/A== X-Gm-Message-State: AOJu0YwrLuTA8kqCm/C2aGcAYSH8Xgv+jhbDpJf/94U8O9WlbKvGvXv4 fNwlXEfqKYMMgROqyMjJDRGHmITd0taxL9Ui4s6GYYggMdBTmWiUzyZDwlKw2l9uzF77PLvy9wT pselMJUqLnCgsb1SamyZbT9BAFATRsi1YDTn7a3pZnUdGtdyDLyuGz4s9mA8l X-Gm-Gg: ASbGncsZM5bbjz109SthKscQFr3P5GpJE4h2wnWAt5Qw68qZAQFp7SOZy+TmCNpOQt8 aAXfExSwSmmu/+39Sv9iPd5zT+3rvcDviWEveqkmS0U0kKzwqquTmiOAZhJv6GPxbh+T2IVFjhU F7Eda2HcAVZmnFamhXgyGH/Q7q+Q5GTWbQWm/nbc8quXw2Piiu3OJycfVVbviloHLBUEEtJ4VQB zkKZ1heQGqEz+AsbC0IDkOONaBwoVrRLF04MoWJZYgLr/qmaoBAeEwCeD9oWb5OCeSXSfkQY23M 7UyBi5/3bu8BOc3kyunsc/MKoAgT9aR1S/S4xNTEXLHmnvmDdB6WiT4DiBNAjkrY6c84GmmDYH/ WX4gPzWAy X-Google-Smtp-Source: AGHT+IEs8TYjCIX1F45xpVNulG4Y2xmEFAm95PfNSSW7wBIXXDgpRm9INPg8a7iRdi65ybS5Dqc7lBmEIKYT X-Received: by 2002:a17:902:d487:b0:290:9934:fd04 with SMTP id d9443c01a7336-2951a55d328mr123262865ad.28.1762044618826; Sat, 01 Nov 2025 17:50:18 -0700 (PDT) Received: from postal.iol.unh.edu (postal.iol.unh.edu. [2606:4100:3880:1234::84]) by smtp-relay.gmail.com with ESMTPS id d9443c01a7336-295269828e0sm5748185ad.43.2025.11.01.17.50.18 (version=TLS1_2 cipher=ECDHE-ECDSA-AES128-GCM-SHA256 bits=128/128); Sat, 01 Nov 2025 17:50:18 -0700 (PDT) X-Relaying-Domain: iol.unh.edu Date: Sat, 01 Nov 2025 17:50:18 -0700 (PDT) Message-ID: <6906aaca.170a0220.1b1fca.dde3SMTPIN_ADDED_MISSING@mx.google.com> Received: from [172.21.0.2] (unknown [172.18.0.240]) by postal.iol.unh.edu (Postfix) with ESMTP id C12156051830; Sat, 1 Nov 2025 20:50:17 -0400 (EDT) Subject: |WARNING| [GIT MASTER] 8c4861d00aabcf54ef9d6f1df2a4cfb37c06f6c2 From: dpdklab@iol.unh.edu To: Test Report Cc: dpdk-test-reports@iol.unh.edu Content-Type: text/plain X-BeenThere: test-report@dpdk.org X-Mailman-Version: 2.1.29 Precedence: list List-Id: automatic DPDK test reports List-Unsubscribe: , List-Archive: List-Post: List-Help: List-Subscribe: , Errors-To: test-report-bounces@dpdk.org _Testing issues_ Branch: dpdk 8c4861d00aabcf54ef9d6f1df2a4cfb37c06f6c2 --> testing issues Upstream job id: Windows-Compile-DPDK-Native#32051 Test environment and result as below: +-------------------------------+--------------------+------------------+-------------------+-------------------+-------------------------+ | Environment | dpdk_meson_compile | dpdk_compile_ovs | dpdk_compile_spdk | dpdk_msvc_compile | dpdk_llvm_clang_compile | +===============================+====================+==================+===================+===================+=========================+ | FreeBSD 14.2 | PASS | SKIPPED | SKIPPED | SKIPPED | SKIPPED | +-------------------------------+--------------------+------------------+-------------------+-------------------+-------------------------+ | Fedora Linux 42 | PASS | PASS | WARN | SKIPPED | SKIPPED | +-------------------------------+--------------------+------------------+-------------------+-------------------+-------------------------+ | Ubuntu 20.04 | PASS | SKIPPED | SKIPPED | SKIPPED | SKIPPED | +-------------------------------+--------------------+------------------+-------------------+-------------------+-------------------------+ | CentOS Stream 10 | PASS | SKIPPED | SKIPPED | SKIPPED | SKIPPED | +-------------------------------+--------------------+------------------+-------------------+-------------------+-------------------------+ | CentOS Stream 9 | PASS | SKIPPED | WARN | SKIPPED | SKIPPED | +-------------------------------+--------------------+------------------+-------------------+-------------------+-------------------------+ | Red Hat Enterprise Linux 9.5 | PASS | SKIPPED | SKIPPED | SKIPPED | SKIPPED | +-------------------------------+--------------------+------------------+-------------------+-------------------+-------------------------+ | Debian GNU/Linux 12 | PASS | SKIPPED | WARN | SKIPPED | SKIPPED | +-------------------------------+--------------------+------------------+-------------------+-------------------+-------------------------+ | openSUSE Leap 15.6 | PASS | SKIPPED | SKIPPED | SKIPPED | SKIPPED | +-------------------------------+--------------------+------------------+-------------------+-------------------+-------------------------+ | Ubuntu 24.04 | PASS | PASS | WARN | SKIPPED | SKIPPED | +-------------------------------+--------------------+------------------+-------------------+-------------------+-------------------------+ | Red Hat Enterprise Linux 8.10 | PASS | SKIPPED | SKIPPED | SKIPPED | SKIPPED | +-------------------------------+--------------------+------------------+-------------------+-------------------+-------------------------+ | Ubuntu 22.04 | PASS | SKIPPED | WARN | SKIPPED | SKIPPED | +-------------------------------+--------------------+------------------+-------------------+-------------------+-------------------------+ | Arch Linux 20250613.0.365270 | PASS | SKIPPED | SKIPPED | SKIPPED | SKIPPED | +-------------------------------+--------------------+------------------+-------------------+-------------------+-------------------------+ | Alpine Linux 3.22.0 | PASS | SKIPPED | SKIPPED | SKIPPED | SKIPPED | +-------------------------------+--------------------+------------------+-------------------+-------------------+-------------------------+ | Windows Server 2022 | SKIPPED | SKIPPED | SKIPPED | PASS | PASS | +-------------------------------+--------------------+------------------+-------------------+-------------------+-------------------------+ ==== 20 line log output for Ubuntu 22.04 (dpdk_compile_spdk): ==== --- Failed to get log output --- ==== End log output ==== FreeBSD 14.2 Kernel: 14.2-RELEASE Compiler: clang 18.1.6 Fedora Linux 42 Kernel: 5.15 Compiler: gcc gcc (GCC) 15.2.1 20250808 (Red Hat 15.2.1-1) Ubuntu 20.04 Kernel: 4.19 Compiler: gcc gcc (Ubuntu 9.4.0-1ubuntu1~20.04.2) 9.4.0 CentOS Stream 10 Kernel: 5.15 Compiler: gcc gcc (GCC) 14.2.1 20250110 (Red Hat 14.2.1-8) CentOS Stream 9 Kernel: 5.15 Compiler: gcc gcc (GCC) 11.5.0 20240719 (Red Hat 11.5.0-11) Red Hat Enterprise Linux 9.5 Kernel: 5.15 Compiler: gcc gcc (GCC) 11.5.0 20240719 (Red Hat 11.5.0-2) Debian GNU/Linux 12 Kernel: 5.15 Compiler: gcc gcc (Debian 12.2.0-14+deb12u1) 12.2.0 openSUSE Leap 15.6 Kernel: 5.15 Compiler: gcc gcc (SUSE Linux) 7.5.0 Ubuntu 24.04 Kernel: 5.15 Compiler: gcc gcc (Ubuntu 13.3.0-6ubuntu2~24.04) 13.3.0 Red Hat Enterprise Linux 8.10 Kernel: 5.15 Compiler: gcc gcc (GCC) 8.5.0 20210514 (Red Hat 8.5.0-22) Ubuntu 22.04 Kernel: 5.15 Compiler: gcc gcc (Ubuntu 11.4.0-1ubuntu1~22.04) 11.4.0 Arch Linux 20250613.0.365270 Kernel: 5.15 Compiler: gcc gcc (GCC) 15.1.1 20250425 Alpine Linux 3.22.0 Kernel: 5.15 Compiler: gcc gcc (Alpine 14.2.0) 14.2.0 Windows Server 2022 Kernel: 10.0.20348.2031 Compiler: clang 15.0.7, gcc 14.1.0 (MinGW), and MSVC VS 19.39.33521 To view detailed results, visit: https://lab.dpdk.org/results/dashboard/tarballs/35422/ UNH-IOL DPDK Community Lab To manage your email subscriptions, visit: https://lab.dpdk.org/results/dashboard/preferences/subscriptions/