From mboxrd@z Thu Jan 1 00:00:00 1970 Return-Path: Received: from mails.dpdk.org (mails.dpdk.org [217.70.189.124]) by inbox.dpdk.org (Postfix) with ESMTP id ABD7548A46 for ; Sun, 2 Nov 2025 01:57:48 +0100 (CET) Received: from mails.dpdk.org (localhost [127.0.0.1]) by mails.dpdk.org (Postfix) with ESMTP id 941AA40261; Sun, 2 Nov 2025 01:57:48 +0100 (CET) Received: from mail-oa1-f97.google.com (mail-oa1-f97.google.com [209.85.160.97]) by mails.dpdk.org (Postfix) with ESMTP id 9516940261 for ; Sun, 2 Nov 2025 01:57:47 +0100 (CET) Received: by mail-oa1-f97.google.com with SMTP id 586e51a60fabf-3c73e93eadfso1249026fac.3 for ; Sat, 01 Nov 2025 17:57:47 -0700 (PDT) DKIM-Signature: v=1; a=rsa-sha256; c=relaxed/relaxed; d=iol.unh.edu; s=unh-iol; t=1762045066; x=1762649866; darn=dpdk.org; h=cc:to:from:subject:message-id:date:from:to:cc:subject:date :message-id:reply-to; bh=uS48hCAAo+pU3jlIJ1x0k6y6ZE5VIAEdI9ysukE6kKg=; b=Ww0MtSEx4b/jBHkGUJOOPnHv0ruKbcu79r8CTk0IKfxmVbOvfdGkgC/A8jsQ+8cT3n J8gpANTzoCavp+PzE1XphP5zBZKUXqS3w9KlMWIeUz988XRMx+XlBeUDNZGeXG0/3IAI Az+wCiFwjGWJx558Pe0i6pfjlPTlxn3d8/F1s= X-Google-DKIM-Signature: v=1; a=rsa-sha256; c=relaxed/relaxed; d=1e100.net; s=20230601; t=1762045066; x=1762649866; h=cc:to:from:subject:message-id:date:x-gm-message-state:from:to:cc :subject:date:message-id:reply-to; bh=uS48hCAAo+pU3jlIJ1x0k6y6ZE5VIAEdI9ysukE6kKg=; b=fx1ueDA7u4DO0IQWbISAQ6dRn9NyS3PrtTVuDGvxLMtlwcan1iudmwfXkLpiRPeOmE vZZX/xq4njD7x462DCH1f1BHrHRn0cUxKzvmEyX0Sa3rY204L+f0qMDs5nm5h1YQoTKm UbfdY2B4FyuwZSc1yMBTUuAYOad4UjGoj/vMOKzpJ5gURDZAMdWRwk12CIhfBDlzGbUC wzodOj8arHMSI7KwQPAAMJRZpaz3XcIMANTne5vKEKW9y4vUE6iqL6l/jQlafm5ZEtqp S7b0jdvuu2T4mxWTzxn7GBtJVNRdaDy7mh3q5/mtsMi1DIpQUlDcHwyDfy2CMG04SipP VOtg== X-Gm-Message-State: AOJu0Yw1OYyEyXBZ5ussjWK3cZxfKOqnNj9vQReiCDjyHlvd5qG3U75e N6HY7KpsZqQB8o61MbZh+OMExLTcwQU349j9IYcZKY2VFDoS+UJnzDFnj1pK/ONOXlJP/ObuVxq JHTh35lJuKup6tHgR1IOnhPPWcSDMLu6hzGyl/XBTVy6E X-Gm-Gg: ASbGnct22Yo//8wwH+rbe54+OFIjtOFgnTh0FK+YIkr5JqlgOx03rWlZtbzAPmRCmWw R+GJKbo60mBtpvTwkoV1Vw66fIVjY5YFUOlV/rfa3E9IxDsnr+Bs8Il8wocdhrGXB2VVuV8H+8k uR+4AoqJxlwwcauCj+Yv8c5YsJRygzJiFgLOFfKmaSFZ+6P+2d6iEw/767cUc0t+P4kqxhaZKvm u8hl04Q85UpthJSxSQvah2MaeyJw/2Te8JhSYxP1m3pAk14jQ8dV5eS2Rro5w8feNL6Z04F0V5t kjDYziupgrS3EXzuqWoEXIArw80d/2GUIYZmTKYsQNQ0g8XuLWEh8jkoMDfU1zY7lQg5phuPWzE PvehCCejUplEurV+pkXJ1davDfxzzBQY= X-Google-Smtp-Source: AGHT+IE9FjAghr4i9e5YnTZqdFjVQuVW7Qsb/k3H9WRefh3ibLR3XIhKWbgUHft7euNry+aOsPaxV5xS1Elt X-Received: by 2002:a05:6870:1f0b:b0:3c9:88d1:3231 with SMTP id 586e51a60fabf-3daca3164bemr4673207fac.10.1762045066579; Sat, 01 Nov 2025 17:57:46 -0700 (PDT) Received: from postal.iol.unh.edu (postal.iol.unh.edu. [132.177.123.84]) by smtp-relay.gmail.com with ESMTPS id 586e51a60fabf-3db3efac694sm554822fac.2.2025.11.01.17.57.46 (version=TLS1_2 cipher=ECDHE-ECDSA-AES128-GCM-SHA256 bits=128/128); Sat, 01 Nov 2025 17:57:46 -0700 (PDT) X-Relaying-Domain: iol.unh.edu Date: Sat, 01 Nov 2025 17:57:46 -0700 (PDT) Message-ID: <6906ac8a.050a0220.ef21a.d7bdSMTPIN_ADDED_MISSING@mx.google.com> Received: from [172.21.0.2] (unknown [172.18.0.240]) by postal.iol.unh.edu (Postfix) with ESMTP id BB84F6051830; Sat, 1 Nov 2025 20:57:45 -0400 (EDT) Subject: |SUCCESS| [GIT MASTER] 8c4861d00aabcf54ef9d6f1df2a4cfb37c06f6c2 From: dpdklab@iol.unh.edu To: Test Report Cc: dpdk-test-reports@iol.unh.edu Content-Type: text/plain X-BeenThere: test-report@dpdk.org X-Mailman-Version: 2.1.29 Precedence: list List-Id: automatic DPDK test reports List-Unsubscribe: , List-Archive: List-Post: List-Help: List-Subscribe: , Errors-To: test-report-bounces@dpdk.org _Testing PASS_ Branch: dpdk 8c4861d00aabcf54ef9d6f1df2a4cfb37c06f6c2 --> testing pass Upstream job id: Generic-VM-Unit-Test-DPDK#32225 Test environment and result as below: +-------------------------------+----------------+ | Environment | dpdk_unit_test | +===============================+================+ | CentOS Stream 10 | PASS | +-------------------------------+----------------+ | Ubuntu 20.04 | PASS | +-------------------------------+----------------+ | Ubuntu 24.04 | PASS | +-------------------------------+----------------+ | Fedora Linux 41 | PASS | +-------------------------------+----------------+ | Red Hat Enterprise Linux 8.10 | PASS | +-------------------------------+----------------+ | Fedora Linux 42 | PASS | +-------------------------------+----------------+ | CentOS Stream 9 | PASS | +-------------------------------+----------------+ | Fedora Linux 40 | PASS | +-------------------------------+----------------+ | Arch Linux 20250613.0.365270 | PASS | +-------------------------------+----------------+ | Ubuntu 22.04 | PASS | +-------------------------------+----------------+ | Red Hat Enterprise Linux 9.5 | PASS | +-------------------------------+----------------+ | Debian GNU/Linux 12 | PASS | +-------------------------------+----------------+ | Windows Server 2022 | PASS | +-------------------------------+----------------+ CentOS Stream 10 Kernel: 5.15 Compiler: gcc gcc (GCC) 14.2.1 20250110 (Red Hat 14.2.1-8) Ubuntu 20.04 Kernel: 5.15 Compiler: gcc gcc (Ubuntu 9.4.0-1ubuntu1~20.04.2) 9.4.0 Ubuntu 24.04 Kernel: 5.15 Compiler: gcc gcc (Ubuntu 13.3.0-6ubuntu2~24.04) 13.3.0 Fedora Linux 41 Kernel: 5.15 Compiler: clang gcc (GCC) 14.3.1 20250523 (Red Hat 14.3.1-1) Red Hat Enterprise Linux 8.10 Kernel: 5.15 Compiler: gcc gcc (GCC) 8.5.0 20210514 (Red Hat 8.5.0-22) Fedora Linux 42 Kernel: 5.15 Compiler: clang gcc (GCC) 15.2.1 20250808 (Red Hat 15.2.1-1) CentOS Stream 9 Kernel: 5.15 Compiler: gcc gcc (GCC) 11.5.0 20240719 (Red Hat 11.5.0-11) Fedora Linux 40 Kernel: 5.15 Compiler: clang gcc (GCC) 14.2.1 20240912 (Red Hat 14.2.1-3) Arch Linux 20250613.0.365270 Kernel: 5.15 Compiler: gcc gcc (GCC) 15.1.1 20250425 Ubuntu 22.04 Kernel: 5.15 Compiler: gcc gcc (Ubuntu 11.4.0-1ubuntu1~22.04) 11.4.0 Red Hat Enterprise Linux 9.5 Kernel: 5.15 Compiler: gcc gcc (GCC) 11.5.0 20240719 (Red Hat 11.5.0-2) Debian GNU/Linux 12 Kernel: 5.15 Compiler: gcc gcc (Debian 12.2.0-14+deb12u1) 12.2.0 Windows Server 2022 Kernel: 10.0.20348.2031 Compiler: clang 15.0.7, gcc 14.1.0 (MinGW), and MSVC VS 19.39.33521 To view detailed results, visit: https://lab.dpdk.org/results/dashboard/tarballs/35422/ UNH-IOL DPDK Community Lab To manage your email subscriptions, visit: https://lab.dpdk.org/results/dashboard/preferences/subscriptions/