From mboxrd@z Thu Jan 1 00:00:00 1970 Return-Path: Received: from mails.dpdk.org (mails.dpdk.org [217.70.189.124]) by inbox.dpdk.org (Postfix) with ESMTP id E13DC48A46 for ; Sun, 2 Nov 2025 01:59:02 +0100 (CET) Received: from mails.dpdk.org (localhost [127.0.0.1]) by mails.dpdk.org (Postfix) with ESMTP id D6A9040261; Sun, 2 Nov 2025 01:59:02 +0100 (CET) Received: from mail-oa1-f98.google.com (mail-oa1-f98.google.com [209.85.160.98]) by mails.dpdk.org (Postfix) with ESMTP id A726B40261 for ; Sun, 2 Nov 2025 01:59:01 +0100 (CET) Received: by mail-oa1-f98.google.com with SMTP id 586e51a60fabf-3d37c1fb05aso1416865fac.0 for ; Sat, 01 Nov 2025 17:59:01 -0700 (PDT) DKIM-Signature: v=1; a=rsa-sha256; c=relaxed/relaxed; d=iol.unh.edu; s=unh-iol; t=1762045141; x=1762649941; darn=dpdk.org; h=cc:to:from:subject:message-id:date:from:to:cc:subject:date :message-id:reply-to; bh=6lV+ySRhrTChTRf22Adt48oYra7K1h/v3/By86igAz0=; b=Hk00VCXP05uhMnZnOC8sFh53qGnwHz5BtsyzEeCKaKad2Nh7/VA18eq2n1dKrElKA0 dor4q999DUIWAG4pWsVAHcla9gXsDNkRsCxfe5HYAnghKZx1O2fspOJ+ODI8Yg1UotvL GFEJB2v6mrWNLc3gL3hfjsPTAyol9KaG5WnlE= X-Google-DKIM-Signature: v=1; a=rsa-sha256; c=relaxed/relaxed; d=1e100.net; s=20230601; t=1762045141; x=1762649941; h=cc:to:from:subject:message-id:date:x-gm-message-state:from:to:cc :subject:date:message-id:reply-to; bh=6lV+ySRhrTChTRf22Adt48oYra7K1h/v3/By86igAz0=; b=mk56P0djjixQ2gmtVD7J7u/uqVJ64duE1vPcrGbr/2rOkYlNfJDIbcNXP6ot8iRLDi wgAJWN5xpxeD5Vb56wwMjxOVvthk/kLTYty69VloBIqlaNfKYxlagkoxd1MQjYf0KUFS vDCtCO2v5ljFccFByUFge0rIC95H+VO5CgQXcC/Bx1Ta2S4jdwsv20erOZO0foPGj2ry eCJzZ3i3eQb+BzMw/p1LjJEjkdqyD5UNk+jStf0hhslJMOlQxzAtgXwne4Ay0b9KZhM3 Les9LVlVR3VNOwxnQEc4pEtKBFPXQsA4+SBLRFiiltqaHr1dI9Zhp+S5GeE2otrYr4Kx SMng== X-Gm-Message-State: AOJu0YyEnwFDBYzzmF3iumBM8oXHwTqk6/Jdpknw+j46J+2Lxtd4F4bA IeHrzTPA+ddjLvDB2wjxcultgTeiMwyRPEG9H0DMN4dboSQHdhu6yxQhE5FdsyGwcJcpn73NLkt jKs+XpDjajA6KOABp5DtrFvbOT0Pd88vMJlz4UJ/Ym3iF X-Gm-Gg: ASbGncvqmqsNt9xMLjiqIrN0Bnt6C3cZIU2QuGAS9P6Aw3ftXRmCUhgVBcGY8STm32z aZIgfjFGjIcF3VY2UiOD9CM5np/0v4LaGVR69jmXfczK92bF8SeHXpJ4GXALRGbqAY0ohJjzYNq 29rff/YShzSMiTOSveuGuPjr8HWjzRUNFOPa9ujHhzjlCq56sZYV+fFwOPe2WfLF9gTdVis0WGG mr+t+BYMEbZ6GL0i3qm9JD/EEwhkI8o0nJhxhSzo9VIdarF1DBtUOXpRBkemFiyZ24vpkPUjL83 2nlyrw8CofijfoylJsgsHilpdKk2O/8SSHoyWcYsIKJLAkPQu3IHV7YZ7woZt3arK6tIyAR0BXx u97zAapbE+0sHc8hS+LEv0DWLJWC6aBo= X-Google-Smtp-Source: AGHT+IHdmYt0p7Gr/bBY4xIWysLZu5cCph74CMGoxvM+XF2a9xawbFx/8JPFTrUtOZcVQubhtwjxNMY3fWiN X-Received: by 2002:a05:6808:f8b:b0:438:40c3:8765 with SMTP id 5614622812f47-44f95c80713mr3502565b6e.0.1762045140818; Sat, 01 Nov 2025 17:59:00 -0700 (PDT) Received: from postal.iol.unh.edu (postal.iol.unh.edu. [132.177.123.84]) by smtp-relay.gmail.com with ESMTPS id 586e51a60fabf-3db3f59656fsm571997fac.7.2025.11.01.17.59.00 (version=TLS1_2 cipher=ECDHE-ECDSA-AES128-GCM-SHA256 bits=128/128); Sat, 01 Nov 2025 17:59:00 -0700 (PDT) X-Relaying-Domain: iol.unh.edu Date: Sat, 01 Nov 2025 17:59:00 -0700 (PDT) Message-ID: <6906acd4.050a0220.2c409e.d857SMTPIN_ADDED_MISSING@mx.google.com> Received: from [172.21.0.3] (unknown [172.18.0.240]) by postal.iol.unh.edu (Postfix) with ESMTP id E5F436051830; Sat, 1 Nov 2025 20:58:59 -0400 (EDT) Subject: |WARNING| [GIT MASTER] 8c4861d00aabcf54ef9d6f1df2a4cfb37c06f6c2 From: dpdklab@iol.unh.edu To: Test Report Cc: dpdk-test-reports@iol.unh.edu Content-Type: text/plain X-BeenThere: test-report@dpdk.org X-Mailman-Version: 2.1.29 Precedence: list List-Id: automatic DPDK test reports List-Unsubscribe: , List-Archive: List-Post: List-Help: List-Subscribe: , Errors-To: test-report-bounces@dpdk.org _Testing issues_ Branch: dpdk 8c4861d00aabcf54ef9d6f1df2a4cfb37c06f6c2 --> testing issues Upstream job id: Windows-Compile-DPDK-Native#32052 Test environment and result as below: +-------------------------------+--------------------+------------------+-------------------+-------------------+-------------------------+----------------------+ | Environment | dpdk_meson_compile | dpdk_compile_ovs | dpdk_compile_spdk | dpdk_msvc_compile | dpdk_llvm_clang_compile | dpdk_mingw64_compile | +===============================+====================+==================+===================+===================+=========================+======================+ | FreeBSD 14.2 | PASS | SKIPPED | SKIPPED | SKIPPED | SKIPPED | SKIPPED | +-------------------------------+--------------------+------------------+-------------------+-------------------+-------------------------+----------------------+ | Fedora Linux 42 | PASS | PASS | WARN | SKIPPED | SKIPPED | SKIPPED | +-------------------------------+--------------------+------------------+-------------------+-------------------+-------------------------+----------------------+ | Ubuntu 20.04 | PASS | SKIPPED | SKIPPED | SKIPPED | SKIPPED | SKIPPED | +-------------------------------+--------------------+------------------+-------------------+-------------------+-------------------------+----------------------+ | CentOS Stream 10 | PASS | SKIPPED | SKIPPED | SKIPPED | SKIPPED | SKIPPED | +-------------------------------+--------------------+------------------+-------------------+-------------------+-------------------------+----------------------+ | CentOS Stream 9 | PASS | SKIPPED | WARN | SKIPPED | SKIPPED | SKIPPED | +-------------------------------+--------------------+------------------+-------------------+-------------------+-------------------------+----------------------+ | Red Hat Enterprise Linux 9.5 | PASS | SKIPPED | SKIPPED | SKIPPED | SKIPPED | SKIPPED | +-------------------------------+--------------------+------------------+-------------------+-------------------+-------------------------+----------------------+ | Debian GNU/Linux 12 | PASS | SKIPPED | WARN | SKIPPED | SKIPPED | SKIPPED | +-------------------------------+--------------------+------------------+-------------------+-------------------+-------------------------+----------------------+ | openSUSE Leap 15.6 | PASS | SKIPPED | SKIPPED | SKIPPED | SKIPPED | SKIPPED | +-------------------------------+--------------------+------------------+-------------------+-------------------+-------------------------+----------------------+ | Ubuntu 24.04 | PASS | PASS | WARN | SKIPPED | SKIPPED | SKIPPED | +-------------------------------+--------------------+------------------+-------------------+-------------------+-------------------------+----------------------+ | Red Hat Enterprise Linux 8.10 | PASS | SKIPPED | SKIPPED | SKIPPED | SKIPPED | SKIPPED | +-------------------------------+--------------------+------------------+-------------------+-------------------+-------------------------+----------------------+ | Ubuntu 22.04 | PASS | SKIPPED | WARN | SKIPPED | SKIPPED | SKIPPED | +-------------------------------+--------------------+------------------+-------------------+-------------------+-------------------------+----------------------+ | Arch Linux 20250613.0.365270 | PASS | SKIPPED | SKIPPED | SKIPPED | SKIPPED | SKIPPED | +-------------------------------+--------------------+------------------+-------------------+-------------------+-------------------------+----------------------+ | Alpine Linux 3.22.0 | PASS | SKIPPED | SKIPPED | SKIPPED | SKIPPED | SKIPPED | +-------------------------------+--------------------+------------------+-------------------+-------------------+-------------------------+----------------------+ | Windows Server 2022 | SKIPPED | SKIPPED | SKIPPED | PASS | PASS | PASS | +-------------------------------+--------------------+------------------+-------------------+-------------------+-------------------------+----------------------+ ==== 20 line log output for Ubuntu 22.04 (dpdk_compile_spdk): ==== --- Failed to get log output --- ==== End log output ==== FreeBSD 14.2 Kernel: 14.2-RELEASE Compiler: clang 18.1.6 Fedora Linux 42 Kernel: 5.15 Compiler: gcc gcc (GCC) 15.2.1 20250808 (Red Hat 15.2.1-1) Ubuntu 20.04 Kernel: 4.19 Compiler: gcc gcc (Ubuntu 9.4.0-1ubuntu1~20.04.2) 9.4.0 CentOS Stream 10 Kernel: 5.15 Compiler: gcc gcc (GCC) 14.2.1 20250110 (Red Hat 14.2.1-8) CentOS Stream 9 Kernel: 5.15 Compiler: gcc gcc (GCC) 11.5.0 20240719 (Red Hat 11.5.0-11) Red Hat Enterprise Linux 9.5 Kernel: 5.15 Compiler: gcc gcc (GCC) 11.5.0 20240719 (Red Hat 11.5.0-2) Debian GNU/Linux 12 Kernel: 5.15 Compiler: gcc gcc (Debian 12.2.0-14+deb12u1) 12.2.0 openSUSE Leap 15.6 Kernel: 5.15 Compiler: gcc gcc (SUSE Linux) 7.5.0 Ubuntu 24.04 Kernel: 5.15 Compiler: gcc gcc (Ubuntu 13.3.0-6ubuntu2~24.04) 13.3.0 Red Hat Enterprise Linux 8.10 Kernel: 5.15 Compiler: gcc gcc (GCC) 8.5.0 20210514 (Red Hat 8.5.0-22) Ubuntu 22.04 Kernel: 5.15 Compiler: gcc gcc (Ubuntu 11.4.0-1ubuntu1~22.04) 11.4.0 Arch Linux 20250613.0.365270 Kernel: 5.15 Compiler: gcc gcc (GCC) 15.1.1 20250425 Alpine Linux 3.22.0 Kernel: 5.15 Compiler: gcc gcc (Alpine 14.2.0) 14.2.0 Windows Server 2022 Kernel: 10.0.20348.2031 Compiler: clang 15.0.7, gcc 14.1.0 (MinGW), and MSVC VS 19.39.33521 To view detailed results, visit: https://lab.dpdk.org/results/dashboard/tarballs/35422/ UNH-IOL DPDK Community Lab To manage your email subscriptions, visit: https://lab.dpdk.org/results/dashboard/preferences/subscriptions/