From mboxrd@z Thu Jan 1 00:00:00 1970 Return-Path: Received: from mails.dpdk.org (mails.dpdk.org [217.70.189.124]) by inbox.dpdk.org (Postfix) with ESMTP id 6C28848A50 for ; Sun, 2 Nov 2025 02:02:47 +0100 (CET) Received: from mails.dpdk.org (localhost [127.0.0.1]) by mails.dpdk.org (Postfix) with ESMTP id 4835540261; Sun, 2 Nov 2025 02:02:47 +0100 (CET) Received: from mail-pl1-f226.google.com (mail-pl1-f226.google.com [209.85.214.226]) by mails.dpdk.org (Postfix) with ESMTP id E604E40261 for ; Sun, 2 Nov 2025 02:02:45 +0100 (CET) Received: by mail-pl1-f226.google.com with SMTP id d9443c01a7336-27d3540a43fso33818845ad.3 for ; Sat, 01 Nov 2025 18:02:45 -0700 (PDT) DKIM-Signature: v=1; a=rsa-sha256; c=relaxed/relaxed; d=iol.unh.edu; s=unh-iol; t=1762045365; x=1762650165; darn=dpdk.org; h=cc:to:from:subject:message-id:date:from:to:cc:subject:date :message-id:reply-to; bh=PHnN9jaA8rpyJCRzbMh8AWGwqQf8PJZzoRsImfkIvYQ=; b=i0sAr5lRONyazFuFAQq9G9lUczvWr9EcPfM5b2ml9T719XdzNiIkba9Ob0XN8tN53w L3jBqpW1FQ3Fdl5SS62dcBiR6PQ+rrXj+Gk9vW1fKs3wOdyBJSt0BwbBACfTcXjTVWsn DtZCqImcJXloXQfhHSPJ2flO28fnLCnoAin84= X-Google-DKIM-Signature: v=1; a=rsa-sha256; c=relaxed/relaxed; d=1e100.net; s=20230601; t=1762045365; x=1762650165; h=cc:to:from:subject:message-id:date:x-gm-message-state:from:to:cc :subject:date:message-id:reply-to; bh=PHnN9jaA8rpyJCRzbMh8AWGwqQf8PJZzoRsImfkIvYQ=; b=qbK4xlhyjbCAjxvdSCTIp7Zh/5wwvkQwccTSximY0m7Xt/h8Jtd+QQIf0VdkQArxYs HuUgfs4wqj9EntqivFWBZy2N76UFW00ZnLX87p0xgtpMqSJBOkEwOZ2gnOqd3UCj+Q8l m4KDMCbLpKC5Guy3h2VMJD1c452qYlGam9FihAL8sQtTWhUEElpTnUJGC7frGRkcrP+Y W28M4nEgr94dO5r2cDbqV6HNAKdn5LS+IILyt5Eg/SisL/sLFNSqBKfVY8m+6AMMskq4 wH6Li9BSseLfGpcXL5tsntalMJHG0MZEclXnAgz9V7KbHTHetEpE3dKd28yClmNuJ3Ec xHOQ== X-Gm-Message-State: AOJu0Yy+EukIVJol/xUa4SMCeIYsz9yuwCOAzU+D/rlrnZB1aWU4g6qt GuBW33dx2zmX6ppEV8TsoaBnssUaVJULLnuX/WnaaFajfmGR7jnGdBHp23yoUDJhyu7szvZTzWU 0YJI5iYThFOzAJgLfvdiqHuqHXtU4iLO2cwtee4CugBVYXR4IN8DPDK4aLjX6 X-Gm-Gg: ASbGncuvIIpJ8DE0aZrT+gNJcX3yPTaDfi2edRtMYN6WAZr0W0Dns22c1a1Ek25SZbm duxtsXoXMsTXm2krMP09zpgJfP0Yps3YqlQC2p5dgtdg0P/1DiI115XNQOCFTh7Nnznu0FZmAkk TCDyY1JZzq7JLDz7ljNgl74+fjgu/Vxkt5G0ngbh0z2wBqAE2jSS2jRbsNeCoCuBp5Y7aGoUkJJ 6eZTLcu3McZHS2BVERaezXgsXin2BYc23G8TV/rfTLQjuZKdVmlAxBkEOgo/DGEMMsXSMFhmcDI hghld3yUv3NLTgsxgLcvgdLXS0R55FEhec7K5ZeItOKX+U/M27K7OzH88iXnK6zPWX88kSEzBPW FZGe5tapv X-Google-Smtp-Source: AGHT+IEYY17lkL+JdNGK0LEOUWtZBfWGhuDkf0UxbYUi1CanwNBS1kVPin6xSNRvWz772v5m6vcYRe1wa+39 X-Received: by 2002:a17:902:e550:b0:295:6427:87e4 with SMTP id d9443c01a7336-2956427c1eamr30051035ad.40.1762045364968; Sat, 01 Nov 2025 18:02:44 -0700 (PDT) Received: from postal.iol.unh.edu (postal.iol.unh.edu. [2606:4100:3880:1234::84]) by smtp-relay.gmail.com with ESMTPS id d9443c01a7336-295269a01fbsm5187145ad.56.2025.11.01.18.02.44 (version=TLS1_2 cipher=ECDHE-ECDSA-AES128-GCM-SHA256 bits=128/128); Sat, 01 Nov 2025 18:02:44 -0700 (PDT) X-Relaying-Domain: iol.unh.edu Date: Sat, 01 Nov 2025 18:02:44 -0700 (PDT) Message-ID: <6906adb4.170a0220.5d1dc.aac2SMTPIN_ADDED_MISSING@mx.google.com> Received: from [172.21.0.3] (unknown [172.18.0.240]) by postal.iol.unh.edu (Postfix) with ESMTP id 382A56051830; Sat, 1 Nov 2025 21:02:44 -0400 (EDT) Subject: |SUCCESS| [GIT MASTER] 8c4861d00aabcf54ef9d6f1df2a4cfb37c06f6c2 From: dpdklab@iol.unh.edu To: Test Report Cc: dpdk-test-reports@iol.unh.edu Content-Type: text/plain X-BeenThere: test-report@dpdk.org X-Mailman-Version: 2.1.29 Precedence: list List-Id: automatic DPDK test reports List-Unsubscribe: , List-Archive: List-Post: List-Help: List-Subscribe: , Errors-To: test-report-bounces@dpdk.org _Testing PASS_ Branch: dpdk 8c4861d00aabcf54ef9d6f1df2a4cfb37c06f6c2 --> testing pass Upstream job id: Generic-VM-Unit-Test-DPDK#32226 Test environment and result as below: +-------------------------------+----------------+ | Environment | dpdk_unit_test | +===============================+================+ | CentOS Stream 10 | PASS | +-------------------------------+----------------+ | Ubuntu 20.04 | PASS | +-------------------------------+----------------+ | Ubuntu 24.04 | PASS | +-------------------------------+----------------+ | Fedora Linux 41 | PASS | +-------------------------------+----------------+ | Red Hat Enterprise Linux 8.10 | PASS | +-------------------------------+----------------+ | Fedora Linux 42 | PASS | +-------------------------------+----------------+ | CentOS Stream 9 | PASS | +-------------------------------+----------------+ | Fedora Linux 40 | PASS | +-------------------------------+----------------+ | Arch Linux 20250613.0.365270 | PASS | +-------------------------------+----------------+ | Ubuntu 22.04 | PASS | +-------------------------------+----------------+ | Red Hat Enterprise Linux 9.5 | PASS | +-------------------------------+----------------+ | Debian GNU/Linux 12 | PASS | +-------------------------------+----------------+ | Windows Server 2022 | PASS | +-------------------------------+----------------+ CentOS Stream 10 Kernel: 5.15 Compiler: gcc gcc (GCC) 14.2.1 20250110 (Red Hat 14.2.1-8) Ubuntu 20.04 Kernel: 5.15 Compiler: gcc gcc (Ubuntu 9.4.0-1ubuntu1~20.04.2) 9.4.0 Ubuntu 24.04 Kernel: 5.15 Compiler: gcc gcc (Ubuntu 13.3.0-6ubuntu2~24.04) 13.3.0 Fedora Linux 41 Kernel: 5.15 Compiler: clang gcc (GCC) 14.3.1 20250523 (Red Hat 14.3.1-1) Red Hat Enterprise Linux 8.10 Kernel: 5.15 Compiler: gcc gcc (GCC) 8.5.0 20210514 (Red Hat 8.5.0-22) Fedora Linux 42 Kernel: 5.15 Compiler: clang gcc (GCC) 15.2.1 20250808 (Red Hat 15.2.1-1) CentOS Stream 9 Kernel: 5.15 Compiler: gcc gcc (GCC) 11.5.0 20240719 (Red Hat 11.5.0-11) Fedora Linux 40 Kernel: 5.15 Compiler: clang gcc (GCC) 14.2.1 20240912 (Red Hat 14.2.1-3) Arch Linux 20250613.0.365270 Kernel: 5.15 Compiler: gcc gcc (GCC) 15.1.1 20250425 Ubuntu 22.04 Kernel: 5.15 Compiler: gcc gcc (Ubuntu 11.4.0-1ubuntu1~22.04) 11.4.0 Red Hat Enterprise Linux 9.5 Kernel: 5.15 Compiler: gcc gcc (GCC) 11.5.0 20240719 (Red Hat 11.5.0-2) Debian GNU/Linux 12 Kernel: 5.15 Compiler: gcc gcc (Debian 12.2.0-14+deb12u1) 12.2.0 Windows Server 2022 Kernel: 10.0.20348.2031 Compiler: clang 15.0.7, gcc 14.1.0 (MinGW), and MSVC VS 19.39.33521 To view detailed results, visit: https://lab.dpdk.org/results/dashboard/tarballs/35422/ UNH-IOL DPDK Community Lab To manage your email subscriptions, visit: https://lab.dpdk.org/results/dashboard/preferences/subscriptions/