From: dpdklab@iol.unh.edu
To: Test Report <test-report@dpdk.org>
Cc: dpdk-test-reports@iol.unh.edu
Subject: |PENDING| pw158333 [PATCH] [v3] net/ice: add source prune configurat
Date: Sat, 01 Nov 2025 18:52:42 -0700 (PDT) [thread overview]
Message-ID: <6906b96a.630a0220.20b267.4238SMTPIN_ADDED_MISSING@mx.google.com> (raw)
In-Reply-To: <20251102011919.68783-1-anurag.mandal@intel.com>
Test-Label: iol-sample-apps-testing
Test-Status: PENDING
http://dpdk.org/patch/158333
_Testing pending_
Submitter: Anurag Mandal <anurag.mandal@intel.com>
Date: Sunday, November 02 2025 01:19:19
DPDK git baseline: Repo:dpdk-next-net-intel
Branch: master
CommitID:40de0ba36a04ef80e8a2ac90c240183fc2c6d1b4
158333 --> testing pending
Upstream job id: Template-DTS-Pipeline#252456
Test environment and result as below:
+--------------+----------------------+----------------------+
| Environment | dpdk_fips_validation | compressdev_zlib_pmd |
+==============+======================+======================+
| Ubuntu 20.04 | PEND | SKIPPED |
+--------------+----------------------+----------------------+
| Ubuntu 22.04 | SKIPPED | PASS |
+--------------+----------------------+----------------------+
Ubuntu 20.04
Kernel: 5.15
Compiler: gcc gcc (Ubuntu 9.4.0-1ubuntu1~20.04.2) 9.4.0
Ubuntu 22.04
Kernel: 5.15
Compiler: gcc gcc (Ubuntu 11.4.0-1ubuntu1~22.04.2) 11.4.0
To view detailed results, visit:
https://lab.dpdk.org/results/dashboard/patchsets/34440/
UNH-IOL DPDK Community Lab
To manage your email subscriptions, visit:
https://lab.dpdk.org/results/dashboard/preferences/subscriptions/
next prev parent reply other threads:[~2025-11-02 1:52 UTC|newest]
Thread overview: 24+ messages / expand[flat|nested] mbox.gz Atom feed top
[not found] <20251102011919.68783-1-anurag.mandal@intel.com>
2025-11-02 1:09 ` |SUCCESS| pw158333 [PATCH v3] net/ice: add source prune configuration API qemudev
2025-11-02 1:14 ` qemudev
2025-11-02 1:19 ` checkpatch
2025-11-02 1:41 ` |PENDING| pw158333 [PATCH] [v3] net/ice: add source prune configurat dpdklab
2025-11-02 1:43 ` dpdklab
2025-11-02 1:43 ` |SUCCESS| " dpdklab
2025-11-02 1:44 ` |PENDING| " dpdklab
2025-11-02 1:48 ` |SUCCESS| " dpdklab
2025-11-02 1:49 ` |PENDING| " dpdklab
2025-11-02 1:52 ` dpdklab [this message]
2025-11-02 1:54 ` |WARNING| " dpdklab
2025-11-02 2:00 ` |SUCCESS| " dpdklab
2025-11-02 2:03 ` dpdklab
2025-11-02 2:05 ` dpdklab
2025-11-02 2:05 ` dpdklab
2025-11-02 2:23 ` |WARNING| " dpdklab
2025-11-02 2:25 ` |SUCCESS| " dpdklab
2025-11-02 2:27 ` |WARNING| " dpdklab
2025-11-02 2:27 ` |SUCCESS| " dpdklab
2025-11-02 2:30 ` dpdklab
2025-11-02 3:05 ` dpdklab
2025-11-02 3:31 ` |SUCCESS| pw158333 [PATCH v3] net/ice: add source prune configuration API 0-day Robot
2025-11-02 3:31 ` 0-day Robot
2025-11-02 5:43 ` |SUCCESS| pw158333 [PATCH] [v3] net/ice: add source prune configurat dpdklab
Reply instructions:
You may reply publicly to this message via plain-text email
using any one of the following methods:
* Save the following mbox file, import it into your mail client,
and reply-to-all from there: mbox
Avoid top-posting and favor interleaved quoting:
https://en.wikipedia.org/wiki/Posting_style#Interleaved_style
* Reply using the --to, --cc, and --in-reply-to
switches of git-send-email(1):
git send-email \
--in-reply-to=6906b96a.630a0220.20b267.4238SMTPIN_ADDED_MISSING@mx.google.com \
--to=dpdklab@iol.unh.edu \
--cc=dpdk-test-reports@iol.unh.edu \
--cc=test-report@dpdk.org \
/path/to/YOUR_REPLY
https://kernel.org/pub/software/scm/git/docs/git-send-email.html
* If your mail client supports setting the In-Reply-To header
via mailto: links, try the mailto: link
Be sure your reply has a Subject: header at the top and a blank line
before the message body.
This is a public inbox, see mirroring instructions
for how to clone and mirror all data and code used for this inbox;
as well as URLs for NNTP newsgroup(s).