From mboxrd@z Thu Jan 1 00:00:00 1970 Return-Path: Received: from mails.dpdk.org (mails.dpdk.org [217.70.189.124]) by inbox.dpdk.org (Postfix) with ESMTP id 4362648A50 for ; Sun, 2 Nov 2025 03:25:50 +0100 (CET) Received: from mails.dpdk.org (localhost [127.0.0.1]) by mails.dpdk.org (Postfix) with ESMTP id 140F240261; Sun, 2 Nov 2025 03:25:50 +0100 (CET) Received: from mail-pg1-f227.google.com (mail-pg1-f227.google.com [209.85.215.227]) by mails.dpdk.org (Postfix) with ESMTP id E5A1640261 for ; Sun, 2 Nov 2025 03:25:48 +0100 (CET) Received: by mail-pg1-f227.google.com with SMTP id 41be03b00d2f7-b67ae7e76abso2501532a12.3 for ; Sat, 01 Nov 2025 19:25:48 -0700 (PDT) DKIM-Signature: v=1; a=rsa-sha256; c=relaxed/relaxed; d=iol.unh.edu; s=unh-iol; t=1762050348; x=1762655148; darn=dpdk.org; h=references:in-reply-to:cc:to:from:subject:message-id:date:from:to :cc:subject:date:message-id:reply-to; bh=O6SycEodA1yyjHP9iXAyOwd2F8APCWjLXrBd+klBVPA=; b=Xwvsfld5ztdsBtVia5TpSBr3Cmg6BwySnfNNWimeCBx81ivCdTAacxCflK8N/lU0CV dpQgb9KvkIbeEDSDul16O92zZytyHKMitMpy10giw5ZMEfyVTBICMd3E27xiXD/a6Ns2 SXJu9DNCPU+7yJqjdAX/1gL5dMRP4Yrn6HL/Q= X-Google-DKIM-Signature: v=1; a=rsa-sha256; c=relaxed/relaxed; d=1e100.net; s=20230601; t=1762050348; x=1762655148; h=references:in-reply-to:cc:to:from:subject:message-id:date :x-gm-message-state:from:to:cc:subject:date:message-id:reply-to; bh=O6SycEodA1yyjHP9iXAyOwd2F8APCWjLXrBd+klBVPA=; b=aCIEIhut4mURxf8fobIF4VvVSbmhZ8GHQdDzSrbEBEFTFh6lhHgnmkRlLOjcR50I96 u8H3IqciuNL65osY06HPmqDW4qtgH9byxhkzJl9wnJXuaNtNzRFG4kSXpEwYzcBpxiy9 X+xuS/lBspMefzb1xImeJNsU9is3YZeX6Cq33WlV0lmlmzFArJJ1cz1F4PofVqfGk36F VpXfYXsLJf8mV1lQ8EFKF6zmmwyeAPkuJEdxC5hLbCPYouxbmzcpbcYZPB3l6z3hugsf U6iVMUIX7BcPP+bYMA6mq1+KZO6ffKL5MvUY9sE5jmcRyFAwwTiRA8jKJwOjIb3r/HoT 7tUQ== X-Gm-Message-State: AOJu0YwEHZ2o1k4A0i3s7tWr/NP+LL/x+zdn260Ihp/YJLOdYYj1fiL0 o/yV9sUZW2e5rab0tbpx+F8RD7nbbrHpVpAPiKvaJxJKGHIOlXQSSOuas+v2/Cx+bBd6B2y7cVZ GZ+a6/PG13zFunDLqDArvkANnET8jWEN88pzfEPXAmG5g X-Gm-Gg: ASbGnctzPBqpXV9DX3EpbzROwMgoom1GnypMGiIiwiU9ZgdgQ7WJNCAgNnbGgCTVPqZ KCZOOO/bZ0XLmSCfEzM+193MFBrn6GdLCJ0neU+7sAO5+xrOA3Eg7Uq1B91C62HmRTfjOQiQLB3 TuxM87MKlXtPzW5WNISLTi4FuasP5Zc+Fe0AhZeHSMmJuBzz/vN3WQ4qSEk5mxtuEjSMGZMMjaX Zjev177ndzt5hAm1rjBsy6f4si1uDLrCcCrZa13IzYhiLbKU9fAPL1LjAbfj/LuglQwOKUzIJm/ 4i7Tczq9TjaLEREXh8efhehdtcLWgfVAYMeLtmWhgzXb8A9wLb4QSw36iBl32fHdvq1S0fMMkCd +zvxj1/IBPshgFvHKohgb4TpXLC/St8s= X-Google-Smtp-Source: AGHT+IEJ1RevVcCTgu4vcF0p7+R6G7RgJXkwXXZLVREukxR6tqJ0/eTLssfk+fl+z7yk6VQ8vJrMa2lwjJkO X-Received: by 2002:a17:902:c408:b0:295:54cb:a8df with SMTP id d9443c01a7336-29554cba9d6mr63085275ad.36.1762050347913; Sat, 01 Nov 2025 19:25:47 -0700 (PDT) Received: from postal.iol.unh.edu (postal.iol.unh.edu. [132.177.123.84]) by smtp-relay.gmail.com with ESMTPS id d9443c01a7336-2952689c33esm5173705ad.25.2025.11.01.19.25.47 (version=TLS1_2 cipher=ECDHE-ECDSA-AES128-GCM-SHA256 bits=128/128); Sat, 01 Nov 2025 19:25:47 -0700 (PDT) X-Relaying-Domain: iol.unh.edu Date: Sat, 01 Nov 2025 19:25:47 -0700 (PDT) Message-ID: <6906c12b.170a0220.167b1d.b76eSMTPIN_ADDED_MISSING@mx.google.com> Received: from [172.21.0.2] (unknown [172.18.0.240]) by postal.iol.unh.edu (Postfix) with ESMTP id 650556051830; Sat, 1 Nov 2025 22:25:47 -0400 (EDT) Subject: |SUCCESS| pw158333 [PATCH] [v3] net/ice: add source prune configurat From: dpdklab@iol.unh.edu To: Test Report Cc: dpdk-test-reports@iol.unh.edu, Bruce Richardson In-Reply-To: <20251102011919.68783-1-anurag.mandal@intel.com> References: <20251102011919.68783-1-anurag.mandal@intel.com> Content-Type: text/plain X-BeenThere: test-report@dpdk.org X-Mailman-Version: 2.1.29 Precedence: list List-Id: automatic DPDK test reports List-Unsubscribe: , List-Archive: List-Post: List-Help: List-Subscribe: , Errors-To: test-report-bounces@dpdk.org Test-Label: iol-unit-amd64-testing Test-Status: SUCCESS http://dpdk.org/patch/158333 _Testing PASS_ Submitter: Anurag Mandal Date: Sunday, November 02 2025 01:19:19 DPDK git baseline: Repo:dpdk-next-net-intel Branch: master CommitID:40de0ba36a04ef80e8a2ac90c240183fc2c6d1b4 158333 --> testing pass Upstream job id: Generic-VM-Unit-Test-DPDK#32227 Test environment and result as below: +-------------------------------+----------------+ | Environment | dpdk_unit_test | +===============================+================+ | Fedora Linux 41 | PASS | +-------------------------------+----------------+ | Fedora Linux 40 | PASS | +-------------------------------+----------------+ | Red Hat Enterprise Linux 8.10 | PASS | +-------------------------------+----------------+ | Ubuntu 22.04 | PASS | +-------------------------------+----------------+ | Windows Server 2022 | PASS | +-------------------------------+----------------+ | Fedora Linux 42 | PASS | +-------------------------------+----------------+ | CentOS Stream 10 | PASS | +-------------------------------+----------------+ | Debian GNU/Linux 12 | PASS | +-------------------------------+----------------+ | CentOS Stream 9 | PASS | +-------------------------------+----------------+ | Ubuntu 24.04 | PASS | +-------------------------------+----------------+ | Ubuntu 20.04 | PASS | +-------------------------------+----------------+ | Red Hat Enterprise Linux 9.5 | PASS | +-------------------------------+----------------+ Fedora Linux 41 Kernel: 5.15 Compiler: gcc gcc (GCC) 14.3.1 20250523 (Red Hat 14.3.1-1) Fedora Linux 40 Kernel: 5.15 Compiler: clang gcc (GCC) 14.2.1 20240912 (Red Hat 14.2.1-3) Red Hat Enterprise Linux 8.10 Kernel: 5.15 Compiler: gcc gcc (GCC) 8.5.0 20210514 (Red Hat 8.5.0-22) Ubuntu 22.04 Kernel: 5.15 Compiler: gcc gcc (Ubuntu 11.4.0-1ubuntu1~22.04) 11.4.0 Windows Server 2022 Kernel: 10.0.20348.2031 Compiler: clang 15.0.7, gcc 14.1.0 (MinGW), and MSVC VS 19.39.33521 Fedora Linux 42 Kernel: 5.15 Compiler: clang gcc (GCC) 15.2.1 20250808 (Red Hat 15.2.1-1) CentOS Stream 10 Kernel: 5.15 Compiler: gcc gcc (GCC) 14.2.1 20250110 (Red Hat 14.2.1-8) Debian GNU/Linux 12 Kernel: 5.15 Compiler: gcc gcc (Debian 12.2.0-14+deb12u1) 12.2.0 CentOS Stream 9 Kernel: 5.15 Compiler: gcc gcc (GCC) 11.5.0 20240719 (Red Hat 11.5.0-11) Ubuntu 24.04 Kernel: 5.15 Compiler: gcc gcc (Ubuntu 13.3.0-6ubuntu2~24.04) 13.3.0 Ubuntu 20.04 Kernel: 5.15 Compiler: gcc gcc (Ubuntu 9.4.0-1ubuntu1~20.04.2) 9.4.0 Red Hat Enterprise Linux 9.5 Kernel: 5.15 Compiler: gcc gcc (GCC) 11.5.0 20240719 (Red Hat 11.5.0-2) To view detailed results, visit: https://lab.dpdk.org/results/dashboard/patchsets/34440/ UNH-IOL DPDK Community Lab To manage your email subscriptions, visit: https://lab.dpdk.org/results/dashboard/preferences/subscriptions/