From mboxrd@z Thu Jan 1 00:00:00 1970 Return-Path: Received: from mails.dpdk.org (mails.dpdk.org [217.70.189.124]) by inbox.dpdk.org (Postfix) with ESMTP id 47EDF48A50 for ; Sun, 2 Nov 2025 03:27:11 +0100 (CET) Received: from mails.dpdk.org (localhost [127.0.0.1]) by mails.dpdk.org (Postfix) with ESMTP id 417CE40261; Sun, 2 Nov 2025 03:27:11 +0100 (CET) Received: from mail-pl1-f225.google.com (mail-pl1-f225.google.com [209.85.214.225]) by mails.dpdk.org (Postfix) with ESMTP id C284540261 for ; Sun, 2 Nov 2025 03:27:10 +0100 (CET) Received: by mail-pl1-f225.google.com with SMTP id d9443c01a7336-2953ad5517dso16345425ad.0 for ; Sat, 01 Nov 2025 19:27:10 -0700 (PDT) DKIM-Signature: v=1; a=rsa-sha256; c=relaxed/relaxed; d=iol.unh.edu; s=unh-iol; t=1762050430; x=1762655230; darn=dpdk.org; h=references:in-reply-to:cc:to:from:subject:message-id:date:from:to :cc:subject:date:message-id:reply-to; bh=766Fnh9jOC731L5d+6cFmaEs9wjqDadiEQs4eyAcMx8=; b=WdYtKBDoP/CKYGgi+xZodUnOc8jq/Gde+r7Kr/xPa6A+Y33bdQIWTKwnelLr8+1XEy e5qP8TYtHPncC0y3eTz+aTjiydjWUdK5Bmf3d8nXFPHszNtlDVuOf/Eob24ljqQTsX6+ WXSu/YE5qmy65Ri1m6t6AaJGipu52q8cT3caw= X-Google-DKIM-Signature: v=1; a=rsa-sha256; c=relaxed/relaxed; d=1e100.net; s=20230601; t=1762050430; x=1762655230; h=references:in-reply-to:cc:to:from:subject:message-id:date :x-gm-message-state:from:to:cc:subject:date:message-id:reply-to; bh=766Fnh9jOC731L5d+6cFmaEs9wjqDadiEQs4eyAcMx8=; b=Ijj6i7wYfWhkMjk9xUm69v8p8urjVhLj675Ij5j65VKh0MLBbxw3bIqwJz5S5URDlh tk5j9WeIfzQAnbTf+ThMZnFDdqgKfjEThk0ONYbf1XKbeCRtOhAjVBvvi+yZEtWBKwAz j4+FvMsPGmMedqEcCmUovUX2xW9E8BjMoE/P9658Hx/X+7JUyEXzn3xrLp91PZ6PSofJ /b3gSJgCaTg/jHbgxTO6LCgjNi+rvRa5YAobhVwOu+Ul/INTooFkXsDbIClg0EyMRsjF 3lmq8fSrbAdZsOnjQvQHgVADIHaS/ViI/7voJC/b/9VGg4TbZi0z8jKsKJ80bC6yRQU+ 1jtQ== X-Gm-Message-State: AOJu0YxarV2DVOmFb6QvRRM5AqzebKD9tm8sjC3TdD6LB59Efg84llAA zpxYmc4CO14hbNJtQu8z5542JbnjkQ6S0arntGhDYiM13dDCGfz6NsfJmEfHTd5bIEMl/qcmfaM tkO4ZkndnNSYwVD0O2xc4bbxYkYHeI56qD2zW7iBcOlET X-Gm-Gg: ASbGncuGbznUmPeQWJfKonf50w4lFkFVLmUOwNFy4n/PDyYUGLsncnIJeTw0O7+pr98 vRXftqtNiSe+5pzpPXQGfF7XrAksrpsXa8+ZxSWEcWNN2/rJ3U1ZpNPIu+pvs+jZeIazEE3MlHj Ykr6eIJV/JjKOXHIbqdL0GpReNeK57Pv8ZkS+Cl4glEm+aQlOe5rQ9h/tASR+OBA6cBP+Sjv8Kz 6OB57kB2du2T6uaPxHS3LJ3xrU6z8hyLrxRr5X/O0loWgLVMh5nL/Qw8w776/ussXAgQHa0JWhD WZGDQSTrBArmBDxVAJhd75i+pBYZc8dCe+wOR6FLkjF7JTRDGlDEhlwGWT92V0LFQUWvwPkYK0e mOQ5Q6s5o6xpI3h4E3M2I5SG3dLydrII= X-Google-Smtp-Source: AGHT+IEL8mX47y+WmocsyRD0b/NMyPjn0J3yG3A5jWf2ivOuXRhqsfpHaOSLNKsHhaklreakjB6nkEnUujz5 X-Received: by 2002:a17:902:f68e:b0:295:24d7:3792 with SMTP id d9443c01a7336-29524d73ebfmr98053255ad.1.1762050429906; Sat, 01 Nov 2025 19:27:09 -0700 (PDT) Received: from postal.iol.unh.edu (postal.iol.unh.edu. [132.177.123.84]) by smtp-relay.gmail.com with ESMTPS id d9443c01a7336-2952698d353sm5295345ad.55.2025.11.01.19.27.09 (version=TLS1_2 cipher=ECDHE-ECDSA-AES128-GCM-SHA256 bits=128/128); Sat, 01 Nov 2025 19:27:09 -0700 (PDT) X-Relaying-Domain: iol.unh.edu Date: Sat, 01 Nov 2025 19:27:09 -0700 (PDT) Message-ID: <6906c17d.170a0220.81f26.b7c0SMTPIN_ADDED_MISSING@mx.google.com> Received: from [172.21.0.2] (unknown [172.18.0.240]) by postal.iol.unh.edu (Postfix) with ESMTP id 2913A6051830; Sat, 1 Nov 2025 22:27:09 -0400 (EDT) Subject: |WARNING| pw158333 [PATCH] [v3] net/ice: add source prune configurat From: dpdklab@iol.unh.edu To: Test Report Cc: dpdk-test-reports@iol.unh.edu, Bruce Richardson In-Reply-To: <20251102011919.68783-1-anurag.mandal@intel.com> References: <20251102011919.68783-1-anurag.mandal@intel.com> Content-Type: text/plain X-BeenThere: test-report@dpdk.org X-Mailman-Version: 2.1.29 Precedence: list List-Id: automatic DPDK test reports List-Unsubscribe: , List-Archive: List-Post: List-Help: List-Subscribe: , Errors-To: test-report-bounces@dpdk.org Test-Label: iol-compile-amd64-testing Test-Status: WARNING http://dpdk.org/patch/158333 _Testing issues_ Submitter: Anurag Mandal Date: Sunday, November 02 2025 01:19:19 DPDK git baseline: Repo:dpdk-next-net-intel Branch: master CommitID:40de0ba36a04ef80e8a2ac90c240183fc2c6d1b4 158333 --> testing issues Upstream job id: Windows-Compile-DPDK-Native#32054 Test environment and result as below: +-------------------------------+--------------------+-------------------+------------------+-------------------------+-------------------+----------------------+ | Environment | dpdk_meson_compile | dpdk_compile_spdk | dpdk_compile_ovs | dpdk_llvm_clang_compile | dpdk_msvc_compile | dpdk_mingw64_compile | +===============================+====================+===================+==================+=========================+===================+======================+ | CentOS Stream 10 | PASS | SKIPPED | SKIPPED | SKIPPED | SKIPPED | SKIPPED | +-------------------------------+--------------------+-------------------+------------------+-------------------------+-------------------+----------------------+ | Debian GNU/Linux 12 | PASS | WARN | SKIPPED | SKIPPED | SKIPPED | SKIPPED | +-------------------------------+--------------------+-------------------+------------------+-------------------------+-------------------+----------------------+ | Fedora Linux 42 | PASS | WARN | PASS | SKIPPED | SKIPPED | SKIPPED | +-------------------------------+--------------------+-------------------+------------------+-------------------------+-------------------+----------------------+ | CentOS Stream 9 | PASS | WARN | SKIPPED | SKIPPED | SKIPPED | SKIPPED | +-------------------------------+--------------------+-------------------+------------------+-------------------------+-------------------+----------------------+ | openSUSE Leap 15.6 | PASS | SKIPPED | SKIPPED | SKIPPED | SKIPPED | SKIPPED | +-------------------------------+--------------------+-------------------+------------------+-------------------------+-------------------+----------------------+ | Red Hat Enterprise Linux 9.5 | PASS | SKIPPED | SKIPPED | SKIPPED | SKIPPED | SKIPPED | +-------------------------------+--------------------+-------------------+------------------+-------------------------+-------------------+----------------------+ | Ubuntu 22.04 | PASS | WARN | SKIPPED | SKIPPED | SKIPPED | SKIPPED | +-------------------------------+--------------------+-------------------+------------------+-------------------------+-------------------+----------------------+ | Ubuntu 24.04 | PASS | WARN | PASS | SKIPPED | SKIPPED | SKIPPED | +-------------------------------+--------------------+-------------------+------------------+-------------------------+-------------------+----------------------+ | Ubuntu 20.04 | PASS | SKIPPED | SKIPPED | SKIPPED | SKIPPED | SKIPPED | +-------------------------------+--------------------+-------------------+------------------+-------------------------+-------------------+----------------------+ | Alpine Linux 3.22.0 | PASS | SKIPPED | SKIPPED | SKIPPED | SKIPPED | SKIPPED | +-------------------------------+--------------------+-------------------+------------------+-------------------------+-------------------+----------------------+ | FreeBSD 14.2 | PASS | SKIPPED | SKIPPED | SKIPPED | SKIPPED | SKIPPED | +-------------------------------+--------------------+-------------------+------------------+-------------------------+-------------------+----------------------+ | Red Hat Enterprise Linux 8.10 | PASS | SKIPPED | SKIPPED | SKIPPED | SKIPPED | SKIPPED | +-------------------------------+--------------------+-------------------+------------------+-------------------------+-------------------+----------------------+ | Windows Server 2022 | SKIPPED | SKIPPED | SKIPPED | PASS | PASS | PASS | +-------------------------------+--------------------+-------------------+------------------+-------------------------+-------------------+----------------------+ ==== 20 line log output for Ubuntu 24.04 (dpdk_compile_spdk): ==== --- Failed to get log output --- ==== End log output ==== CentOS Stream 10 Kernel: 5.15 Compiler: gcc gcc (GCC) 14.2.1 20250110 (Red Hat 14.2.1-8) Debian GNU/Linux 12 Kernel: 5.15 Compiler: gcc gcc (Debian 12.2.0-14+deb12u1) 12.2.0 Fedora Linux 42 Kernel: 5.15 Compiler: clang gcc (GCC) 15.2.1 20250808 (Red Hat 15.2.1-1) CentOS Stream 9 Kernel: 5.15 Compiler: gcc gcc (GCC) 11.5.0 20240719 (Red Hat 11.5.0-11) openSUSE Leap 15.6 Kernel: 5.15 Compiler: gcc gcc (SUSE Linux) 7.5.0 Red Hat Enterprise Linux 9.5 Kernel: 5.15 Compiler: gcc gcc (GCC) 11.5.0 20240719 (Red Hat 11.5.0-2) Ubuntu 22.04 Kernel: 5.15 Compiler: gcc gcc (Ubuntu 11.4.0-1ubuntu1~22.04) 11.4.0 Ubuntu 24.04 Kernel: 5.15 Compiler: gcc gcc (Ubuntu 13.3.0-6ubuntu2~24.04) 13.3.0 Ubuntu 20.04 Kernel: 5.15 Compiler: gcc gcc (Ubuntu 9.4.0-1ubuntu1~20.04.2) 9.4.0 Alpine Linux 3.22.0 Kernel: 5.15 Compiler: gcc gcc (Alpine 14.2.0) 14.2.0 FreeBSD 14.2 Kernel: 14.2-RELEASE Compiler: clang 18.1.6 Red Hat Enterprise Linux 8.10 Kernel: 5.15 Compiler: gcc gcc (GCC) 8.5.0 20210514 (Red Hat 8.5.0-22) Windows Server 2022 Kernel: 10.0.20348.2031 Compiler: clang 15.0.7, gcc 14.1.0 (MinGW), and MSVC VS 19.39.33521 To view detailed results, visit: https://lab.dpdk.org/results/dashboard/patchsets/34440/ UNH-IOL DPDK Community Lab To manage your email subscriptions, visit: https://lab.dpdk.org/results/dashboard/preferences/subscriptions/