From mboxrd@z Thu Jan 1 00:00:00 1970 Return-Path: Received: from mails.dpdk.org (mails.dpdk.org [217.70.189.124]) by inbox.dpdk.org (Postfix) with ESMTP id D130B48A50 for ; Sun, 2 Nov 2025 03:30:26 +0100 (CET) Received: from mails.dpdk.org (localhost [127.0.0.1]) by mails.dpdk.org (Postfix) with ESMTP id 9FED940261; Sun, 2 Nov 2025 03:30:26 +0100 (CET) Received: from mail-yx1-f100.google.com (mail-yx1-f100.google.com [74.125.224.100]) by mails.dpdk.org (Postfix) with ESMTP id 5FE8140261 for ; Sun, 2 Nov 2025 03:30:25 +0100 (CET) Received: by mail-yx1-f100.google.com with SMTP id 956f58d0204a3-63f74b43db8so3674547d50.3 for ; Sat, 01 Nov 2025 19:30:25 -0700 (PDT) DKIM-Signature: v=1; a=rsa-sha256; c=relaxed/relaxed; d=iol.unh.edu; s=unh-iol; t=1762050624; x=1762655424; darn=dpdk.org; h=references:in-reply-to:cc:to:from:subject:message-id:date:from:to :cc:subject:date:message-id:reply-to; bh=xhXf9WdmyE63cyiErYnYuO3/uwwg3+42RE/LkNfv/L8=; b=LqgAI7iR8LMgsjOE5QnIqPnn70MDG97WGFh8XA/IEiqhEPQpXN9vt2iSALPE9Cx6A6 dRFOIko8FCwxD9C3pIHoVJBM0/puNchnJgsDNxcosaGH+VUkpTV/vwwJbJ/Vm1hQCxk8 TvkyFyTLpuRXM9nwbdzxIVix9dtldWZ8cvWQA= X-Google-DKIM-Signature: v=1; a=rsa-sha256; c=relaxed/relaxed; d=1e100.net; s=20230601; t=1762050624; x=1762655424; h=references:in-reply-to:cc:to:from:subject:message-id:date :x-gm-message-state:from:to:cc:subject:date:message-id:reply-to; bh=xhXf9WdmyE63cyiErYnYuO3/uwwg3+42RE/LkNfv/L8=; b=PB7EHF1oSBIx3jZoG+BLJC6b+5DHrDqt24ncPqDo0xRQQNOS9IS0aN98azA7FAPR3V 9Aa9AJg/aed74GgtwylDpvhEW8TitL/Kg+scNgV6eKKP76MDYVPze3u6UGxws+SsNtXf 6gxYfujgt992VuvlPF0ebGzf7ILuweeIwt52K99/cT59XRT54dbhHlqFuX9hEUznwXsf 3JhClvkPMZE9fltBfxLSQs6Xtq1LOgRsPMPIBuNHtaVU4zec4gIGbk9vdB+Xvewoka6X uAutEg2Joku6ojqxiGW/3b5+utJJdTLkI09ajX8LGxiwLGURECl7CBPXtqA7DXjYJlgR yjkw== X-Gm-Message-State: AOJu0YwAk3Xi7Gnx7U+1ABnriGU1VL5YvZhT3RgnX0Hzzw4swfpmdgFz c3tvTJOOrm9r2U59N6lP5ejSzFPNwFiY/rDjco78GRqzT6Birc9Va1TgwcgdT7m2bcn30r2P3qS V6/7djKrHr+vy6FMT7pi+zxAzi8sKObom/kVK7E3xE1Yp4EIKRrr9n3gIfQ4p X-Gm-Gg: ASbGncs0uU2v4Xe/AAv/VMOhuSJZhqLNxeuVvle32pgwpBczw+z1JhJ70QG8yISSjPB LF55yJcffhiaHQyt0Vl6VhHr9b2oTif/O14qRl8mqD3GHVbI207RSAlfEL/hh+LcX4IDTgGXxMx Buzrm005RHiBNah9sWJs0KRYMnhPYwZU+cClcfr6kn0LtOArwdohekkYVIeXlNdnfFc5Am4x3F6 zsKD/UxBpqxs7vxfZk9SHm1ma27+OkS/EksjMJOA/qUrMSeRkCU0uMfs06rWuUWRHTa+SEjyeFN I1gBOsKUxZYh9HN9ifPiOSATlTyITy50h6VrPTRO/yEbV7+USCJIG0DBaaTSWiPAk1kKkcPGB7W GykpxdaUj X-Google-Smtp-Source: AGHT+IHAZKF+RZvPdYOPGAP/xXbyEmxR+QyyEW65QbmG9aiRJli/cWeQ4pW/P7PbmmNiKeXkiyIFoJ2JyOJE X-Received: by 2002:a05:690c:9684:b0:734:f858:b1e7 with SMTP id 00721157ae682-78648436259mr78045407b3.27.1762050624545; Sat, 01 Nov 2025 19:30:24 -0700 (PDT) Received: from postal.iol.unh.edu (postal.iol.unh.edu. [2606:4100:3880:1234::84]) by smtp-relay.gmail.com with ESMTPS id 00721157ae682-7864c292b6dsm3813707b3.21.2025.11.01.19.30.24 (version=TLS1_2 cipher=ECDHE-ECDSA-AES128-GCM-SHA256 bits=128/128); Sat, 01 Nov 2025 19:30:24 -0700 (PDT) X-Relaying-Domain: iol.unh.edu Date: Sat, 01 Nov 2025 19:30:24 -0700 (PDT) Message-ID: <6906c240.050a0220.82427.497bSMTPIN_ADDED_MISSING@mx.google.com> Received: from [172.21.0.2] (unknown [172.18.0.240]) by postal.iol.unh.edu (Postfix) with ESMTP id 3048A6051830; Sat, 1 Nov 2025 22:30:24 -0400 (EDT) Subject: |SUCCESS| pw158333 [PATCH] [v3] net/ice: add source prune configurat From: dpdklab@iol.unh.edu To: Test Report Cc: dpdk-test-reports@iol.unh.edu, Bruce Richardson In-Reply-To: <20251102011919.68783-1-anurag.mandal@intel.com> References: <20251102011919.68783-1-anurag.mandal@intel.com> Content-Type: text/plain X-BeenThere: test-report@dpdk.org X-Mailman-Version: 2.1.29 Precedence: list List-Id: automatic DPDK test reports List-Unsubscribe: , List-Archive: List-Post: List-Help: List-Subscribe: , Errors-To: test-report-bounces@dpdk.org Test-Label: iol-unit-amd64-testing Test-Status: SUCCESS http://dpdk.org/patch/158333 _Testing PASS_ Submitter: Anurag Mandal Date: Sunday, November 02 2025 01:19:19 DPDK git baseline: Repo:dpdk-next-net-intel Branch: master CommitID:40de0ba36a04ef80e8a2ac90c240183fc2c6d1b4 158333 --> testing pass Upstream job id: Generic-VM-Unit-Test-DPDK#32228 Test environment and result as below: +-------------------------------+----------------+ | Environment | dpdk_unit_test | +===============================+================+ | Fedora Linux 41 | PASS | +-------------------------------+----------------+ | Fedora Linux 40 | PASS | +-------------------------------+----------------+ | Red Hat Enterprise Linux 8.10 | PASS | +-------------------------------+----------------+ | Ubuntu 22.04 | PASS | +-------------------------------+----------------+ | Windows Server 2022 | PASS | +-------------------------------+----------------+ | Fedora Linux 42 | PASS | +-------------------------------+----------------+ | CentOS Stream 10 | PASS | +-------------------------------+----------------+ | Debian GNU/Linux 12 | PASS | +-------------------------------+----------------+ | CentOS Stream 9 | PASS | +-------------------------------+----------------+ | Ubuntu 24.04 | PASS | +-------------------------------+----------------+ | Ubuntu 20.04 | PASS | +-------------------------------+----------------+ | Red Hat Enterprise Linux 9.5 | PASS | +-------------------------------+----------------+ Fedora Linux 41 Kernel: 5.15 Compiler: gcc gcc (GCC) 14.3.1 20250523 (Red Hat 14.3.1-1) Fedora Linux 40 Kernel: 5.15 Compiler: clang gcc (GCC) 14.2.1 20240912 (Red Hat 14.2.1-3) Red Hat Enterprise Linux 8.10 Kernel: 5.15 Compiler: gcc gcc (GCC) 8.5.0 20210514 (Red Hat 8.5.0-22) Ubuntu 22.04 Kernel: 5.15 Compiler: gcc gcc (Ubuntu 11.4.0-1ubuntu1~22.04) 11.4.0 Windows Server 2022 Kernel: 10.0.20348.2031 Compiler: clang 15.0.7, gcc 14.1.0 (MinGW), and MSVC VS 19.39.33521 Fedora Linux 42 Kernel: 5.15 Compiler: clang gcc (GCC) 15.2.1 20250808 (Red Hat 15.2.1-1) CentOS Stream 10 Kernel: 5.15 Compiler: gcc gcc (GCC) 14.2.1 20250110 (Red Hat 14.2.1-8) Debian GNU/Linux 12 Kernel: 5.15 Compiler: gcc gcc (Debian 12.2.0-14+deb12u1) 12.2.0 CentOS Stream 9 Kernel: 5.15 Compiler: gcc gcc (GCC) 11.5.0 20240719 (Red Hat 11.5.0-11) Ubuntu 24.04 Kernel: 5.15 Compiler: gcc gcc (Ubuntu 13.3.0-6ubuntu2~24.04) 13.3.0 Ubuntu 20.04 Kernel: 5.15 Compiler: gcc gcc (Ubuntu 9.4.0-1ubuntu1~20.04.2) 9.4.0 Red Hat Enterprise Linux 9.5 Kernel: 5.15 Compiler: gcc gcc (GCC) 11.5.0 20240719 (Red Hat 11.5.0-2) To view detailed results, visit: https://lab.dpdk.org/results/dashboard/patchsets/34440/ UNH-IOL DPDK Community Lab To manage your email subscriptions, visit: https://lab.dpdk.org/results/dashboard/preferences/subscriptions/