From mboxrd@z Thu Jan 1 00:00:00 1970 Return-Path: Received: from mails.dpdk.org (mails.dpdk.org [217.70.189.124]) by inbox.dpdk.org (Postfix) with ESMTP id DF018489ED for ; Sun, 2 Nov 2025 04:05:23 +0100 (CET) Received: from mails.dpdk.org (localhost [127.0.0.1]) by mails.dpdk.org (Postfix) with ESMTP id 926934021F; Sun, 2 Nov 2025 04:05:23 +0100 (CET) Received: from mail-oo1-f99.google.com (mail-oo1-f99.google.com [209.85.161.99]) by mails.dpdk.org (Postfix) with ESMTP id C544B4021F for ; Sun, 2 Nov 2025 04:05:22 +0100 (CET) Received: by mail-oo1-f99.google.com with SMTP id 006d021491bc7-6567542a9e2so947283eaf.0 for ; Sat, 01 Nov 2025 20:05:22 -0700 (PDT) DKIM-Signature: v=1; a=rsa-sha256; c=relaxed/relaxed; d=iol.unh.edu; s=unh-iol; t=1762052722; x=1762657522; darn=dpdk.org; h=references:in-reply-to:cc:to:from:subject:message-id:date:from:to :cc:subject:date:message-id:reply-to; bh=WsTJoqdJCRHgfjQrEBbmM0/Lv9UHcWNoKhpiPOmrpgY=; b=SAokjDLqVUNWuxVtpzq77Gzm8Q/e1pbwK1q5CmlG8c3LidDXVpRCF9RcN99nW+HgHm YBaMqnpYB9HBiqdc4CLY9Thv5PLcsv7ND/Cs8PoI4/KMckWJ/JmBCKslmkEZUyDh5066 PuzIcBTigAoIWb4A5jyZRWxH+NkjqzqV+fsWc= X-Google-DKIM-Signature: v=1; a=rsa-sha256; c=relaxed/relaxed; d=1e100.net; s=20230601; t=1762052722; x=1762657522; h=references:in-reply-to:cc:to:from:subject:message-id:date :x-gm-message-state:from:to:cc:subject:date:message-id:reply-to; bh=WsTJoqdJCRHgfjQrEBbmM0/Lv9UHcWNoKhpiPOmrpgY=; b=qphLTI3qqhPcz8kgTHfPNl8Hdg0pH2eboXyNfbsk7nUxIbA18tKPA0I/YrzwCo1yCl vJgks3q39m7JxgBVxakVCC1cqJmWp9DUMwFpzvDf5XYp5iGxznm1n/fOvEhF94rBY+Aw M73DIL11HRKlxhosUJJkhJt6eE6RlIP8kwwBYZltSI1hIPrzPb8itfkY7GbepVjl4iPH 9VO/VwAQMywvcDHngJp4c3puNsVVd8Ifpymt2mDhJ9fixhYLUA5dCByiIdcig88ni5qM lAUIbKUJ3SBrptsan19S3P0tWly1WFhvGKfqAi8+BOb0ffqnx1mf6u6fC3UOQizn+qr4 qZvw== X-Gm-Message-State: AOJu0YwDMtypsALOxdzJRu98jsL9jo8TEuPdFKHCQtH4924bzDiGS/Lr 6xCt4fa6uw/Wm2NMtf8wnEL1OjNA27gR839/YVfpl3I6bdvKXRjokPwmWFegLTn+G8PAbEtEg4y h+oLcCYmy3gp//tEwh78jA+wvr9NF8ogdXtTzS8IHqWK7 X-Gm-Gg: ASbGnctpxMwF95Vbddhc1AWnuJzO/5tLVDHH/t9/126Apf7yT/oe6z26R3Qt8EPx2GX 2SNdmhvgwcjjWhsLuhR28P1VQXNvK6rS12n0QB02+3XpS3nz2KiX/UZHDDwFrVx4ritbe5l8lJk uE1Jn5aBC58X6qL/V+J/YepFlg8+C9wD7gNk6aOU0sR8T5TBf2IqVJnrDuktTRlzPMDwLgN4Ktf LLKgMAF/J60/c7D/sII+bhnYaCy/m+RWu3c9Plfyd95dQN6eGKu8BsTVzg2fkihoSNzsw3WN02j LkV14NOrSUB/oDaEm+a859vK9WIbeU3L5+0mKyVsYpd47UwRrwbWb16eCvvFfdYoeVgp4k7yAM7 x5GAOYfa5Fkw/xVfkYdu/cAneGVjw0F0= X-Google-Smtp-Source: AGHT+IEbGfWqRVpFkE8nwBT4G8FidD7IzHVeBF4CXNWf/A5RMCMVmau67/atKroov2IEWnZsa+AmpX/+qKij X-Received: by 2002:a05:6870:9615:b0:3c9:4782:7c4c with SMTP id 586e51a60fabf-3daca00a3b2mr3774984fac.7.1762052721895; Sat, 01 Nov 2025 20:05:21 -0700 (PDT) Received: from postal.iol.unh.edu (postal.iol.unh.edu. [132.177.123.84]) by smtp-relay.gmail.com with ESMTPS id 586e51a60fabf-3db422a7e24sm560192fac.20.2025.11.01.20.05.21 (version=TLS1_2 cipher=ECDHE-ECDSA-AES128-GCM-SHA256 bits=128/128); Sat, 01 Nov 2025 20:05:21 -0700 (PDT) X-Relaying-Domain: iol.unh.edu Date: Sat, 01 Nov 2025 20:05:21 -0700 (PDT) Message-ID: <6906ca71.050a0220.16d0fa.df75SMTPIN_ADDED_MISSING@mx.google.com> Received: from [172.21.0.2] (unknown [172.18.0.240]) by postal.iol.unh.edu (Postfix) with ESMTP id 839586051830; Sat, 1 Nov 2025 23:05:20 -0400 (EDT) Subject: |SUCCESS| pw158333 [PATCH] [v3] net/ice: add source prune configurat From: dpdklab@iol.unh.edu To: Test Report Cc: dpdk-test-reports@iol.unh.edu, Bruce Richardson In-Reply-To: <20251102011919.68783-1-anurag.mandal@intel.com> References: <20251102011919.68783-1-anurag.mandal@intel.com> Content-Type: text/plain X-BeenThere: test-report@dpdk.org X-Mailman-Version: 2.1.29 Precedence: list List-Id: automatic DPDK test reports List-Unsubscribe: , List-Archive: List-Post: List-Help: List-Subscribe: , Errors-To: test-report-bounces@dpdk.org Test-Label: iol-unit-arm64-testing Test-Status: SUCCESS http://dpdk.org/patch/158333 _Testing PASS_ Submitter: Anurag Mandal Date: Sunday, November 02 2025 01:19:19 DPDK git baseline: Repo:dpdk-next-net-intel Branch: master CommitID:40de0ba36a04ef80e8a2ac90c240183fc2c6d1b4 158333 --> testing pass Upstream job id: Generic-Unit-Test-DPDK#387678 Test environment and result as below: +------------------------------+----------------+------------------------------+--------------+---------------------------+ | Environment | dpdk_unit_test | cryptodev_sw_snow3g_autotest | lpm_autotest | cryptodev_sw_zuc_autotest | +==============================+================+==============================+==============+===========================+ | Fedora Linux 41 | PASS | SKIPPED | SKIPPED | SKIPPED | +------------------------------+----------------+------------------------------+--------------+---------------------------+ | Ubuntu 24.04 | PASS | SKIPPED | SKIPPED | SKIPPED | +------------------------------+----------------+------------------------------+--------------+---------------------------+ | CentOS Stream 10 | PASS | SKIPPED | SKIPPED | SKIPPED | +------------------------------+----------------+------------------------------+--------------+---------------------------+ | Fedora Linux 40 | PASS | SKIPPED | SKIPPED | SKIPPED | +------------------------------+----------------+------------------------------+--------------+---------------------------+ | Fedora Linux 42 | PASS | SKIPPED | SKIPPED | SKIPPED | +------------------------------+----------------+------------------------------+--------------+---------------------------+ | CentOS Stream 9 | PASS | SKIPPED | SKIPPED | SKIPPED | +------------------------------+----------------+------------------------------+--------------+---------------------------+ | Ubuntu 22.04 | PASS | SKIPPED | SKIPPED | SKIPPED | +------------------------------+----------------+------------------------------+--------------+---------------------------+ | Debian GNU/Linux 12 | PASS | SKIPPED | SKIPPED | SKIPPED | +------------------------------+----------------+------------------------------+--------------+---------------------------+ | Red Hat Enterprise Linux 9.5 | PASS | SKIPPED | SKIPPED | SKIPPED | +------------------------------+----------------+------------------------------+--------------+---------------------------+ | Ubuntu 20.04 | PASS | SKIPPED | PASS | SKIPPED | +------------------------------+----------------+------------------------------+--------------+---------------------------+ | Debian 12 (arm) | SKIPPED | PASS | SKIPPED | PASS | +------------------------------+----------------+------------------------------+--------------+---------------------------+ Fedora Linux 41 Kernel: 5.4 Compiler: gcc gcc (GCC) 14.3.1 20250523 (Red Hat 14.3.1-1) Ubuntu 24.04 Kernel: 5.4 Compiler: gcc gcc (Ubuntu 13.3.0-6ubuntu2~24.04) 13.3.0 CentOS Stream 10 Kernel: 5.4 Compiler: gcc gcc (GCC) 14.2.1 20250110 (Red Hat 14.2.1-8) Fedora Linux 40 Kernel: 5.4 Compiler: gcc gcc (GCC) 14.2.1 20240912 (Red Hat 14.2.1-3) Fedora Linux 42 Kernel: 5.4 Compiler: gcc gcc (GCC) 15.2.1 20250808 (Red Hat 15.2.1-1) CentOS Stream 9 Kernel: 5.4 Compiler: gcc gcc (GCC) 11.5.0 20240719 (Red Hat 11.5.0-11) Ubuntu 22.04 Kernel: 5.15 Compiler: gcc gcc (Ubuntu 11.4.0-1ubuntu1~22.04.2) 11.4.0 Debian GNU/Linux 12 Kernel: 5.4 Compiler: gcc gcc (Debian 12.2.0-14+deb12u1) 12.2.0 Red Hat Enterprise Linux 9.5 Kernel: 5.4 Compiler: gcc gcc (GCC) 11.5.0 20240719 (Red Hat 11.5.0-2) Ubuntu 20.04 Kernel: 5.4 Compiler: gcc gcc (Ubuntu 9.4.0-1ubuntu1~20.04.2) 9.4.0 Debian 12 (arm) Kernel: Depends on container host Compiler: gcc (Debian 12.2.0-14) 12.2.0 To view detailed results, visit: https://lab.dpdk.org/results/dashboard/patchsets/34440/ UNH-IOL DPDK Community Lab To manage your email subscriptions, visit: https://lab.dpdk.org/results/dashboard/preferences/subscriptions/