From mboxrd@z Thu Jan 1 00:00:00 1970 Return-Path: Received: from mails.dpdk.org (mails.dpdk.org [217.70.189.124]) by inbox.dpdk.org (Postfix) with ESMTP id ECD0048A50 for ; Sun, 2 Nov 2025 04:31:36 +0100 (CET) Received: from mails.dpdk.org (localhost [127.0.0.1]) by mails.dpdk.org (Postfix) with ESMTP id E5CD64021F; Sun, 2 Nov 2025 04:31:36 +0100 (CET) Received: from mail-qk1-f226.google.com (mail-qk1-f226.google.com [209.85.222.226]) by mails.dpdk.org (Postfix) with ESMTP id 226414021F for ; Sun, 2 Nov 2025 04:31:35 +0100 (CET) Received: by mail-qk1-f226.google.com with SMTP id af79cd13be357-890521c116fso354715185a.3 for ; Sat, 01 Nov 2025 20:31:35 -0700 (PDT) DKIM-Signature: v=1; a=rsa-sha256; c=relaxed/relaxed; d=iol.unh.edu; s=unh-iol; t=1762054294; x=1762659094; darn=dpdk.org; h=cc:to:from:subject:message-id:date:from:to:cc:subject:date :message-id:reply-to; bh=FHzaPr+ekUQFFoQFxmo8bwLH00LdFNzHt6AQ7mgGE1k=; b=efMUZtZONK8cEVY4Ey8GK3xTqevvpeBLkcZy9Kku1l2/Y6bSgY4ue4FiA9ZhhFyZWt RzOX/GEVobYsw7olEszBnRkhRKIYsn0YQInOAPI+cBb1dm4C4jRz1pc7kKEVhrBNziLo paJdXcaIMpEWtRLg6k6nsw357bf5OU9UxOh1o= X-Google-DKIM-Signature: v=1; a=rsa-sha256; c=relaxed/relaxed; d=1e100.net; s=20230601; t=1762054294; x=1762659094; h=cc:to:from:subject:message-id:date:x-gm-message-state:from:to:cc :subject:date:message-id:reply-to; bh=FHzaPr+ekUQFFoQFxmo8bwLH00LdFNzHt6AQ7mgGE1k=; b=jCQd3irvyvYq97LIKtEdCutJXmHVHWJHl1eWU3T3W3KKEoP/fR5CfLzGGEcAaSFDmF hjOOHlFDGhkdRb7Bh60sxwKieximNzVXxxFNQS5LkyK6WW62N/B1YxGjAn2BITCkRZ/7 QK0nKGrwtrq4GMbicHLKT6EL00/TlDPgduLNtL5C72arjTqtXy4uEvMfMRkGcqLTVHd+ YrK2e0etPpwDfJ13hDyGHNAQRc+M+8zvhSQhRuGchhzmwAQI4vIm/XycxK6D+6LSOUg/ sau2QSbE/3S3u7r1t5vJXFNRpOB69kUuwsUsGbdaLD4lr9aCD5JahUl/FCQ9gqjxNnAt jQ2Q== X-Gm-Message-State: AOJu0Yy8vws2TXtD6HpOl2HJG3Ie13G78H7xFehPOUY02JB4GyoQcadT bwC4gsjSyKcg9iixOw5ghsgHvCijeBYj2bfR28RNvr7blhfc31yOZUFocL2iYVjxcdIXqS8/7XC gs2PZeBN6kI+tH2w3CsfMuIV/R2vXmqZDXbUUkfwmzBiksEC55pTwElQnbg7V X-Gm-Gg: ASbGncvAZm6HzgbfgJYn0hdnaL2ZlC9sKu+SITXEKOvIFoNoNP8zKrVHywjsWmQiQAM 8k05XWtjoCxm12+IsoBjryFhrhkyCa/7jsinISTWi2GwufjiFpje14DyPJ+sPqaobTI8AbwQAQc MhAxk3wJ2H62+yBLWBInChAbg/tK+74jKubEo6qqjG0YD8fomypDf9nA2rCZA9BOMTz/aqRDu6G 0KHhvFYWkyzPBaLKQvnkED04n42vRCw5u04jU/rEmChay22Dn/954drHwsItQ3fFX3Rd7o1YW3P 8MJb3BvoTkprs9awqHkHDBA14S0QFl9uVlrltZXQ90npap7PfyqffxsEbbLtk0CBanPD2P5uTN0 gbfHsZweE X-Google-Smtp-Source: AGHT+IH7cbe6MDrFiqP9mW0Ck4MWg+n/77nZ46mIEfp7iRyqttL+nRvn5T2x/G5rBY7ErEe+AUTHEDrggYdi X-Received: by 2002:a05:620a:2944:b0:8a7:a7c:f6e2 with SMTP id af79cd13be357-8ab9b5992f7mr1082098585a.59.1762054294442; Sat, 01 Nov 2025 20:31:34 -0700 (PDT) Received: from postal.iol.unh.edu (postal.iol.unh.edu. [2606:4100:3880:1234::84]) by smtp-relay.gmail.com with ESMTPS id af79cd13be357-8ac01efb5fcsm56515585a.4.2025.11.01.20.31.34 (version=TLS1_2 cipher=ECDHE-ECDSA-AES128-GCM-SHA256 bits=128/128); Sat, 01 Nov 2025 20:31:34 -0700 (PDT) X-Relaying-Domain: iol.unh.edu Date: Sat, 01 Nov 2025 20:31:34 -0700 (PDT) Message-ID: <6906d096.050a0220.2bfbdf.d460SMTPIN_ADDED_MISSING@mx.google.com> Received: from [172.21.0.2] (unknown [172.18.0.240]) by postal.iol.unh.edu (Postfix) with ESMTP id 2310160003E8; Sat, 1 Nov 2025 23:31:34 -0400 (EDT) Subject: |SUCCESS| [GIT MASTER] 8c4861d00aabcf54ef9d6f1df2a4cfb37c06f6c2 From: dpdklab@iol.unh.edu To: Test Report Cc: dpdk-test-reports@iol.unh.edu Content-Type: text/plain X-BeenThere: test-report@dpdk.org X-Mailman-Version: 2.1.29 Precedence: list List-Id: automatic DPDK test reports List-Unsubscribe: , List-Archive: List-Post: List-Help: List-Subscribe: , Errors-To: test-report-bounces@dpdk.org _Testing PASS_ Branch: dpdk 8c4861d00aabcf54ef9d6f1df2a4cfb37c06f6c2 --> testing pass Upstream job id: Generic-DPDK-Compile-Meson#439913 Test environment and result as below: +------------------------------+--------------------+ | Environment | dpdk_meson_compile | +==============================+====================+ | Debian GNU/Linux 12 | PASS | +------------------------------+--------------------+ | Ubuntu 20.04 | PASS | +------------------------------+--------------------+ | Fedora Linux 42 | PASS | +------------------------------+--------------------+ | Ubuntu 22.04 | PASS | +------------------------------+--------------------+ | Ubuntu 24.04 | PASS | +------------------------------+--------------------+ | CentOS Stream 9 | PASS | +------------------------------+--------------------+ | CentOS Stream 10 | PASS | +------------------------------+--------------------+ | Red Hat Enterprise Linux 9.5 | PASS | +------------------------------+--------------------+ Debian GNU/Linux 12 Kernel: 5.4 Compiler: gcc gcc (Debian 12.2.0-14+deb12u1) 12.2.0 Ubuntu 20.04 Kernel: 5.4 Compiler: gcc gcc (Ubuntu 9.4.0-1ubuntu1~20.04.2) 9.4.0 Fedora Linux 42 Kernel: 5.4 Compiler: clang gcc (GCC) 15.2.1 20250808 (Red Hat 15.2.1-1) Ubuntu 22.04 Kernel: 5.4 Compiler: gcc gcc (Ubuntu 11.4.0-1ubuntu1~22.04) 11.4.0 Ubuntu 24.04 Kernel: 5.4 Compiler: gcc gcc (Ubuntu 13.3.0-6ubuntu2~24.04) 13.3.0 CentOS Stream 9 Kernel: 5.4 Compiler: gcc gcc (GCC) 11.5.0 20240719 (Red Hat 11.5.0-11) CentOS Stream 10 Kernel: 5.4 Compiler: gcc gcc (GCC) 14.2.1 20250110 (Red Hat 14.2.1-8) Red Hat Enterprise Linux 9.5 Kernel: 5.4 Compiler: gcc gcc (GCC) 11.5.0 20240719 (Red Hat 11.5.0-2) To view detailed results, visit: https://lab.dpdk.org/results/dashboard/tarballs/35422/ UNH-IOL DPDK Community Lab To manage your email subscriptions, visit: https://lab.dpdk.org/results/dashboard/preferences/subscriptions/