From mboxrd@z Thu Jan 1 00:00:00 1970 Return-Path: Received: from mails.dpdk.org (mails.dpdk.org [217.70.189.124]) by inbox.dpdk.org (Postfix) with ESMTP id 159B948A5F for ; Sun, 2 Nov 2025 06:17:21 +0100 (CET) Received: from mails.dpdk.org (localhost [127.0.0.1]) by mails.dpdk.org (Postfix) with ESMTP id E54B44021F; Sun, 2 Nov 2025 06:17:20 +0100 (CET) Received: from mail-io1-f100.google.com (mail-io1-f100.google.com [209.85.166.100]) by mails.dpdk.org (Postfix) with ESMTP id EE3874021F for ; Sun, 2 Nov 2025 06:17:19 +0100 (CET) Received: by mail-io1-f100.google.com with SMTP id ca18e2360f4ac-938de0df471so321632239f.2 for ; Sat, 01 Nov 2025 22:17:19 -0700 (PDT) DKIM-Signature: v=1; a=rsa-sha256; c=relaxed/relaxed; d=iol.unh.edu; s=unh-iol; t=1762060639; x=1762665439; darn=dpdk.org; h=cc:to:from:subject:message-id:date:from:to:cc:subject:date :message-id:reply-to; bh=Y5IuRDuZOdgjntqYrVB75OBaYxO4bfR5SebtJy2mabU=; b=Lmb8PAZoe7WVqGrpzPL8pId0194JFSW0j0dGDSbelafmqb7CVJ4EWTxByjUguMiloV sQpyyWsuwmVcaZtmKTfIXHpnyjPYpo2fSGn4XrdfFogQya3VuSzqGdOTpzhx2YmxKCkU vklubWMJL4PyFPj5itBIinMttSNPePrcYWmKY= X-Google-DKIM-Signature: v=1; a=rsa-sha256; c=relaxed/relaxed; d=1e100.net; s=20230601; t=1762060639; x=1762665439; h=cc:to:from:subject:message-id:date:x-gm-message-state:from:to:cc :subject:date:message-id:reply-to; bh=Y5IuRDuZOdgjntqYrVB75OBaYxO4bfR5SebtJy2mabU=; b=JIcF1E90dmrPQmuuyKolxixLBOY5ocEqSF84oVrSQ13xC7UnYB+KCkQjbEEkFJuAAt 7UaoZy41J1EznHgLJXUOSAcRsWtQ2JFh3vQvbjiB9xctx7slK00oGxV8LouzJ3n3uflW ptgsiRxZ4aJwB3btJEQ8bta7nVAumFt+OB0iaeOPd8ZzMonNTcGY16feEKpsukLLwQQR th8iF/ImHgKjwErSA3B4SFvLf+9iRDwPPgs7NiVZE8RbHFyEht+x5lavFGtj7pmgnqT2 DRtSBmgaIEQ21EW3kDl5wT2Aa4MHXUFprjBFvRHaC0Spc3G4d33F1ZJM6TSBBH803LOE Yt1w== X-Gm-Message-State: AOJu0YxOaJG1PK7NIs+HuARlwnIW2ttW2TuieMfUGGwu12cqEFKf49h2 iLLY2JlkDqaLQ33LvSYOxZnIXoG2f4lmj0N6NQ2pt7o00mhY2KqQsN96p5seuk9sbd11Ptxcflu mEUFkrZFRiaJFt8MdE992OeQbotstCd9joEQdSiq84D+8F4dP5nuG X-Gm-Gg: ASbGncuhJlTZ+mIMUw6z5n4yCNkDWn1FkG5EfHcxLDtiDkRPp/EzY2FMMaregwcGxjj bnUAsR+WdrNNkntSDJaUpAO1XlA5EjciNEvIvGjmkIO3jypZ0fgUOrUQwYDsgmgE4FnOnZ0RFE4 eWy1KMmESDyka8oLKqLGaP3dyHoirlxSMBpIUGx1RlQzmKtWBN73dXurEQ1dNXRCgCy06saLjcA hMhhWO1vJTw53a/7gA2K8+XIP9QqSDMMJGEkZTmNuRLCzI88c9gVWCG3jqBr4mn/Xjo4emSWsz1 xaHNcvo9068vBBEUStrtfFocz0ZL4vGiZLKUcfhXq5xZmhrC2nz3cWjhfogoHO9QfuAvV4y0Tsj vAUIBOgZ8 X-Google-Smtp-Source: AGHT+IHpUho2E7GgQ5CD6SWcZFIewY3Gsut4aQq5EuzIH1xqMHsutulOEUcWg/9cDKVLFoJ1lB4bBulejMHg X-Received: by 2002:a05:6e02:19c6:b0:433:2b83:33f9 with SMTP id e9e14a558f8ab-4332b8337b0mr6601845ab.13.1762060639136; Sat, 01 Nov 2025 22:17:19 -0700 (PDT) Received: from postal.iol.unh.edu (postal.iol.unh.edu. [2606:4100:3880:1234::84]) by smtp-relay.gmail.com with ESMTPS id 8926c6da1cb9f-5b6a035a4f4sm556486173.0.2025.11.01.22.17.19 (version=TLS1_2 cipher=ECDHE-ECDSA-AES128-GCM-SHA256 bits=128/128); Sat, 01 Nov 2025 22:17:19 -0700 (PDT) X-Relaying-Domain: iol.unh.edu Date: Sat, 01 Nov 2025 22:17:19 -0700 (PDT) Message-ID: <6906e95f.050a0220.1bb7a7.d777SMTPIN_ADDED_MISSING@mx.google.com> Received: from [172.21.0.2] (unknown [172.18.0.240]) by postal.iol.unh.edu (Postfix) with ESMTP id BA5346051830; Sun, 2 Nov 2025 01:17:18 -0400 (EDT) Subject: |SUCCESS| [GIT MASTER] 42105ccaeef093ad8c7ce11d1bde3652861b783b From: dpdklab@iol.unh.edu To: Test Report Cc: dpdk-test-reports@iol.unh.edu, Xueming Li , Christian Ehrhardt , Kevin Traynor , Luca Boccassi Content-Type: text/plain X-BeenThere: test-report@dpdk.org X-Mailman-Version: 2.1.29 Precedence: list List-Id: automatic DPDK test reports List-Unsubscribe: , List-Archive: List-Post: List-Help: List-Subscribe: , Errors-To: test-report-bounces@dpdk.org _Testing PASS_ Branch: tags/v22.11 42105ccaeef093ad8c7ce11d1bde3652861b783b --> testing pass Upstream job id: Generic-DPDK-Compile-Meson#439954 Test environment and result as below: +-------------------------------+--------------------+-------------------------+----------------------+ | Environment | dpdk_meson_compile | dpdk_llvm_clang_compile | dpdk_mingw64_compile | +===============================+====================+=========================+======================+ | FreeBSD 14.2 | PASS | SKIPPED | SKIPPED | +-------------------------------+--------------------+-------------------------+----------------------+ | Ubuntu 20.04 | PASS | SKIPPED | SKIPPED | +-------------------------------+--------------------+-------------------------+----------------------+ | Fedora Linux 42 | PASS | SKIPPED | SKIPPED | +-------------------------------+--------------------+-------------------------+----------------------+ | CentOS Stream 9 | PASS | SKIPPED | SKIPPED | +-------------------------------+--------------------+-------------------------+----------------------+ | CentOS Stream 10 | PASS | SKIPPED | SKIPPED | +-------------------------------+--------------------+-------------------------+----------------------+ | Debian GNU/Linux 12 | PASS | SKIPPED | SKIPPED | +-------------------------------+--------------------+-------------------------+----------------------+ | openSUSE Leap 15.6 | PASS | SKIPPED | SKIPPED | +-------------------------------+--------------------+-------------------------+----------------------+ | Ubuntu 22.04 | PASS | SKIPPED | SKIPPED | +-------------------------------+--------------------+-------------------------+----------------------+ | Red Hat Enterprise Linux 9.5 | PASS | SKIPPED | SKIPPED | +-------------------------------+--------------------+-------------------------+----------------------+ | Red Hat Enterprise Linux 8.10 | PASS | SKIPPED | SKIPPED | +-------------------------------+--------------------+-------------------------+----------------------+ | Ubuntu 24.04 | PASS | SKIPPED | SKIPPED | +-------------------------------+--------------------+-------------------------+----------------------+ | Windows Server 2022 | SKIPPED | PASS | PASS | +-------------------------------+--------------------+-------------------------+----------------------+ FreeBSD 14.2 Kernel: 14.2-RELEASE Compiler: clang 18.1.6 Ubuntu 20.04 Kernel: 4.19 Compiler: gcc gcc (Ubuntu 9.4.0-1ubuntu1~20.04.2) 9.4.0 Fedora Linux 42 Kernel: 5.15 Compiler: clang gcc (GCC) 15.2.1 20250808 (Red Hat 15.2.1-1) CentOS Stream 9 Kernel: 5.15 Compiler: gcc gcc (GCC) 11.5.0 20240719 (Red Hat 11.5.0-11) CentOS Stream 10 Kernel: 5.15 Compiler: gcc gcc (GCC) 14.2.1 20250110 (Red Hat 14.2.1-8) Debian GNU/Linux 12 Kernel: 5.15 Compiler: gcc gcc (Debian 12.2.0-14+deb12u1) 12.2.0 openSUSE Leap 15.6 Kernel: 5.15 Compiler: gcc gcc (SUSE Linux) 7.5.0 Ubuntu 22.04 Kernel: 5.15 Compiler: gcc gcc (Ubuntu 11.4.0-1ubuntu1~22.04) 11.4.0 Red Hat Enterprise Linux 9.5 Kernel: 5.15 Compiler: gcc gcc (GCC) 11.5.0 20240719 (Red Hat 11.5.0-2) Red Hat Enterprise Linux 8.10 Kernel: 5.15 Compiler: gcc gcc (GCC) 8.5.0 20210514 (Red Hat 8.5.0-22) Ubuntu 24.04 Kernel: 5.15 Compiler: gcc gcc (Ubuntu 13.3.0-6ubuntu2~24.04) 13.3.0 Windows Server 2022 Kernel: 10.0.20348.2031 Compiler: clang 15.0.7, gcc 14.1.0 (MinGW), and MSVC VS 19.39.33521 To view detailed results, visit: https://lab.dpdk.org/results/dashboard/tarballs/35424/ UNH-IOL DPDK Community Lab To manage your email subscriptions, visit: https://lab.dpdk.org/results/dashboard/preferences/subscriptions/