* |SUCCESS| [GIT MASTER] 42105ccaeef093ad8c7ce11d1bde3652861b783b
@ 2025-11-02  5:19 dpdklab
  0 siblings, 0 replies; 25+ messages in thread
From: dpdklab @ 2025-11-02  5:19 UTC (permalink / raw)
  To: Test Report, Ali Alnubani
  Cc: dpdk-test-reports, Xueming Li, Christian Ehrhardt, Kevin Traynor,
	Luca Boccassi
_Performance Testing PASS_
Branch: tags/v22.11
42105ccaeef093ad8c7ce11d1bde3652861b783b --> performance testing pass
Upstream job id: Template-DTS-Pipeline#252486
Test environment and result as below:
Ubuntu 24.04
Kernel: 6.8
Compiler: gcc gcc (Ubuntu 13.3.0-6ubuntu2~24.04) 13.3.0
NIC: Mellanox ConnectX-6 Lx 25000 Mbps
Fail/Total: 0/6
Detail performance results: 
+------------+---------+----------+-------------+------------------------------+
| frame_size | txd/rxd | num_cpus | num_threads |  throughput difference from  |
|            |         |          |             |           expected           |
+============+=========+==========+=============+==============================+
| 64         | 1024    | 1        | 1           | 0.1%                         |
+------------+---------+----------+-------------+------------------------------+
| 128        | 1024    | 1        | 1           | -0.2%                        |
+------------+---------+----------+-------------+------------------------------+
| 256        | 1024    | 1        | 1           | 0.2%                         |
+------------+---------+----------+-------------+------------------------------+
| 512        | 1024    | 1        | 1           | 0.1%                         |
+------------+---------+----------+-------------+------------------------------+
| 1024       | 1024    | 1        | 1           | -0.2%                        |
+------------+---------+----------+-------------+------------------------------+
| 1518       | 1024    | 1        | 1           | 0.1%                         |
+------------+---------+----------+-------------+------------------------------+
Ubuntu 24.04
Kernel: 6.8
Compiler: gcc gcc (Ubuntu 13.3.0-6ubuntu2~24.04) 13.3.0
NIC: NVIDIA Mellanox ConnectX-7 100000 Mbps
Fail/Total: 0/6
Detail performance results: 
+------------+---------+----------+-------------+------------------------------+
| frame_size | txd/rxd | num_cpus | num_threads |  throughput difference from  |
|            |         |          |             |           expected           |
+============+=========+==========+=============+==============================+
| 64         | 1024    | 1        | 1           | -0.2%                        |
+------------+---------+----------+-------------+------------------------------+
| 128        | 1024    | 1        | 1           | 0.2%                         |
+------------+---------+----------+-------------+------------------------------+
| 256        | 1024    | 1        | 1           | -0.4%                        |
+------------+---------+----------+-------------+------------------------------+
| 512        | 1024    | 1        | 1           | 0.1%                         |
+------------+---------+----------+-------------+------------------------------+
| 1024       | 1024    | 1        | 1           | 0.2%                         |
+------------+---------+----------+-------------+------------------------------+
| 1518       | 1024    | 1        | 1           | -0.1%                        |
+------------+---------+----------+-------------+------------------------------+
To view detailed results, visit:
https://lab.dpdk.org/results/dashboard/tarballs/35424/
UNH-IOL DPDK Community Lab
To manage your email subscriptions, visit: 
https://lab.dpdk.org/results/dashboard/preferences/subscriptions/
^ permalink raw reply	[flat|nested] 25+ messages in thread
* |SUCCESS| [GIT MASTER] 42105ccaeef093ad8c7ce11d1bde3652861b783b
@ 2025-11-03 16:29 dpdklab
  0 siblings, 0 replies; 25+ messages in thread
From: dpdklab @ 2025-11-03 16:29 UTC (permalink / raw)
  To: Test Report
  Cc: dpdk-test-reports, Xueming Li, Christian Ehrhardt, Kevin Traynor,
	Luca Boccassi
_Performance Testing PASS_
Branch: tags/v22.11
42105ccaeef093ad8c7ce11d1bde3652861b783b --> performance testing pass
Upstream job id: Template-DTS-Pipeline#252562
Test environment and result as below:
Ubuntu 24.04
Kernel: 6.8
Compiler: gcc gcc (Ubuntu 13.3.0-6ubuntu2~24.04) 13.3.0
NIC: Intel E810 (Arm Grace Server) 100000 Mbps
Fail/Total: 0/2
Detail performance results: 
+------------+---------+----------+-------------+------------------------------+
| frame_size | txd/rxd | num_cpus | num_threads |  throughput difference from  |
|            |         |          |             |           expected           |
+============+=========+==========+=============+==============================+
| 64         | 512     | 1        | 1           | 3.5%                         |
+------------+---------+----------+-------------+------------------------------+
| 64         | 2048    | 1        | 1           | 0.3%                         |
+------------+---------+----------+-------------+------------------------------+
Ubuntu 22.04
Kernel: 5.15
Compiler: gcc gcc (Ubuntu 11.4.0-1ubuntu1~22.04.2) 11.4.0
NIC: Intel E810 100000 Mbps
Fail/Total: 0/2
Detail performance results: 
+------------+---------+----------+-------------+------------------------------+
| frame_size | txd/rxd | num_cpus | num_threads |  throughput difference from  |
|            |         |          |             |           expected           |
+============+=========+==========+=============+==============================+
| 64         | 512     | 1        | 1           | -0.5%                        |
+------------+---------+----------+-------------+------------------------------+
| 64         | 2048    | 1        | 1           | -1.6%                        |
+------------+---------+----------+-------------+------------------------------+
Ubuntu 20.04
Kernel: 5.4
Compiler: gcc gcc (Ubuntu 9.4.0-1ubuntu1~20.04.1) 9.4.0
NIC: Intel Corporation Ethernet Converged Network Adapter XL710-QDA2 40000 Mbps
Fail/Total: 0/4
Detail performance results: 
+----------+-------------+---------+------------+------------------------------+
| num_cpus | num_threads | txd/rxd | frame_size |  throughput difference from  |
|          |             |         |            |           expected           |
+==========+=============+=========+============+==============================+
| 1        | 2           | 512     | 64         | -0.2%                        |
+----------+-------------+---------+------------+------------------------------+
| 1        | 2           | 2048    | 64         | 1.3%                         |
+----------+-------------+---------+------------+------------------------------+
| 1        | 1           | 512     | 64         | 0.6%                         |
+----------+-------------+---------+------------+------------------------------+
| 1        | 1           | 2048    | 64         | -1.4%                        |
+----------+-------------+---------+------------+------------------------------+
To view detailed results, visit:
https://lab.dpdk.org/results/dashboard/tarballs/35431/
UNH-IOL DPDK Community Lab
To manage your email subscriptions, visit: 
https://lab.dpdk.org/results/dashboard/preferences/subscriptions/
^ permalink raw reply	[flat|nested] 25+ messages in thread
* |SUCCESS| [GIT MASTER] 42105ccaeef093ad8c7ce11d1bde3652861b783b
@ 2025-11-03 15:50 dpdklab
  0 siblings, 0 replies; 25+ messages in thread
From: dpdklab @ 2025-11-03 15:50 UTC (permalink / raw)
  To: Test Report
  Cc: dpdk-test-reports, Xueming Li, Christian Ehrhardt, Kevin Traynor,
	Luca Boccassi
_Performance Testing PASS_
Branch: tags/v22.11
42105ccaeef093ad8c7ce11d1bde3652861b783b --> performance testing pass
Upstream job id: Template-DTS-Pipeline#252492
Test environment and result as below:
Ubuntu 20.04
Kernel: 5.4
Compiler: gcc gcc (Ubuntu 9.4.0-1ubuntu1~20.04.1) 9.4.0
NIC: Intel Corporation Ethernet Converged Network Adapter XL710-QDA2 40000 Mbps
Fail/Total: 0/4
Detail performance results: 
+----------+-------------+---------+------------+------------------------------+
| num_cpus | num_threads | txd/rxd | frame_size |  throughput difference from  |
|          |             |         |            |           expected           |
+==========+=============+=========+============+==============================+
| 1        | 2           | 512     | 64         | -1.2%                        |
+----------+-------------+---------+------------+------------------------------+
| 1        | 2           | 2048    | 64         | 2.7%                         |
+----------+-------------+---------+------------+------------------------------+
| 1        | 1           | 512     | 64         | 3.1%                         |
+----------+-------------+---------+------------+------------------------------+
| 1        | 1           | 2048    | 64         | -1.9%                        |
+----------+-------------+---------+------------+------------------------------+
Ubuntu 22.04
Kernel: 5.15
Compiler: gcc gcc (Ubuntu 11.4.0-1ubuntu1~22.04.2) 11.4.0
NIC: Intel E810 100000 Mbps
Fail/Total: 0/2
Detail performance results: 
+------------+---------+----------+-------------+------------------------------+
| frame_size | txd/rxd | num_cpus | num_threads |  throughput difference from  |
|            |         |          |             |           expected           |
+============+=========+==========+=============+==============================+
| 64         | 512     | 1        | 1           | 0.7%                         |
+------------+---------+----------+-------------+------------------------------+
| 64         | 2048    | 1        | 1           | 0.3%                         |
+------------+---------+----------+-------------+------------------------------+
Ubuntu 24.04
Kernel: 6.8
Compiler: gcc gcc (Ubuntu 13.3.0-6ubuntu2~24.04) 13.3.0
NIC: Intel E810 (Arm Grace Server) 100000 Mbps
Fail/Total: 0/2
Detail performance results: 
+------------+---------+----------+-------------+------------------------------+
| frame_size | txd/rxd | num_cpus | num_threads |  throughput difference from  |
|            |         |          |             |           expected           |
+============+=========+==========+=============+==============================+
| 64         | 512     | 1        | 1           | -3.4%                        |
+------------+---------+----------+-------------+------------------------------+
| 64         | 2048    | 1        | 1           | 0.0%                         |
+------------+---------+----------+-------------+------------------------------+
To view detailed results, visit:
https://lab.dpdk.org/results/dashboard/tarballs/35424/
UNH-IOL DPDK Community Lab
To manage your email subscriptions, visit: 
https://lab.dpdk.org/results/dashboard/preferences/subscriptions/
^ permalink raw reply	[flat|nested] 25+ messages in thread
* |SUCCESS| [GIT MASTER] 42105ccaeef093ad8c7ce11d1bde3652861b783b
@ 2025-11-03 15:50 dpdklab
  0 siblings, 0 replies; 25+ messages in thread
From: dpdklab @ 2025-11-03 15:50 UTC (permalink / raw)
  To: Test Report
  Cc: dpdk-test-reports, Xueming Li, Christian Ehrhardt, Kevin Traynor,
	Luca Boccassi
_Performance Testing PASS_
Branch: tags/v22.11
42105ccaeef093ad8c7ce11d1bde3652861b783b --> performance testing pass
Upstream job id: Template-DTS-Pipeline#252366
Test environment and result as below:
Ubuntu 24.04
Kernel: 6.8
Compiler: gcc gcc (Ubuntu 13.3.0-6ubuntu2~24.04) 13.3.0
NIC: Intel E810 (Arm Grace Server) 100000 Mbps
Fail/Total: 0/2
Detail performance results: 
+------------+---------+----------+-------------+------------------------------+
| frame_size | txd/rxd | num_cpus | num_threads |  throughput difference from  |
|            |         |          |             |           expected           |
+============+=========+==========+=============+==============================+
| 64         | 512     | 1        | 1           | -3.6%                        |
+------------+---------+----------+-------------+------------------------------+
| 64         | 2048    | 1        | 1           | -0.1%                        |
+------------+---------+----------+-------------+------------------------------+
Ubuntu 22.04
Kernel: 5.15
Compiler: gcc gcc (Ubuntu 11.4.0-1ubuntu1~22.04.2) 11.4.0
NIC: Intel E810 100000 Mbps
Fail/Total: 0/2
Detail performance results: 
+------------+---------+----------+-------------+------------------------------+
| frame_size | txd/rxd | num_cpus | num_threads |  throughput difference from  |
|            |         |          |             |           expected           |
+============+=========+==========+=============+==============================+
| 64         | 512     | 1        | 1           | -0.1%                        |
+------------+---------+----------+-------------+------------------------------+
| 64         | 2048    | 1        | 1           | -1.1%                        |
+------------+---------+----------+-------------+------------------------------+
Ubuntu 20.04
Kernel: 5.4
Compiler: gcc gcc (Ubuntu 9.4.0-1ubuntu1~20.04.1) 9.4.0
NIC: Intel Corporation Ethernet Converged Network Adapter XL710-QDA2 40000 Mbps
Fail/Total: 0/4
Detail performance results: 
+----------+-------------+---------+------------+------------------------------+
| num_cpus | num_threads | txd/rxd | frame_size |  throughput difference from  |
|          |             |         |            |           expected           |
+==========+=============+=========+============+==============================+
| 1        | 2           | 512     | 64         | 0.6%                         |
+----------+-------------+---------+------------+------------------------------+
| 1        | 2           | 2048    | 64         | -2.5%                        |
+----------+-------------+---------+------------+------------------------------+
| 1        | 1           | 512     | 64         | -4.6%                        |
+----------+-------------+---------+------------+------------------------------+
| 1        | 1           | 2048    | 64         | 1.8%                         |
+----------+-------------+---------+------------+------------------------------+
To view detailed results, visit:
https://lab.dpdk.org/results/dashboard/tarballs/35416/
UNH-IOL DPDK Community Lab
To manage your email subscriptions, visit: 
https://lab.dpdk.org/results/dashboard/preferences/subscriptions/
^ permalink raw reply	[flat|nested] 25+ messages in thread
* |SUCCESS| [GIT MASTER] 42105ccaeef093ad8c7ce11d1bde3652861b783b
@ 2025-11-03  9:39 dpdklab
  0 siblings, 0 replies; 25+ messages in thread
From: dpdklab @ 2025-11-03  9:39 UTC (permalink / raw)
  To: Test Report
  Cc: dpdk-test-reports, Xueming Li, Christian Ehrhardt, Kevin Traynor,
	Luca Boccassi
_Testing PASS_
Branch: tags/v22.11
42105ccaeef093ad8c7ce11d1bde3652861b783b --> testing pass
Upstream job id: Generic-DPDK-Compile-Meson#440133
Test environment and result as below:
+------------------------------+--------------------+
|         Environment          | dpdk_meson_compile |
+==============================+====================+
| CentOS Stream 9              | PASS               |
+------------------------------+--------------------+
| Ubuntu 20.04                 | PASS               |
+------------------------------+--------------------+
| Fedora Linux 42              | PASS               |
+------------------------------+--------------------+
| Debian GNU/Linux 12          | PASS               |
+------------------------------+--------------------+
| Ubuntu 24.04                 | PASS               |
+------------------------------+--------------------+
| Red Hat Enterprise Linux 9.5 | PASS               |
+------------------------------+--------------------+
| CentOS Stream 10             | PASS               |
+------------------------------+--------------------+
| Ubuntu 22.04                 | PASS               |
+------------------------------+--------------------+
CentOS Stream 9
	Kernel: 5.4
	Compiler: gcc gcc (GCC) 11.5.0 20240719 (Red Hat 11.5.0-11)
Ubuntu 20.04
	Kernel: 5.4
	Compiler: gcc gcc (Ubuntu 9.4.0-1ubuntu1~20.04.2) 9.4.0
Fedora Linux 42
	Kernel: 5.4
	Compiler: clang gcc (GCC) 15.2.1 20250808 (Red Hat 15.2.1-1)
Debian GNU/Linux 12
	Kernel: 5.4
	Compiler: gcc gcc (Debian 12.2.0-14+deb12u1) 12.2.0
Ubuntu 24.04
	Kernel: 5.4
	Compiler: gcc gcc (Ubuntu 13.3.0-6ubuntu2~24.04) 13.3.0
Red Hat Enterprise Linux 9.5
	Kernel: 5.4
	Compiler: gcc gcc (GCC) 11.5.0 20240719 (Red Hat 11.5.0-2)
CentOS Stream 10
	Kernel: 5.4
	Compiler: gcc gcc (GCC) 14.2.1 20250110 (Red Hat 14.2.1-8)
Ubuntu 22.04
	Kernel: 5.4
	Compiler: gcc gcc (Ubuntu 11.4.0-1ubuntu1~22.04) 11.4.0
To view detailed results, visit:
https://lab.dpdk.org/results/dashboard/tarballs/35431/
UNH-IOL DPDK Community Lab
To manage your email subscriptions, visit: 
https://lab.dpdk.org/results/dashboard/preferences/subscriptions/
^ permalink raw reply	[flat|nested] 25+ messages in thread
* |SUCCESS| [GIT MASTER] 42105ccaeef093ad8c7ce11d1bde3652861b783b
@ 2025-11-03  6:32 dpdklab
  0 siblings, 0 replies; 25+ messages in thread
From: dpdklab @ 2025-11-03  6:32 UTC (permalink / raw)
  To: Test Report
  Cc: dpdk-test-reports, Xueming Li, Christian Ehrhardt, Kevin Traynor,
	Luca Boccassi
_Functional Testing PASS_
Branch: tags/v22.11
42105ccaeef093ad8c7ce11d1bde3652861b783b --> functional testing pass
Upstream job id: Template-DTS-Pipeline#252565
Test environment and result as below:
Ubuntu 24.04
Kernel: 6.8
Compiler: gcc gcc (Ubuntu 13.3.0-6ubuntu2~24.04) 13.3.0
NIC: Intel Corporation 4xxx Series QAT 0 Mbps
Aggregate Results by Test Suite
+----------------------------+--------+
|         Test Suite         | Result |
+============================+========+
| crypto_perf_cryptodev_perf |  PASS  |
+----------------------------+--------+
Ubuntu 22.04
Kernel: 5.15
Compiler: gcc gcc (Ubuntu 11.4.0-1ubuntu1~22.04.2) 11.4.0
NIC: Intel Corporation QAT 8970 0 Mbps
Aggregate Results by Test Suite
+----------------------------+--------+
|         Test Suite         | Result |
+============================+========+
| crypto_perf_cryptodev_perf |  PASS  |
+----------------------------+--------+
Ubuntu 20.04
Kernel: 5.4
Compiler: gcc gcc (Ubuntu 9.4.0-1ubuntu1~20.04.1) 9.4.0
NIC: Intel Corporation Ethernet Converged Network Adapter XL710-QDA2 40000 Mbps
Aggregate Results by Test Suite
+-----------------------------+--------+
|         Test Suite          | Result |
+=============================+========+
| unit_tests_mbuf             |  PASS  |
+-----------------------------+--------+
| vhost_virtio_user_interrupt |  PASS  |
+-----------------------------+--------+
| virtio_smoke                |  PASS  |
+-----------------------------+--------+
To view detailed results, visit:
https://lab.dpdk.org/results/dashboard/tarballs/35431/
UNH-IOL DPDK Community Lab
To manage your email subscriptions, visit: 
https://lab.dpdk.org/results/dashboard/preferences/subscriptions/
^ permalink raw reply	[flat|nested] 25+ messages in thread
* |SUCCESS| [GIT MASTER] 42105ccaeef093ad8c7ce11d1bde3652861b783b
@ 2025-11-03  6:28 dpdklab
  0 siblings, 0 replies; 25+ messages in thread
From: dpdklab @ 2025-11-03  6:28 UTC (permalink / raw)
  To: Test Report
  Cc: dpdk-test-reports, Xueming Li, Christian Ehrhardt, Kevin Traynor,
	Luca Boccassi
_Testing PASS_
Branch: tags/v22.11
42105ccaeef093ad8c7ce11d1bde3652861b783b --> testing pass
Upstream job id: Generic-DPDK-Compile-Meson#440146
Test environment and result as below:
+-------------------------------+--------------------+-------------------------+----------------------+
|          Environment          | dpdk_meson_compile | dpdk_llvm_clang_compile | dpdk_mingw64_compile |
+===============================+====================+=========================+======================+
| Fedora Linux 42               | PASS               | SKIPPED                 | SKIPPED              |
+-------------------------------+--------------------+-------------------------+----------------------+
| Red Hat Enterprise Linux 8.10 | PASS               | SKIPPED                 | SKIPPED              |
+-------------------------------+--------------------+-------------------------+----------------------+
| CentOS Stream 10              | PASS               | SKIPPED                 | SKIPPED              |
+-------------------------------+--------------------+-------------------------+----------------------+
| Debian GNU/Linux 12           | PASS               | SKIPPED                 | SKIPPED              |
+-------------------------------+--------------------+-------------------------+----------------------+
| CentOS Stream 9               | PASS               | SKIPPED                 | SKIPPED              |
+-------------------------------+--------------------+-------------------------+----------------------+
| Red Hat Enterprise Linux 9.5  | PASS               | SKIPPED                 | SKIPPED              |
+-------------------------------+--------------------+-------------------------+----------------------+
| Ubuntu 20.04                  | PASS               | SKIPPED                 | SKIPPED              |
+-------------------------------+--------------------+-------------------------+----------------------+
| openSUSE Leap 15.6            | PASS               | SKIPPED                 | SKIPPED              |
+-------------------------------+--------------------+-------------------------+----------------------+
| FreeBSD 14.2                  | PASS               | SKIPPED                 | SKIPPED              |
+-------------------------------+--------------------+-------------------------+----------------------+
| Ubuntu 24.04                  | PASS               | SKIPPED                 | SKIPPED              |
+-------------------------------+--------------------+-------------------------+----------------------+
| Ubuntu 22.04                  | PASS               | SKIPPED                 | SKIPPED              |
+-------------------------------+--------------------+-------------------------+----------------------+
| Windows Server 2022           | SKIPPED            | PASS                    | PASS                 |
+-------------------------------+--------------------+-------------------------+----------------------+
Fedora Linux 42
	Kernel: 5.15
	Compiler: clang gcc (GCC) 15.2.1 20250808 (Red Hat 15.2.1-1)
Red Hat Enterprise Linux 8.10
	Kernel: 5.15
	Compiler: gcc gcc (GCC) 8.5.0 20210514 (Red Hat 8.5.0-22)
CentOS Stream 10
	Kernel: 5.15
	Compiler: gcc gcc (GCC) 14.2.1 20250110 (Red Hat 14.2.1-8)
Debian GNU/Linux 12
	Kernel: 5.15
	Compiler: gcc gcc (Debian 12.2.0-14+deb12u1) 12.2.0
CentOS Stream 9
	Kernel: 5.15
	Compiler: gcc gcc (GCC) 11.5.0 20240719 (Red Hat 11.5.0-11)
Red Hat Enterprise Linux 9.5
	Kernel: 5.15
	Compiler: gcc gcc (GCC) 11.5.0 20240719 (Red Hat 11.5.0-2)
Ubuntu 20.04
	Kernel: 4.19
	Compiler: gcc gcc (Ubuntu 9.4.0-1ubuntu1~20.04.2) 9.4.0
openSUSE Leap 15.6
	Kernel: 5.15
	Compiler: gcc gcc (SUSE Linux) 7.5.0
FreeBSD 14.2
	Kernel: 14.2-RELEASE
	Compiler: clang 18.1.6
Ubuntu 24.04
	Kernel: 5.15
	Compiler: gcc gcc (Ubuntu 13.3.0-6ubuntu2~24.04) 13.3.0
Ubuntu 22.04
	Kernel: 5.15
	Compiler: gcc gcc (Ubuntu 11.4.0-1ubuntu1~22.04) 11.4.0
Windows Server 2022
	Kernel: 10.0.20348.2031
	Compiler: clang 15.0.7, gcc 14.1.0 (MinGW), and MSVC VS 19.39.33521
To view detailed results, visit:
https://lab.dpdk.org/results/dashboard/tarballs/35431/
UNH-IOL DPDK Community Lab
To manage your email subscriptions, visit: 
https://lab.dpdk.org/results/dashboard/preferences/subscriptions/
^ permalink raw reply	[flat|nested] 25+ messages in thread
* |SUCCESS| [GIT MASTER] 42105ccaeef093ad8c7ce11d1bde3652861b783b
@ 2025-11-03  6:24 dpdklab
  0 siblings, 0 replies; 25+ messages in thread
From: dpdklab @ 2025-11-03  6:24 UTC (permalink / raw)
  To: Test Report
  Cc: dpdk-test-reports, Xueming Li, Christian Ehrhardt, Kevin Traynor,
	Luca Boccassi
_Functional Testing PASS_
Branch: tags/v22.11
42105ccaeef093ad8c7ce11d1bde3652861b783b --> functional testing pass
Upstream job id: Template-DTS-Pipeline#252563
Test environment and result as below:
Ubuntu 24.04
Kernel: 6.8
Compiler: gcc gcc (Ubuntu 13.3.0-6ubuntu2~24.04) 13.3.0
NIC: Intel Corporation 4xxx Series QAT 0 Mbps
Aggregate Results by Test Suite
+----------------------------+--------+
|         Test Suite         | Result |
+============================+========+
| crypto_perf_cryptodev_perf |  PASS  |
+----------------------------+--------+
Ubuntu 20.04
Kernel: 5.4
Compiler: gcc gcc (Ubuntu 9.4.0-1ubuntu1~20.04.1) 9.4.0
NIC: Intel Corporation Ethernet Converged Network Adapter XL710-QDA2 40000 Mbps
Aggregate Results by Test Suite
+-----------------------------+--------+
|         Test Suite          | Result |
+=============================+========+
| unit_tests_mbuf             |  PASS  |
+-----------------------------+--------+
| vhost_virtio_user_interrupt |  PASS  |
+-----------------------------+--------+
| virtio_smoke                |  PASS  |
+-----------------------------+--------+
To view detailed results, visit:
https://lab.dpdk.org/results/dashboard/tarballs/35431/
UNH-IOL DPDK Community Lab
To manage your email subscriptions, visit: 
https://lab.dpdk.org/results/dashboard/preferences/subscriptions/
^ permalink raw reply	[flat|nested] 25+ messages in thread
* |SUCCESS| [GIT MASTER] 42105ccaeef093ad8c7ce11d1bde3652861b783b
@ 2025-11-03  6:12 dpdklab
  0 siblings, 0 replies; 25+ messages in thread
From: dpdklab @ 2025-11-03  6:12 UTC (permalink / raw)
  To: Test Report
  Cc: dpdk-test-reports, Xueming Li, Christian Ehrhardt, Kevin Traynor,
	Luca Boccassi
_Testing PASS_
Branch: tags/v22.11
42105ccaeef093ad8c7ce11d1bde3652861b783b --> testing pass
Upstream job id: Generic-Unit-Test-DPDK#387902
Test environment and result as below:
+-----------------+--------------+------------------------------+---------------------------+----------------+
|   Environment   | lpm_autotest | cryptodev_sw_snow3g_autotest | cryptodev_sw_zuc_autotest | dpdk_unit_test |
+=================+==============+==============================+===========================+================+
| Ubuntu 20.04    | PASS         | SKIPPED                      | SKIPPED                   | SKIPPED        |
+-----------------+--------------+------------------------------+---------------------------+----------------+
| Debian 12 (arm) | SKIPPED      | PASS                         | PASS                      | SKIPPED        |
+-----------------+--------------+------------------------------+---------------------------+----------------+
| Ubuntu 22.04    | SKIPPED      | SKIPPED                      | SKIPPED                   | PASS           |
+-----------------+--------------+------------------------------+---------------------------+----------------+
Ubuntu 20.04
	Kernel: 5.4
	Compiler: gcc gcc (Ubuntu 9.4.0-1ubuntu1~20.04.2) 9.4.0
Debian 12 (arm)
	Kernel: Depends on container host
	Compiler: gcc (Debian 12.2.0-14) 12.2.0
Ubuntu 22.04
	Kernel: 5.15
	Compiler: gcc gcc (Ubuntu 11.4.0-1ubuntu1~22.04.2) 11.4.0
To view detailed results, visit:
https://lab.dpdk.org/results/dashboard/tarballs/35431/
UNH-IOL DPDK Community Lab
To manage your email subscriptions, visit: 
https://lab.dpdk.org/results/dashboard/preferences/subscriptions/
^ permalink raw reply	[flat|nested] 25+ messages in thread
* |SUCCESS| [GIT MASTER] 42105ccaeef093ad8c7ce11d1bde3652861b783b
@ 2025-11-03  5:32 dpdklab
  0 siblings, 0 replies; 25+ messages in thread
From: dpdklab @ 2025-11-03  5:32 UTC (permalink / raw)
  To: Test Report
  Cc: dpdk-test-reports, Xueming Li, Christian Ehrhardt, Kevin Traynor,
	Luca Boccassi
_Performance Testing PASS_
Branch: tags/v22.11
42105ccaeef093ad8c7ce11d1bde3652861b783b --> performance testing pass
Upstream job id: Template-DTS-Pipeline#252561
Test environment and result as below:
Ubuntu 22.04
Kernel: 5.15
Compiler: gcc gcc (Ubuntu 11.4.0-1ubuntu1~22.04) 11.4.0
NIC: Broadcom Inc. and subsidiaries BCM57414 NetXtreme-E 10Gb/25Gb RDMA Ethernet Controller 16d7 25 Mbps
Fail/Total: 0/3
Detail performance results: 
+------------+---------+----------+-------------+------------------------------+
| frame_size | txd/rxd | num_cpus | num_threads |  throughput difference from  |
|            |         |          |             |           expected           |
+============+=========+==========+=============+==============================+
| 64         | 128     | 1        | 1           | 0.7%                         |
+------------+---------+----------+-------------+------------------------------+
| 64         | 512     | 1        | 1           | 0.8%                         |
+------------+---------+----------+-------------+------------------------------+
| 64         | 2048    | 1        | 1           | -3.1%                        |
+------------+---------+----------+-------------+------------------------------+
Ubuntu 22.04
Kernel: 5.15
Compiler: gcc gcc (Ubuntu 11.4.0-1ubuntu1~22.04.2) 11.4.0
NIC: Arm Broadcom Inc. brcm_57414 25000 Mbps
Fail/Total: 0/2
Detail performance results: 
+------------+---------+----------+-------------+------------------------------+
| frame_size | txd/rxd | num_cpus | num_threads |  throughput difference from  |
|            |         |          |             |           expected           |
+============+=========+==========+=============+==============================+
| 64         | 512     | 1        | 1           | 0.3%                         |
+------------+---------+----------+-------------+------------------------------+
| 64         | 2048    | 1        | 1           | -0.1%                        |
+------------+---------+----------+-------------+------------------------------+
To view detailed results, visit:
https://lab.dpdk.org/results/dashboard/tarballs/35431/
UNH-IOL DPDK Community Lab
To manage your email subscriptions, visit: 
https://lab.dpdk.org/results/dashboard/preferences/subscriptions/
^ permalink raw reply	[flat|nested] 25+ messages in thread
* |SUCCESS| [GIT MASTER] 42105ccaeef093ad8c7ce11d1bde3652861b783b
@ 2025-11-03  5:28 dpdklab
  0 siblings, 0 replies; 25+ messages in thread
From: dpdklab @ 2025-11-03  5:28 UTC (permalink / raw)
  To: Ali Alnubani, Test Report
  Cc: dpdk-test-reports, Xueming Li, Christian Ehrhardt, Kevin Traynor,
	Luca Boccassi
_Performance Testing PASS_
Branch: tags/v22.11
42105ccaeef093ad8c7ce11d1bde3652861b783b --> performance testing pass
Upstream job id: Template-DTS-Pipeline#252557
Test environment and result as below:
Ubuntu 24.04
Kernel: 6.8
Compiler: gcc gcc (Ubuntu 13.3.0-6ubuntu2~24.04) 13.3.0
NIC: NVIDIA Mellanox ConnectX-7 100000 Mbps
Fail/Total: 0/6
Detail performance results: 
+------------+---------+----------+-------------+------------------------------+
| frame_size | txd/rxd | num_cpus | num_threads |  throughput difference from  |
|            |         |          |             |           expected           |
+============+=========+==========+=============+==============================+
| 64         | 1024    | 1        | 1           | -0.2%                        |
+------------+---------+----------+-------------+------------------------------+
| 128        | 1024    | 1        | 1           | -0.7%                        |
+------------+---------+----------+-------------+------------------------------+
| 256        | 1024    | 1        | 1           | 0.3%                         |
+------------+---------+----------+-------------+------------------------------+
| 512        | 1024    | 1        | 1           | -0.1%                        |
+------------+---------+----------+-------------+------------------------------+
| 1024       | 1024    | 1        | 1           | 0.1%                         |
+------------+---------+----------+-------------+------------------------------+
| 1518       | 1024    | 1        | 1           | -0.0%                        |
+------------+---------+----------+-------------+------------------------------+
Ubuntu 24.04
Kernel: 6.8
Compiler: gcc gcc (Ubuntu 13.3.0-6ubuntu2~24.04) 13.3.0
NIC: Mellanox ConnectX-6 Lx 25000 Mbps
Fail/Total: 0/6
Detail performance results: 
+------------+---------+----------+-------------+------------------------------+
| frame_size | txd/rxd | num_cpus | num_threads |  throughput difference from  |
|            |         |          |             |           expected           |
+============+=========+==========+=============+==============================+
| 64         | 1024    | 1        | 1           | 0.0%                         |
+------------+---------+----------+-------------+------------------------------+
| 128        | 1024    | 1        | 1           | 0.1%                         |
+------------+---------+----------+-------------+------------------------------+
| 256        | 1024    | 1        | 1           | 0.1%                         |
+------------+---------+----------+-------------+------------------------------+
| 512        | 1024    | 1        | 1           | -0.1%                        |
+------------+---------+----------+-------------+------------------------------+
| 1024       | 1024    | 1        | 1           | 0.2%                         |
+------------+---------+----------+-------------+------------------------------+
| 1518       | 1024    | 1        | 1           | -0.1%                        |
+------------+---------+----------+-------------+------------------------------+
To view detailed results, visit:
https://lab.dpdk.org/results/dashboard/tarballs/35431/
UNH-IOL DPDK Community Lab
To manage your email subscriptions, visit: 
https://lab.dpdk.org/results/dashboard/preferences/subscriptions/
^ permalink raw reply	[flat|nested] 25+ messages in thread
* |SUCCESS| [GIT MASTER] 42105ccaeef093ad8c7ce11d1bde3652861b783b
@ 2025-11-03  5:20 dpdklab
  0 siblings, 0 replies; 25+ messages in thread
From: dpdklab @ 2025-11-03  5:20 UTC (permalink / raw)
  To: Test Report
  Cc: dpdk-test-reports, Xueming Li, Christian Ehrhardt, Kevin Traynor,
	Luca Boccassi
_Functional Testing PASS_
Branch: tags/v22.11
42105ccaeef093ad8c7ce11d1bde3652861b783b --> functional testing pass
Upstream job id: Template-DTS-Pipeline#252569
Test environment and result as below:
Ubuntu 24.04
Kernel: 6.8
Compiler: gcc gcc (Ubuntu 13.3.0-6ubuntu2~24.04) 13.3.0
NIC: Intel Corporation 4xxx Series QAT 0 Mbps
Aggregate Results by Test Suite
+----------------------------+--------+
|         Test Suite         | Result |
+============================+========+
| crypto_perf_cryptodev_perf |  PASS  |
+----------------------------+--------+
To view detailed results, visit:
https://lab.dpdk.org/results/dashboard/tarballs/35431/
UNH-IOL DPDK Community Lab
To manage your email subscriptions, visit: 
https://lab.dpdk.org/results/dashboard/preferences/subscriptions/
^ permalink raw reply	[flat|nested] 25+ messages in thread
* |SUCCESS| [GIT MASTER] 42105ccaeef093ad8c7ce11d1bde3652861b783b
@ 2025-11-02  8:03 dpdklab
  0 siblings, 0 replies; 25+ messages in thread
From: dpdklab @ 2025-11-02  8:03 UTC (permalink / raw)
  To: Test Report
  Cc: dpdk-test-reports, Xueming Li, Christian Ehrhardt, Kevin Traynor,
	Luca Boccassi
_Testing PASS_
Branch: tags/v22.11
42105ccaeef093ad8c7ce11d1bde3652861b783b --> testing pass
Upstream job id: Generic-DPDK-Compile-Meson#439965
Test environment and result as below:
+------------------------------+--------------------+
|         Environment          | dpdk_meson_compile |
+==============================+====================+
| Ubuntu 20.04                 | PASS               |
+------------------------------+--------------------+
| Debian GNU/Linux 12          | PASS               |
+------------------------------+--------------------+
| Red Hat Enterprise Linux 9.5 | PASS               |
+------------------------------+--------------------+
| CentOS Stream 10             | PASS               |
+------------------------------+--------------------+
| Ubuntu 22.04                 | PASS               |
+------------------------------+--------------------+
| CentOS Stream 9              | PASS               |
+------------------------------+--------------------+
| Fedora Linux 42              | PASS               |
+------------------------------+--------------------+
| Ubuntu 24.04                 | PASS               |
+------------------------------+--------------------+
Ubuntu 20.04
	Kernel: 5.4
	Compiler: gcc gcc (Ubuntu 9.4.0-1ubuntu1~20.04.2) 9.4.0
Debian GNU/Linux 12
	Kernel: 5.4
	Compiler: gcc gcc (Debian 12.2.0-14+deb12u1) 12.2.0
Red Hat Enterprise Linux 9.5
	Kernel: 5.4
	Compiler: gcc gcc (GCC) 11.5.0 20240719 (Red Hat 11.5.0-2)
CentOS Stream 10
	Kernel: 5.4
	Compiler: gcc gcc (GCC) 14.2.1 20250110 (Red Hat 14.2.1-8)
Ubuntu 22.04
	Kernel: 5.4
	Compiler: gcc gcc (Ubuntu 11.4.0-1ubuntu1~22.04) 11.4.0
CentOS Stream 9
	Kernel: 5.4
	Compiler: gcc gcc (GCC) 11.5.0 20240719 (Red Hat 11.5.0-11)
Fedora Linux 42
	Kernel: 5.4
	Compiler: gcc gcc (GCC) 15.2.1 20250808 (Red Hat 15.2.1-1)
Ubuntu 24.04
	Kernel: 5.4
	Compiler: gcc gcc (Ubuntu 13.3.0-6ubuntu2~24.04) 13.3.0
To view detailed results, visit:
https://lab.dpdk.org/results/dashboard/tarballs/35424/
UNH-IOL DPDK Community Lab
To manage your email subscriptions, visit: 
https://lab.dpdk.org/results/dashboard/preferences/subscriptions/
^ permalink raw reply	[flat|nested] 25+ messages in thread
* |SUCCESS| [GIT MASTER] 42105ccaeef093ad8c7ce11d1bde3652861b783b
@ 2025-11-02  6:27 dpdklab
  0 siblings, 0 replies; 25+ messages in thread
From: dpdklab @ 2025-11-02  6:27 UTC (permalink / raw)
  To: Test Report
  Cc: dpdk-test-reports, Xueming Li, Christian Ehrhardt, Kevin Traynor,
	Luca Boccassi
_Functional Testing PASS_
Branch: tags/v22.11
42105ccaeef093ad8c7ce11d1bde3652861b783b --> functional testing pass
Upstream job id: Template-DTS-Pipeline#252495
Test environment and result as below:
Ubuntu 24.04
Kernel: 6.8
Compiler: gcc gcc (Ubuntu 13.3.0-6ubuntu2~24.04) 13.3.0
NIC: Intel Corporation 4xxx Series QAT 0 Mbps
Aggregate Results by Test Suite
+----------------------------+--------+
|         Test Suite         | Result |
+============================+========+
| crypto_perf_cryptodev_perf |  PASS  |
+----------------------------+--------+
Ubuntu 22.04
Kernel: 5.15
Compiler: gcc gcc (Ubuntu 11.4.0-1ubuntu1~22.04.2) 11.4.0
NIC: Intel Corporation QAT 8970 0 Mbps
Aggregate Results by Test Suite
+----------------------------+--------+
|         Test Suite         | Result |
+============================+========+
| crypto_perf_cryptodev_perf |  PASS  |
+----------------------------+--------+
Ubuntu 20.04
Kernel: 5.4
Compiler: gcc gcc (Ubuntu 9.4.0-1ubuntu1~20.04.1) 9.4.0
NIC: Intel Corporation Ethernet Converged Network Adapter XL710-QDA2 40000 Mbps
Aggregate Results by Test Suite
+-----------------------------+--------+
|         Test Suite          | Result |
+=============================+========+
| unit_tests_mbuf             |  PASS  |
+-----------------------------+--------+
| vhost_virtio_user_interrupt |  PASS  |
+-----------------------------+--------+
| virtio_smoke                |  PASS  |
+-----------------------------+--------+
To view detailed results, visit:
https://lab.dpdk.org/results/dashboard/tarballs/35424/
UNH-IOL DPDK Community Lab
To manage your email subscriptions, visit: 
https://lab.dpdk.org/results/dashboard/preferences/subscriptions/
^ permalink raw reply	[flat|nested] 25+ messages in thread
* |SUCCESS| [GIT MASTER] 42105ccaeef093ad8c7ce11d1bde3652861b783b
@ 2025-11-02  6:07 dpdklab
  0 siblings, 0 replies; 25+ messages in thread
From: dpdklab @ 2025-11-02  6:07 UTC (permalink / raw)
  To: Test Report
  Cc: dpdk-test-reports, Xueming Li, Christian Ehrhardt, Kevin Traynor,
	Luca Boccassi
_Performance Testing PASS_
Branch: tags/v22.11
42105ccaeef093ad8c7ce11d1bde3652861b783b --> performance testing pass
Upstream job id: Template-DTS-Pipeline#252491
Test environment and result as below:
Ubuntu 22.04
Kernel: 5.15
Compiler: gcc gcc (Ubuntu 11.4.0-1ubuntu1~22.04.2) 11.4.0
NIC: Arm Broadcom Inc. brcm_57414 25000 Mbps
Fail/Total: 0/2
Detail performance results: 
+------------+---------+----------+-------------+------------------------------+
| frame_size | txd/rxd | num_cpus | num_threads |  throughput difference from  |
|            |         |          |             |           expected           |
+============+=========+==========+=============+==============================+
| 64         | 512     | 1        | 1           | -0.4%                        |
+------------+---------+----------+-------------+------------------------------+
| 64         | 2048    | 1        | 1           | 0.0%                         |
+------------+---------+----------+-------------+------------------------------+
Ubuntu 22.04
Kernel: 5.15
Compiler: gcc gcc (Ubuntu 11.4.0-1ubuntu1~22.04) 11.4.0
NIC: Broadcom Inc. and subsidiaries BCM57414 NetXtreme-E 10Gb/25Gb RDMA Ethernet Controller 16d7 25 Mbps
Fail/Total: 0/3
Detail performance results: 
+------------+---------+----------+-------------+------------------------------+
| frame_size | txd/rxd | num_cpus | num_threads |  throughput difference from  |
|            |         |          |             |           expected           |
+============+=========+==========+=============+==============================+
| 64         | 128     | 1        | 1           | -0.9%                        |
+------------+---------+----------+-------------+------------------------------+
| 64         | 512     | 1        | 1           | -1.0%                        |
+------------+---------+----------+-------------+------------------------------+
| 64         | 2048    | 1        | 1           | 3.2%                         |
+------------+---------+----------+-------------+------------------------------+
To view detailed results, visit:
https://lab.dpdk.org/results/dashboard/tarballs/35424/
UNH-IOL DPDK Community Lab
To manage your email subscriptions, visit: 
https://lab.dpdk.org/results/dashboard/preferences/subscriptions/
^ permalink raw reply	[flat|nested] 25+ messages in thread
* |SUCCESS| [GIT MASTER] 42105ccaeef093ad8c7ce11d1bde3652861b783b
@ 2025-11-02  5:24 dpdklab
  0 siblings, 0 replies; 25+ messages in thread
From: dpdklab @ 2025-11-02  5:24 UTC (permalink / raw)
  To: Test Report
  Cc: dpdk-test-reports, Xueming Li, Christian Ehrhardt, Kevin Traynor,
	Luca Boccassi
_Functional Testing PASS_
Branch: tags/v22.11
42105ccaeef093ad8c7ce11d1bde3652861b783b --> functional testing pass
Upstream job id: Template-DTS-Pipeline#252493
Test environment and result as below:
Ubuntu 24.04
Kernel: 6.8
Compiler: gcc gcc (Ubuntu 13.3.0-6ubuntu2~24.04) 13.3.0
NIC: Intel Corporation 4xxx Series QAT 0 Mbps
Aggregate Results by Test Suite
+----------------------------+--------+
|         Test Suite         | Result |
+============================+========+
| crypto_perf_cryptodev_perf |  PASS  |
+----------------------------+--------+
Ubuntu 20.04
Kernel: 5.4
Compiler: gcc gcc (Ubuntu 9.4.0-1ubuntu1~20.04.1) 9.4.0
NIC: Intel Corporation Ethernet Converged Network Adapter XL710-QDA2 40000 Mbps
Aggregate Results by Test Suite
+-----------------------------+--------+
|         Test Suite          | Result |
+=============================+========+
| unit_tests_mbuf             |  PASS  |
+-----------------------------+--------+
| vhost_virtio_user_interrupt |  PASS  |
+-----------------------------+--------+
| virtio_smoke                |  PASS  |
+-----------------------------+--------+
To view detailed results, visit:
https://lab.dpdk.org/results/dashboard/tarballs/35424/
UNH-IOL DPDK Community Lab
To manage your email subscriptions, visit: 
https://lab.dpdk.org/results/dashboard/preferences/subscriptions/
^ permalink raw reply	[flat|nested] 25+ messages in thread
* |SUCCESS| [GIT MASTER] 42105ccaeef093ad8c7ce11d1bde3652861b783b
@ 2025-11-02  5:17 dpdklab
  0 siblings, 0 replies; 25+ messages in thread
From: dpdklab @ 2025-11-02  5:17 UTC (permalink / raw)
  To: Test Report
  Cc: dpdk-test-reports, Xueming Li, Christian Ehrhardt, Kevin Traynor,
	Luca Boccassi
_Testing PASS_
Branch: tags/v22.11
42105ccaeef093ad8c7ce11d1bde3652861b783b --> testing pass
Upstream job id: Generic-DPDK-Compile-Meson#439954
Test environment and result as below:
+-------------------------------+--------------------+-------------------------+----------------------+
|          Environment          | dpdk_meson_compile | dpdk_llvm_clang_compile | dpdk_mingw64_compile |
+===============================+====================+=========================+======================+
| FreeBSD 14.2                  | PASS               | SKIPPED                 | SKIPPED              |
+-------------------------------+--------------------+-------------------------+----------------------+
| Ubuntu 20.04                  | PASS               | SKIPPED                 | SKIPPED              |
+-------------------------------+--------------------+-------------------------+----------------------+
| Fedora Linux 42               | PASS               | SKIPPED                 | SKIPPED              |
+-------------------------------+--------------------+-------------------------+----------------------+
| CentOS Stream 9               | PASS               | SKIPPED                 | SKIPPED              |
+-------------------------------+--------------------+-------------------------+----------------------+
| CentOS Stream 10              | PASS               | SKIPPED                 | SKIPPED              |
+-------------------------------+--------------------+-------------------------+----------------------+
| Debian GNU/Linux 12           | PASS               | SKIPPED                 | SKIPPED              |
+-------------------------------+--------------------+-------------------------+----------------------+
| openSUSE Leap 15.6            | PASS               | SKIPPED                 | SKIPPED              |
+-------------------------------+--------------------+-------------------------+----------------------+
| Ubuntu 22.04                  | PASS               | SKIPPED                 | SKIPPED              |
+-------------------------------+--------------------+-------------------------+----------------------+
| Red Hat Enterprise Linux 9.5  | PASS               | SKIPPED                 | SKIPPED              |
+-------------------------------+--------------------+-------------------------+----------------------+
| Red Hat Enterprise Linux 8.10 | PASS               | SKIPPED                 | SKIPPED              |
+-------------------------------+--------------------+-------------------------+----------------------+
| Ubuntu 24.04                  | PASS               | SKIPPED                 | SKIPPED              |
+-------------------------------+--------------------+-------------------------+----------------------+
| Windows Server 2022           | SKIPPED            | PASS                    | PASS                 |
+-------------------------------+--------------------+-------------------------+----------------------+
FreeBSD 14.2
	Kernel: 14.2-RELEASE
	Compiler: clang 18.1.6
Ubuntu 20.04
	Kernel: 4.19
	Compiler: gcc gcc (Ubuntu 9.4.0-1ubuntu1~20.04.2) 9.4.0
Fedora Linux 42
	Kernel: 5.15
	Compiler: clang gcc (GCC) 15.2.1 20250808 (Red Hat 15.2.1-1)
CentOS Stream 9
	Kernel: 5.15
	Compiler: gcc gcc (GCC) 11.5.0 20240719 (Red Hat 11.5.0-11)
CentOS Stream 10
	Kernel: 5.15
	Compiler: gcc gcc (GCC) 14.2.1 20250110 (Red Hat 14.2.1-8)
Debian GNU/Linux 12
	Kernel: 5.15
	Compiler: gcc gcc (Debian 12.2.0-14+deb12u1) 12.2.0
openSUSE Leap 15.6
	Kernel: 5.15
	Compiler: gcc gcc (SUSE Linux) 7.5.0
Ubuntu 22.04
	Kernel: 5.15
	Compiler: gcc gcc (Ubuntu 11.4.0-1ubuntu1~22.04) 11.4.0
Red Hat Enterprise Linux 9.5
	Kernel: 5.15
	Compiler: gcc gcc (GCC) 11.5.0 20240719 (Red Hat 11.5.0-2)
Red Hat Enterprise Linux 8.10
	Kernel: 5.15
	Compiler: gcc gcc (GCC) 8.5.0 20210514 (Red Hat 8.5.0-22)
Ubuntu 24.04
	Kernel: 5.15
	Compiler: gcc gcc (Ubuntu 13.3.0-6ubuntu2~24.04) 13.3.0
Windows Server 2022
	Kernel: 10.0.20348.2031
	Compiler: clang 15.0.7, gcc 14.1.0 (MinGW), and MSVC VS 19.39.33521
To view detailed results, visit:
https://lab.dpdk.org/results/dashboard/tarballs/35424/
UNH-IOL DPDK Community Lab
To manage your email subscriptions, visit: 
https://lab.dpdk.org/results/dashboard/preferences/subscriptions/
^ permalink raw reply	[flat|nested] 25+ messages in thread
* |SUCCESS| [GIT MASTER] 42105ccaeef093ad8c7ce11d1bde3652861b783b
@ 2025-11-02  4:52 dpdklab
  0 siblings, 0 replies; 25+ messages in thread
From: dpdklab @ 2025-11-02  4:52 UTC (permalink / raw)
  To: Test Report
  Cc: dpdk-test-reports, Xueming Li, Christian Ehrhardt, Kevin Traynor,
	Luca Boccassi
_Functional Testing PASS_
Branch: tags/v22.11
42105ccaeef093ad8c7ce11d1bde3652861b783b --> functional testing pass
Upstream job id: Template-DTS-Pipeline#252499
Test environment and result as below:
Ubuntu 24.04
Kernel: 6.8
Compiler: gcc gcc (Ubuntu 13.3.0-6ubuntu2~24.04) 13.3.0
NIC: Intel Corporation 4xxx Series QAT 0 Mbps
Aggregate Results by Test Suite
+----------------------------+--------+
|         Test Suite         | Result |
+============================+========+
| crypto_perf_cryptodev_perf |  PASS  |
+----------------------------+--------+
To view detailed results, visit:
https://lab.dpdk.org/results/dashboard/tarballs/35424/
UNH-IOL DPDK Community Lab
To manage your email subscriptions, visit: 
https://lab.dpdk.org/results/dashboard/preferences/subscriptions/
^ permalink raw reply	[flat|nested] 25+ messages in thread
* |SUCCESS| [GIT MASTER] 42105ccaeef093ad8c7ce11d1bde3652861b783b
@ 2025-11-01 10:02 dpdklab
  0 siblings, 0 replies; 25+ messages in thread
From: dpdklab @ 2025-11-01 10:02 UTC (permalink / raw)
  To: Test Report
  Cc: dpdk-test-reports, Xueming Li, Christian Ehrhardt, Kevin Traynor,
	Luca Boccassi
_Testing PASS_
Branch: tags/v22.11
42105ccaeef093ad8c7ce11d1bde3652861b783b --> testing pass
Upstream job id: Generic-DPDK-Compile-Meson#439757
Test environment and result as below:
+------------------------------+--------------------+
|         Environment          | dpdk_meson_compile |
+==============================+====================+
| Ubuntu 20.04                 | PASS               |
+------------------------------+--------------------+
| Debian GNU/Linux 12          | PASS               |
+------------------------------+--------------------+
| CentOS Stream 9              | PASS               |
+------------------------------+--------------------+
| CentOS Stream 10             | PASS               |
+------------------------------+--------------------+
| Ubuntu 22.04                 | PASS               |
+------------------------------+--------------------+
| Red Hat Enterprise Linux 9.5 | PASS               |
+------------------------------+--------------------+
| Fedora Linux 42              | PASS               |
+------------------------------+--------------------+
| Ubuntu 24.04                 | PASS               |
+------------------------------+--------------------+
Ubuntu 20.04
	Kernel: 5.15
	Compiler: aarch64-linux-gnu-gcc gcc (Ubuntu 9.4.0-1ubuntu1~20.04.2) 9.4.0
Debian GNU/Linux 12
	Kernel: 5.4
	Compiler: gcc gcc (Debian 12.2.0-14+deb12u1) 12.2.0
CentOS Stream 9
	Kernel: 5.4
	Compiler: gcc gcc (GCC) 11.5.0 20240719 (Red Hat 11.5.0-11)
CentOS Stream 10
	Kernel: 5.4
	Compiler: gcc gcc (GCC) 14.2.1 20250110 (Red Hat 14.2.1-8)
Ubuntu 22.04
	Kernel: 5.4
	Compiler: gcc gcc (Ubuntu 11.4.0-1ubuntu1~22.04) 11.4.0
Red Hat Enterprise Linux 9.5
	Kernel: 5.4
	Compiler: gcc gcc (GCC) 11.5.0 20240719 (Red Hat 11.5.0-2)
Fedora Linux 42
	Kernel: 5.4
	Compiler: gcc gcc (GCC) 15.2.1 20250808 (Red Hat 15.2.1-1)
Ubuntu 24.04
	Kernel: 5.4
	Compiler: gcc gcc (Ubuntu 13.3.0-6ubuntu2~24.04) 13.3.0
To view detailed results, visit:
https://lab.dpdk.org/results/dashboard/tarballs/35416/
UNH-IOL DPDK Community Lab
To manage your email subscriptions, visit: 
https://lab.dpdk.org/results/dashboard/preferences/subscriptions/
^ permalink raw reply	[flat|nested] 25+ messages in thread
* |SUCCESS| [GIT MASTER] 42105ccaeef093ad8c7ce11d1bde3652861b783b
@ 2025-11-01  6:05 dpdklab
  0 siblings, 0 replies; 25+ messages in thread
From: dpdklab @ 2025-11-01  6:05 UTC (permalink / raw)
  To: Test Report
  Cc: dpdk-test-reports, Xueming Li, Christian Ehrhardt, Kevin Traynor,
	Luca Boccassi
_Functional Testing PASS_
Branch: tags/v22.11
42105ccaeef093ad8c7ce11d1bde3652861b783b --> functional testing pass
Upstream job id: Template-DTS-Pipeline#252369
Test environment and result as below:
Ubuntu 24.04
Kernel: 6.8
Compiler: gcc gcc (Ubuntu 13.3.0-6ubuntu2~24.04) 13.3.0
NIC: Intel Corporation 4xxx Series QAT 0 Mbps
Aggregate Results by Test Suite
+----------------------------+--------+
|         Test Suite         | Result |
+============================+========+
| crypto_perf_cryptodev_perf |  PASS  |
+----------------------------+--------+
Ubuntu 22.04
Kernel: 5.15
Compiler: gcc gcc (Ubuntu 11.4.0-1ubuntu1~22.04.2) 11.4.0
NIC: Intel Corporation QAT 8970 0 Mbps
Aggregate Results by Test Suite
+----------------------------+--------+
|         Test Suite         | Result |
+============================+========+
| crypto_perf_cryptodev_perf |  PASS  |
+----------------------------+--------+
Ubuntu 20.04
Kernel: 5.4
Compiler: gcc gcc (Ubuntu 9.4.0-1ubuntu1~20.04.1) 9.4.0
NIC: Intel Corporation Ethernet Converged Network Adapter XL710-QDA2 40000 Mbps
Aggregate Results by Test Suite
+-----------------------------+--------+
|         Test Suite          | Result |
+=============================+========+
| unit_tests_mbuf             |  PASS  |
+-----------------------------+--------+
| vhost_virtio_user_interrupt |  PASS  |
+-----------------------------+--------+
| virtio_smoke                |  PASS  |
+-----------------------------+--------+
To view detailed results, visit:
https://lab.dpdk.org/results/dashboard/tarballs/35416/
UNH-IOL DPDK Community Lab
To manage your email subscriptions, visit: 
https://lab.dpdk.org/results/dashboard/preferences/subscriptions/
^ permalink raw reply	[flat|nested] 25+ messages in thread
* |SUCCESS| [GIT MASTER] 42105ccaeef093ad8c7ce11d1bde3652861b783b
@ 2025-11-01  5:49 dpdklab
  0 siblings, 0 replies; 25+ messages in thread
From: dpdklab @ 2025-11-01  5:49 UTC (permalink / raw)
  To: Test Report
  Cc: dpdk-test-reports, Xueming Li, Christian Ehrhardt, Kevin Traynor,
	Luca Boccassi
_Testing PASS_
Branch: tags/v22.11
42105ccaeef093ad8c7ce11d1bde3652861b783b --> testing pass
Upstream job id: Generic-DPDK-Compile-Meson#439745
Test environment and result as below:
+-------------------------------+--------------------+-------------------------+----------------------+
|          Environment          | dpdk_meson_compile | dpdk_llvm_clang_compile | dpdk_mingw64_compile |
+===============================+====================+=========================+======================+
| FreeBSD 14.2                  | PASS               | SKIPPED                 | SKIPPED              |
+-------------------------------+--------------------+-------------------------+----------------------+
| Ubuntu 20.04                  | PASS               | SKIPPED                 | SKIPPED              |
+-------------------------------+--------------------+-------------------------+----------------------+
| Fedora Linux 42               | PASS               | SKIPPED                 | SKIPPED              |
+-------------------------------+--------------------+-------------------------+----------------------+
| CentOS Stream 9               | PASS               | SKIPPED                 | SKIPPED              |
+-------------------------------+--------------------+-------------------------+----------------------+
| Debian GNU/Linux 12           | PASS               | SKIPPED                 | SKIPPED              |
+-------------------------------+--------------------+-------------------------+----------------------+
| openSUSE Leap 15.6            | PASS               | SKIPPED                 | SKIPPED              |
+-------------------------------+--------------------+-------------------------+----------------------+
| CentOS Stream 10              | PASS               | SKIPPED                 | SKIPPED              |
+-------------------------------+--------------------+-------------------------+----------------------+
| Ubuntu 22.04                  | PASS               | SKIPPED                 | SKIPPED              |
+-------------------------------+--------------------+-------------------------+----------------------+
| Red Hat Enterprise Linux 8.10 | PASS               | SKIPPED                 | SKIPPED              |
+-------------------------------+--------------------+-------------------------+----------------------+
| Ubuntu 24.04                  | PASS               | SKIPPED                 | SKIPPED              |
+-------------------------------+--------------------+-------------------------+----------------------+
| Red Hat Enterprise Linux 9.5  | PASS               | SKIPPED                 | SKIPPED              |
+-------------------------------+--------------------+-------------------------+----------------------+
| Windows Server 2022           | SKIPPED            | PASS                    | PASS                 |
+-------------------------------+--------------------+-------------------------+----------------------+
FreeBSD 14.2
	Kernel: 14.2-RELEASE
	Compiler: clang 18.1.6
Ubuntu 20.04
	Kernel: 4.19
	Compiler: gcc gcc (Ubuntu 9.4.0-1ubuntu1~20.04.2) 9.4.0
Fedora Linux 42
	Kernel: 5.15
	Compiler: clang gcc (GCC) 15.2.1 20250808 (Red Hat 15.2.1-1)
CentOS Stream 9
	Kernel: 5.15
	Compiler: gcc gcc (GCC) 11.5.0 20240719 (Red Hat 11.5.0-11)
Debian GNU/Linux 12
	Kernel: 5.15
	Compiler: gcc gcc (Debian 12.2.0-14+deb12u1) 12.2.0
openSUSE Leap 15.6
	Kernel: 5.15
	Compiler: gcc gcc (SUSE Linux) 7.5.0
CentOS Stream 10
	Kernel: 5.15
	Compiler: gcc gcc (GCC) 14.2.1 20250110 (Red Hat 14.2.1-8)
Ubuntu 22.04
	Kernel: 5.15
	Compiler: gcc gcc (Ubuntu 11.4.0-1ubuntu1~22.04) 11.4.0
Red Hat Enterprise Linux 8.10
	Kernel: 5.15
	Compiler: gcc gcc (GCC) 8.5.0 20210514 (Red Hat 8.5.0-22)
Ubuntu 24.04
	Kernel: 5.15
	Compiler: gcc gcc (Ubuntu 13.3.0-6ubuntu2~24.04) 13.3.0
Red Hat Enterprise Linux 9.5
	Kernel: 5.15
	Compiler: gcc gcc (GCC) 11.5.0 20240719 (Red Hat 11.5.0-2)
Windows Server 2022
	Kernel: 10.0.20348.2031
	Compiler: clang 15.0.7, gcc 14.1.0 (MinGW), and MSVC VS 19.39.33521
To view detailed results, visit:
https://lab.dpdk.org/results/dashboard/tarballs/35416/
UNH-IOL DPDK Community Lab
To manage your email subscriptions, visit: 
https://lab.dpdk.org/results/dashboard/preferences/subscriptions/
^ permalink raw reply	[flat|nested] 25+ messages in thread
* |SUCCESS| [GIT MASTER] 42105ccaeef093ad8c7ce11d1bde3652861b783b
@ 2025-11-01  5:42 dpdklab
  0 siblings, 0 replies; 25+ messages in thread
From: dpdklab @ 2025-11-01  5:42 UTC (permalink / raw)
  To: Test Report
  Cc: dpdk-test-reports, Xueming Li, Christian Ehrhardt, Kevin Traynor,
	Luca Boccassi
_Performance Testing PASS_
Branch: tags/v22.11
42105ccaeef093ad8c7ce11d1bde3652861b783b --> performance testing pass
Upstream job id: Template-DTS-Pipeline#252365
Test environment and result as below:
Ubuntu 22.04
Kernel: 5.15
Compiler: gcc gcc (Ubuntu 11.4.0-1ubuntu1~22.04) 11.4.0
NIC: Broadcom Inc. and subsidiaries BCM57414 NetXtreme-E 10Gb/25Gb RDMA Ethernet Controller 16d7 25 Mbps
Fail/Total: 0/3
Detail performance results: 
+------------+---------+----------+-------------+------------------------------+
| frame_size | txd/rxd | num_cpus | num_threads |  throughput difference from  |
|            |         |          |             |           expected           |
+============+=========+==========+=============+==============================+
| 64         | 128     | 1        | 1           | 0.5%                         |
+------------+---------+----------+-------------+------------------------------+
| 64         | 512     | 1        | 1           | 0.3%                         |
+------------+---------+----------+-------------+------------------------------+
| 64         | 2048    | 1        | 1           | -3.4%                        |
+------------+---------+----------+-------------+------------------------------+
Ubuntu 22.04
Kernel: 5.15
Compiler: gcc gcc (Ubuntu 11.4.0-1ubuntu1~22.04.2) 11.4.0
NIC: Arm Broadcom Inc. brcm_57414 25000 Mbps
Fail/Total: 0/2
Detail performance results: 
+------------+---------+----------+-------------+------------------------------+
| frame_size | txd/rxd | num_cpus | num_threads |  throughput difference from  |
|            |         |          |             |           expected           |
+============+=========+==========+=============+==============================+
| 64         | 512     | 1        | 1           | -0.1%                        |
+------------+---------+----------+-------------+------------------------------+
| 64         | 2048    | 1        | 1           | -0.6%                        |
+------------+---------+----------+-------------+------------------------------+
To view detailed results, visit:
https://lab.dpdk.org/results/dashboard/tarballs/35416/
UNH-IOL DPDK Community Lab
To manage your email subscriptions, visit: 
https://lab.dpdk.org/results/dashboard/preferences/subscriptions/
^ permalink raw reply	[flat|nested] 25+ messages in thread
* |SUCCESS| [GIT MASTER] 42105ccaeef093ad8c7ce11d1bde3652861b783b
@ 2025-11-01  5:24 dpdklab
  0 siblings, 0 replies; 25+ messages in thread
From: dpdklab @ 2025-11-01  5:24 UTC (permalink / raw)
  To: Test Report
  Cc: dpdk-test-reports, Xueming Li, Christian Ehrhardt, Kevin Traynor,
	Luca Boccassi
_Functional Testing PASS_
Branch: tags/v22.11
42105ccaeef093ad8c7ce11d1bde3652861b783b --> functional testing pass
Upstream job id: Template-DTS-Pipeline#252367
Test environment and result as below:
Ubuntu 24.04
Kernel: 6.8
Compiler: gcc gcc (Ubuntu 13.3.0-6ubuntu2~24.04) 13.3.0
NIC: Intel Corporation 4xxx Series QAT 0 Mbps
Aggregate Results by Test Suite
+----------------------------+--------+
|         Test Suite         | Result |
+============================+========+
| crypto_perf_cryptodev_perf |  PASS  |
+----------------------------+--------+
Ubuntu 20.04
Kernel: 5.4
Compiler: gcc gcc (Ubuntu 9.4.0-1ubuntu1~20.04.1) 9.4.0
NIC: Intel Corporation Ethernet Converged Network Adapter XL710-QDA2 40000 Mbps
Aggregate Results by Test Suite
+-----------------------------+--------+
|         Test Suite          | Result |
+=============================+========+
| unit_tests_mbuf             |  PASS  |
+-----------------------------+--------+
| vhost_virtio_user_interrupt |  PASS  |
+-----------------------------+--------+
| virtio_smoke                |  PASS  |
+-----------------------------+--------+
To view detailed results, visit:
https://lab.dpdk.org/results/dashboard/tarballs/35416/
UNH-IOL DPDK Community Lab
To manage your email subscriptions, visit: 
https://lab.dpdk.org/results/dashboard/preferences/subscriptions/
^ permalink raw reply	[flat|nested] 25+ messages in thread
* |SUCCESS| [GIT MASTER] 42105ccaeef093ad8c7ce11d1bde3652861b783b
@ 2025-11-01  4:53 dpdklab
  0 siblings, 0 replies; 25+ messages in thread
From: dpdklab @ 2025-11-01  4:53 UTC (permalink / raw)
  To: Ali Alnubani, Test Report
  Cc: dpdk-test-reports, Xueming Li, Christian Ehrhardt, Kevin Traynor,
	Luca Boccassi
_Performance Testing PASS_
Branch: tags/v22.11
42105ccaeef093ad8c7ce11d1bde3652861b783b --> performance testing pass
Upstream job id: Template-DTS-Pipeline#252361
Test environment and result as below:
Ubuntu 24.04
Kernel: 6.8
Compiler: gcc gcc (Ubuntu 13.3.0-6ubuntu2~24.04) 13.3.0
NIC: NVIDIA Mellanox ConnectX-7 100000 Mbps
Fail/Total: 0/6
Detail performance results: 
+------------+---------+----------+-------------+------------------------------+
| frame_size | txd/rxd | num_cpus | num_threads |  throughput difference from  |
|            |         |          |             |           expected           |
+============+=========+==========+=============+==============================+
| 64         | 1024    | 1        | 1           | 0.0%                         |
+------------+---------+----------+-------------+------------------------------+
| 128        | 1024    | 1        | 1           | -0.6%                        |
+------------+---------+----------+-------------+------------------------------+
| 256        | 1024    | 1        | 1           | -0.4%                        |
+------------+---------+----------+-------------+------------------------------+
| 512        | 1024    | 1        | 1           | -0.1%                        |
+------------+---------+----------+-------------+------------------------------+
| 1024       | 1024    | 1        | 1           | -0.2%                        |
+------------+---------+----------+-------------+------------------------------+
| 1518       | 1024    | 1        | 1           | -0.0%                        |
+------------+---------+----------+-------------+------------------------------+
Ubuntu 24.04
Kernel: 6.8
Compiler: gcc gcc (Ubuntu 13.3.0-6ubuntu2~24.04) 13.3.0
NIC: Mellanox ConnectX-6 Lx 25000 Mbps
Fail/Total: 0/6
Detail performance results: 
+------------+---------+----------+-------------+------------------------------+
| frame_size | txd/rxd | num_cpus | num_threads |  throughput difference from  |
|            |         |          |             |           expected           |
+============+=========+==========+=============+==============================+
| 64         | 1024    | 1        | 1           | -0.0%                        |
+------------+---------+----------+-------------+------------------------------+
| 128        | 1024    | 1        | 1           | -0.0%                        |
+------------+---------+----------+-------------+------------------------------+
| 256        | 1024    | 1        | 1           | -0.2%                        |
+------------+---------+----------+-------------+------------------------------+
| 512        | 1024    | 1        | 1           | 0.1%                         |
+------------+---------+----------+-------------+------------------------------+
| 1024       | 1024    | 1        | 1           | 0.0%                         |
+------------+---------+----------+-------------+------------------------------+
| 1518       | 1024    | 1        | 1           | -0.1%                        |
+------------+---------+----------+-------------+------------------------------+
To view detailed results, visit:
https://lab.dpdk.org/results/dashboard/tarballs/35416/
UNH-IOL DPDK Community Lab
To manage your email subscriptions, visit: 
https://lab.dpdk.org/results/dashboard/preferences/subscriptions/
^ permalink raw reply	[flat|nested] 25+ messages in thread
* |SUCCESS| [GIT MASTER] 42105ccaeef093ad8c7ce11d1bde3652861b783b
@ 2025-11-01  4:37 dpdklab
  0 siblings, 0 replies; 25+ messages in thread
From: dpdklab @ 2025-11-01  4:37 UTC (permalink / raw)
  To: Test Report
  Cc: dpdk-test-reports, Xueming Li, Christian Ehrhardt, Kevin Traynor,
	Luca Boccassi
_Functional Testing PASS_
Branch: tags/v22.11
42105ccaeef093ad8c7ce11d1bde3652861b783b --> functional testing pass
Upstream job id: Template-DTS-Pipeline#252373
Test environment and result as below:
Ubuntu 24.04
Kernel: 6.8
Compiler: gcc gcc (Ubuntu 13.3.0-6ubuntu2~24.04) 13.3.0
NIC: Intel Corporation 4xxx Series QAT 0 Mbps
Aggregate Results by Test Suite
+----------------------------+--------+
|         Test Suite         | Result |
+============================+========+
| crypto_perf_cryptodev_perf |  PASS  |
+----------------------------+--------+
To view detailed results, visit:
https://lab.dpdk.org/results/dashboard/tarballs/35416/
UNH-IOL DPDK Community Lab
To manage your email subscriptions, visit: 
https://lab.dpdk.org/results/dashboard/preferences/subscriptions/
^ permalink raw reply	[flat|nested] 25+ messages in thread
end of thread, other threads:[~2025-11-03 16:29 UTC | newest]
Thread overview: 25+ messages (download: mbox.gz / follow: Atom feed)
-- links below jump to the message on this page --
2025-11-02  5:19 |SUCCESS| [GIT MASTER] 42105ccaeef093ad8c7ce11d1bde3652861b783b dpdklab
  -- strict thread matches above, loose matches on Subject: below --
2025-11-03 16:29 dpdklab
2025-11-03 15:50 dpdklab
2025-11-03 15:50 dpdklab
2025-11-03  9:39 dpdklab
2025-11-03  6:32 dpdklab
2025-11-03  6:28 dpdklab
2025-11-03  6:24 dpdklab
2025-11-03  6:12 dpdklab
2025-11-03  5:32 dpdklab
2025-11-03  5:28 dpdklab
2025-11-03  5:20 dpdklab
2025-11-02  8:03 dpdklab
2025-11-02  6:27 dpdklab
2025-11-02  6:07 dpdklab
2025-11-02  5:24 dpdklab
2025-11-02  5:17 dpdklab
2025-11-02  4:52 dpdklab
2025-11-01 10:02 dpdklab
2025-11-01  6:05 dpdklab
2025-11-01  5:49 dpdklab
2025-11-01  5:42 dpdklab
2025-11-01  5:24 dpdklab
2025-11-01  4:53 dpdklab
2025-11-01  4:37 dpdklab
This is a public inbox, see mirroring instructions
for how to clone and mirror all data and code used for this inbox;
as well as URLs for NNTP newsgroup(s).