From mboxrd@z Thu Jan 1 00:00:00 1970 Return-Path: Received: from mails.dpdk.org (mails.dpdk.org [217.70.189.124]) by inbox.dpdk.org (Postfix) with ESMTP id 16B2248A5F for ; Sun, 2 Nov 2025 06:43:03 +0100 (CET) Received: from mails.dpdk.org (localhost [127.0.0.1]) by mails.dpdk.org (Postfix) with ESMTP id 0EA364021F; Sun, 2 Nov 2025 06:43:03 +0100 (CET) Received: from mail-pf1-f228.google.com (mail-pf1-f228.google.com [209.85.210.228]) by mails.dpdk.org (Postfix) with ESMTP id E7B474021F for ; Sun, 2 Nov 2025 06:43:01 +0100 (CET) Received: by mail-pf1-f228.google.com with SMTP id d2e1a72fcca58-7a23208a0c2so2805515b3a.0 for ; Sat, 01 Nov 2025 22:43:01 -0700 (PDT) DKIM-Signature: v=1; a=rsa-sha256; c=relaxed/relaxed; d=iol.unh.edu; s=unh-iol; t=1762062181; x=1762666981; darn=dpdk.org; h=references:in-reply-to:cc:to:from:subject:message-id:date:from:to :cc:subject:date:message-id:reply-to; bh=e1R0es1ZUtuo7hBL4rUcEZT7mCo5oPdFPXHevtrXPdQ=; b=Lu+jJ94JLrwmKo9RDFsFOxw+qL4rZ8qJhkbnerMXtRScnyXMb4sZaRp/ms35j9OrIT GkQesh2ByKSWa8mJEpyrI3UTrfeKW//KQCzovROD0jXNavQ1UkkGYbT2HwZ078szWD5z e8qBWTkrqw9pArJfYgTP9/FxfmOSO9D0tMFSw= X-Google-DKIM-Signature: v=1; a=rsa-sha256; c=relaxed/relaxed; d=1e100.net; s=20230601; t=1762062181; x=1762666981; h=references:in-reply-to:cc:to:from:subject:message-id:date :x-gm-message-state:from:to:cc:subject:date:message-id:reply-to; bh=e1R0es1ZUtuo7hBL4rUcEZT7mCo5oPdFPXHevtrXPdQ=; b=rXi2F60fb6EguZh++ZGqvd84KB+oXR23oUshIE4em6WqkXsIxGnIdAu8wHQ4mEkel0 Jwc29hIORPby63jVL2BbrGuYjB/bcUq+kAQCQ7tzKxn1vHNsCzLx8QpiVDCCYFG3nHHz lo7te7EjMsPmtbz4tvUwe/OtN8ZncmR4qjdobT935jpZEv1F6lsMLQV+/k5zE5hIrHx7 bDcdghasPYD9CYbMa5Jk/4tyCLMJQNfF0YoCG/hsGtsYBrih9ZJpD2pmiV38YecebwYm sEIQPOm8kOSHCC8ADHf1WMm/3FilXkSQRm0xA1mrPvpD8N4b2MFGTa74kFwOtBDrnl7+ R+8w== X-Gm-Message-State: AOJu0YwbsHRsZQGmG2AXdWPjASYu+Gnq9Kf8+ItI/qX0gcbLa1JwYGf7 arJrFo6ggGLO2w4zWthqlH/VdICPDDSDJ3hXopg85+sabQKjyCg+TVUsn1CoMydLKsjZzy5sAFI xWnU1oH+rM6oo24EsUApB0zmTe/hKiOJqsl4b7yQOuR6Q X-Gm-Gg: ASbGncvXP6nBKyFwVK0Tv4xqJh3pI3/5ALXR1dMc5ixnTkLYJW1lxQ0I5fy0x9Hiari LPSgaDKD2mAFMQVpqCZXZJ1DJXMe+BPSw/Beq+EDxDX6jhTyueC6EbEyJAf1CaPUz8HyGEjfoQN z3YIZSuYG/CvjPdWMtTATGFQbfZCEL/LsMqA3xIGCpRhQjw7JGPzhEoBuaNdeX6NYn05CTFj2lm EL3Y2ZxhKk0EKGRpXxg+bEClx5k4rNgvDIQBxq6JMPEM+XnTmXPll+RkO3qnh+aRemaA/J9U7Fu V74Pzrv4li6YFw5AgID9BI6+U2PhUJhSzVPG2VYaJWx6vEGhhG4XpNMNCmhA+mDX3yu8FtX4ckA 560/BOvuDMFjZTghFGJDrQfkLxTX+9PY= X-Google-Smtp-Source: AGHT+IFSsClweTrrmgjBA9Y+aPVpRTqHQH1WYR0Z/8OFmlJuAADLqimI1+qtvbMlM9krTOohX8nhwiPRkj0+ X-Received: by 2002:a05:6a20:1593:b0:344:97a7:8c5c with SMTP id adf61e73a8af0-348cd21479amr11960412637.48.1762062181083; Sat, 01 Nov 2025 22:43:01 -0700 (PDT) Received: from postal.iol.unh.edu (postal.iol.unh.edu. [132.177.123.84]) by smtp-relay.gmail.com with ESMTPS id 41be03b00d2f7-b93bda5b561sm398629a12.13.2025.11.01.22.43.00 (version=TLS1_2 cipher=ECDHE-ECDSA-AES128-GCM-SHA256 bits=128/128); Sat, 01 Nov 2025 22:43:01 -0700 (PDT) X-Relaying-Domain: iol.unh.edu Date: Sat, 01 Nov 2025 22:43:01 -0700 (PDT) Message-ID: <6906ef65.630a0220.c9fbd.469eSMTPIN_ADDED_MISSING@mx.google.com> Received: from [172.21.0.2] (unknown [172.18.0.240]) by postal.iol.unh.edu (Postfix) with ESMTP id 56FC26051830; Sun, 2 Nov 2025 01:43:00 -0400 (EDT) Subject: |SUCCESS| pw158333 [PATCH] [v3] net/ice: add source prune configurat From: dpdklab@iol.unh.edu To: Test Report Cc: dpdk-test-reports@iol.unh.edu, Bruce Richardson In-Reply-To: <20251102011919.68783-1-anurag.mandal@intel.com> References: <20251102011919.68783-1-anurag.mandal@intel.com> Content-Type: text/plain X-BeenThere: test-report@dpdk.org X-Mailman-Version: 2.1.29 Precedence: list List-Id: automatic DPDK test reports List-Unsubscribe: , List-Archive: List-Post: List-Help: List-Subscribe: , Errors-To: test-report-bounces@dpdk.org Test-Label: iol-compile-arm64-testing Test-Status: SUCCESS http://dpdk.org/patch/158333 _Testing PASS_ Submitter: Anurag Mandal Date: Sunday, November 02 2025 01:19:19 DPDK git baseline: Repo:dpdk-next-net-intel Branch: master CommitID:40de0ba36a04ef80e8a2ac90c240183fc2c6d1b4 158333 --> testing pass Upstream job id: Generic-DPDK-Compile-Meson#439940 Test environment and result as below: +------------------------------+--------------------+ | Environment | dpdk_meson_compile | +==============================+====================+ | Red Hat Enterprise Linux 9.5 | PASS | +------------------------------+--------------------+ | Ubuntu 20.04 | PASS | +------------------------------+--------------------+ | Debian GNU/Linux 12 | PASS | +------------------------------+--------------------+ | CentOS Stream 9 | PASS | +------------------------------+--------------------+ | Fedora Linux 42 | PASS | +------------------------------+--------------------+ | Ubuntu 22.04 | PASS | +------------------------------+--------------------+ | Ubuntu 24.04 | PASS | +------------------------------+--------------------+ | CentOS Stream 10 | PASS | +------------------------------+--------------------+ Red Hat Enterprise Linux 9.5 Kernel: 5.4 Compiler: gcc gcc (GCC) 11.5.0 20240719 (Red Hat 11.5.0-2) Ubuntu 20.04 Kernel: 5.15 Compiler: gcc gcc (Ubuntu 9.4.0-1ubuntu1~20.04.2) 9.4.0 Debian GNU/Linux 12 Kernel: 5.4 Compiler: gcc gcc (Debian 12.2.0-14+deb12u1) 12.2.0 CentOS Stream 9 Kernel: 5.4 Compiler: gcc gcc (GCC) 11.5.0 20240719 (Red Hat 11.5.0-11) Fedora Linux 42 Kernel: 5.4 Compiler: clang gcc (GCC) 15.2.1 20250808 (Red Hat 15.2.1-1) Ubuntu 22.04 Kernel: 5.4 Compiler: gcc gcc (Ubuntu 11.4.0-1ubuntu1~22.04) 11.4.0 Ubuntu 24.04 Kernel: 5.4 Compiler: gcc gcc (Ubuntu 13.3.0-6ubuntu2~24.04) 13.3.0 CentOS Stream 10 Kernel: 5.4 Compiler: gcc gcc (GCC) 14.2.1 20250110 (Red Hat 14.2.1-8) To view detailed results, visit: https://lab.dpdk.org/results/dashboard/patchsets/34440/ UNH-IOL DPDK Community Lab To manage your email subscriptions, visit: https://lab.dpdk.org/results/dashboard/preferences/subscriptions/