From mboxrd@z Thu Jan 1 00:00:00 1970 Return-Path: Received: from mails.dpdk.org (mails.dpdk.org [217.70.189.124]) by inbox.dpdk.org (Postfix) with ESMTP id CFEFF48A61 for ; Sun, 2 Nov 2025 09:03:26 +0100 (CET) Received: from mails.dpdk.org (localhost [127.0.0.1]) by mails.dpdk.org (Postfix) with ESMTP id 8A06E4021F; Sun, 2 Nov 2025 09:03:26 +0100 (CET) Received: from mail-pl1-f225.google.com (mail-pl1-f225.google.com [209.85.214.225]) by mails.dpdk.org (Postfix) with ESMTP id B97464021F for ; Sun, 2 Nov 2025 09:03:24 +0100 (CET) Received: by mail-pl1-f225.google.com with SMTP id d9443c01a7336-29470bc80ceso38360215ad.1 for ; Sun, 02 Nov 2025 01:03:24 -0700 (PDT) DKIM-Signature: v=1; a=rsa-sha256; c=relaxed/relaxed; d=iol.unh.edu; s=unh-iol; t=1762070604; x=1762675404; darn=dpdk.org; h=cc:to:from:subject:message-id:date:from:to:cc:subject:date :message-id:reply-to; bh=lvZ0zBelbO+8sxqXSuoUnVFYQq/vXj51yjzq3V59hr0=; b=V9CrNaiuJBf0FSl4JITVGTzeiG4jA7vQcgA76T8GUY7g94tLxI4Gsh4JhBtAHwa+WQ Ox3nL9AbpyzmSO6aMcpY3U5JKE04eqmm2lRtSpvFixHWWtg0TY4+bJQX/VfyrMcGVFDN Yadzq95gee4jQf6MrwkA4IOzbiwj6ZXIm7bFw= X-Google-DKIM-Signature: v=1; a=rsa-sha256; c=relaxed/relaxed; d=1e100.net; s=20230601; t=1762070604; x=1762675404; h=cc:to:from:subject:message-id:date:x-gm-message-state:from:to:cc :subject:date:message-id:reply-to; bh=lvZ0zBelbO+8sxqXSuoUnVFYQq/vXj51yjzq3V59hr0=; b=bv+6sfc7mMhX0R6W5oGuU+MFzl4a5hNwnbQzYGXlbrFQmGH5BP7eXNjnMf+ng+b0Fk +aPJbIDOK4m9MSAe3dtjus6bzcDQlELOhK4GCaaT0n4RbRDX/LZxV4bUt/Eu3wbwfOFN lQKOzdznP9elHf+6uhwtzcnuBrpy12InovXPO0owwuiSoXqQdMSw56dxLSYf8cgH7qVd VbaAjy2+gylDdGE6xFHH7Zp9TZ+yWcOihgjiXaexROF+JIEpu53w2+Bn8GD+zwcXGMfr Jsnhm2HwtbCQaL7xUWmNnU4Pq4G3FTYx39lh3cPukjrxVbWJVu9oDSQsjl4w7vjiSly5 azAw== X-Gm-Message-State: AOJu0Yx+ZOSmhfFitKK6j8d/liWJK1BoC2N+B5W/UXcq4UFUfRcxfn79 65eMBmGNkRQ3o2+rQhXrg4mOqVYULn8hti7Yki9lSIlq2fh35ewrPeWN5Fir9b0Ljga/kPaRysy /iRj8QoqBWafFtKf8sholHRio3igx1XlQduyz X-Gm-Gg: ASbGncuYlw9OxMY27001xV4uYfsMyEvFghNgTVmw4P9CS2juaiCAEOxrknV+aZN10Zp ddFHgvg7ZTQbX+5HF0oWgD38YlW+mQFCPvVJu1tgi+kbvg+LywDrxqUJK6h70iG0T4LN4d8YNkc +Om19E3giBpmFCHzzMf/Y97olenIJvnLxxDOs0fW7JyN9Worx2p0j9ZB80JyAuyt+urpRK9sAbj d9IabJGJL4GweXnuNOigBFl/XAbtfWl2Ot8mdPy0zCoOLR1I6SGr/a1yAGk/NNbe7rGiXLtoC+K OsRmoaWGpiERjdd8mb598doSoH14wLy2SFh92/iXMBmrVnJToF8rtv+aFoNiIJ8gpqN2y12D858 DvrnP76jQLstYTwvrClzTvybX0R6kvls= X-Google-Smtp-Source: AGHT+IH7TQmVsEXPwNUK85Mrg3vWdI2mOcIKWr+s+lVP3wSIobL5zlS7hxKPrIM9XSRizQt5TOjQEc7X6qR7 X-Received: by 2002:a17:902:d4ce:b0:295:6b98:6d65 with SMTP id d9443c01a7336-2956b986f84mr37811385ad.22.1762070603750; Sun, 02 Nov 2025 01:03:23 -0700 (PDT) Received: from postal.iol.unh.edu (postal.iol.unh.edu. [132.177.123.84]) by smtp-relay.gmail.com with ESMTPS id d9443c01a7336-295268b5f90sm6411815ad.26.2025.11.02.01.03.23 (version=TLS1_2 cipher=ECDHE-ECDSA-AES128-GCM-SHA256 bits=128/128); Sun, 02 Nov 2025 01:03:23 -0700 (PDT) X-Relaying-Domain: iol.unh.edu Date: Sun, 02 Nov 2025 01:03:23 -0700 (PDT) Message-ID: <6907104b.170a0220.19272b.1e2fSMTPIN_ADDED_MISSING@mx.google.com> Received: from [172.21.0.2] (unknown [172.18.0.240]) by postal.iol.unh.edu (Postfix) with ESMTP id F1CF16050A61; Sun, 2 Nov 2025 03:03:22 -0500 (EST) Subject: |SUCCESS| [GIT MASTER] 42105ccaeef093ad8c7ce11d1bde3652861b783b From: dpdklab@iol.unh.edu To: Test Report Cc: dpdk-test-reports@iol.unh.edu, Xueming Li , Christian Ehrhardt , Kevin Traynor , Luca Boccassi Content-Type: text/plain X-BeenThere: test-report@dpdk.org X-Mailman-Version: 2.1.29 Precedence: list List-Id: automatic DPDK test reports List-Unsubscribe: , List-Archive: List-Post: List-Help: List-Subscribe: , Errors-To: test-report-bounces@dpdk.org _Testing PASS_ Branch: tags/v22.11 42105ccaeef093ad8c7ce11d1bde3652861b783b --> testing pass Upstream job id: Generic-DPDK-Compile-Meson#439965 Test environment and result as below: +------------------------------+--------------------+ | Environment | dpdk_meson_compile | +==============================+====================+ | Ubuntu 20.04 | PASS | +------------------------------+--------------------+ | Debian GNU/Linux 12 | PASS | +------------------------------+--------------------+ | Red Hat Enterprise Linux 9.5 | PASS | +------------------------------+--------------------+ | CentOS Stream 10 | PASS | +------------------------------+--------------------+ | Ubuntu 22.04 | PASS | +------------------------------+--------------------+ | CentOS Stream 9 | PASS | +------------------------------+--------------------+ | Fedora Linux 42 | PASS | +------------------------------+--------------------+ | Ubuntu 24.04 | PASS | +------------------------------+--------------------+ Ubuntu 20.04 Kernel: 5.4 Compiler: gcc gcc (Ubuntu 9.4.0-1ubuntu1~20.04.2) 9.4.0 Debian GNU/Linux 12 Kernel: 5.4 Compiler: gcc gcc (Debian 12.2.0-14+deb12u1) 12.2.0 Red Hat Enterprise Linux 9.5 Kernel: 5.4 Compiler: gcc gcc (GCC) 11.5.0 20240719 (Red Hat 11.5.0-2) CentOS Stream 10 Kernel: 5.4 Compiler: gcc gcc (GCC) 14.2.1 20250110 (Red Hat 14.2.1-8) Ubuntu 22.04 Kernel: 5.4 Compiler: gcc gcc (Ubuntu 11.4.0-1ubuntu1~22.04) 11.4.0 CentOS Stream 9 Kernel: 5.4 Compiler: gcc gcc (GCC) 11.5.0 20240719 (Red Hat 11.5.0-11) Fedora Linux 42 Kernel: 5.4 Compiler: gcc gcc (GCC) 15.2.1 20250808 (Red Hat 15.2.1-1) Ubuntu 24.04 Kernel: 5.4 Compiler: gcc gcc (Ubuntu 13.3.0-6ubuntu2~24.04) 13.3.0 To view detailed results, visit: https://lab.dpdk.org/results/dashboard/tarballs/35424/ UNH-IOL DPDK Community Lab To manage your email subscriptions, visit: https://lab.dpdk.org/results/dashboard/preferences/subscriptions/